BEGIN:VCALENDAR
VERSION:1.0
BEGIN:VEVENT
DTSTART:20160917T000000
DTEND:20160917T000000
SUMMARY:Saint Joseph CT vs. Simmons
DESCRIPTION:2016 Women's Tennis - Great Northeast Athletic Conference
LOCATION:W. Hartford, CT
CATEGORIES:QuickScores; Tennis Game
TRANSP:0
DALARM:20160917T000000;PT10M;2;Saint Joseph CT vs. Simmons
END:VEVENT
BEGIN:VEVENT
DTSTART:20160924T000000
DTEND:20160924T000000
SUMMARY:Saint Joseph CT vs. Johnson & Wales
DESCRIPTION:2016 USJ Homecoming --- 2016 Women's Tennis - Great Northeast Athletic Conference
LOCATION:W. Hartford, CT
CATEGORIES:QuickScores; Tennis Game
TRANSP:0
DALARM:20160924T000000;PT10M;2;Saint Joseph CT vs. Johnson & Wales
END:VEVENT
BEGIN:VEVENT
DTSTART:20161001T000000
DTEND:20161001T000000
SUMMARY:Anna Maria vs. Saint Joseph CT
DESCRIPTION:2016 Women's Tennis - Great Northeast Athletic Conference
LOCATION:Paxton MA
CATEGORIES:QuickScores; Tennis Game
TRANSP:0
DALARM:20161001T000000;PT10M;2;Anna Maria vs. Saint Joseph CT
END:VEVENT
BEGIN:VEVENT
DTSTART:20161008T000000
DTEND:20161008T000000
SUMMARY:Saint Joseph CT vs. Mount Ida
DESCRIPTION:2016 USJ Parents Weekend --- 2016 Women's Tennis - Great Northeast Athletic Conference
LOCATION:W. Hartford, CT
CATEGORIES:QuickScores; Tennis Game
TRANSP:0
DALARM:20161008T000000;PT10M;2;Saint Joseph CT vs. Mount Ida
END:VEVENT
BEGIN:VEVENT
DTSTART:20161010T000000
DTEND:20161010T000000
SUMMARY:Suffolk vs. Saint Joseph CT
DESCRIPTION:2016 Women's Tennis - Great Northeast Athletic Conference
LOCATION:Suffolk
CATEGORIES:QuickScores; Tennis Game
TRANSP:0
DALARM:20161010T000000;PT10M;2;Suffolk vs. Saint Joseph CT
END:VEVENT
BEGIN:VEVENT
DTSTART:20161015T000000
DTEND:20161015T000000
SUMMARY:Albertus Magnus vs. Saint Joseph CT
DESCRIPTION:2016 Women's Tennis - Great Northeast Athletic Conference
LOCATION:New Haven, CT
CATEGORIES:QuickScores; Tennis Game
TRANSP:0
DALARM:20161015T000000;PT10M;2;Albertus Magnus vs. Saint Joseph CT
END:VEVENT
END:VCALENDAR
