BEGIN:VCALENDAR
VERSION:1.0
BEGIN:VEVENT
DTSTART:20160917T000000
DTEND:20160917T000000
SUMMARY:Mount Ida vs. Johnson & Wales
DESCRIPTION:2016 Women's Tennis - Great Northeast Athletic Conference
LOCATION:Mount Ida
CATEGORIES:QuickScores; Tennis Game
TRANSP:0
DALARM:20160917T000000;PT10M;2;Mount Ida vs. Johnson & Wales
END:VEVENT
BEGIN:VEVENT
DTSTART:20160924T000000
DTEND:20160924T000000
SUMMARY:Saint Joseph CT vs. Johnson & Wales
DESCRIPTION:2016 USJ Homecoming --- 2016 Women's Tennis - Great Northeast Athletic Conference
LOCATION:W. Hartford, CT
CATEGORIES:QuickScores; Tennis Game
TRANSP:0
DALARM:20160924T000000;PT10M;2;Saint Joseph CT vs. Johnson & Wales
END:VEVENT
BEGIN:VEVENT
DTSTART:20161005T000000
DTEND:20161005T000000
SUMMARY:Johnson & Wales vs. Simmons
DESCRIPTION:2016 Women's Tennis - Great Northeast Athletic Conference
LOCATION:Providence, RI
CATEGORIES:QuickScores; Tennis Game
TRANSP:0
DALARM:20161005T000000;PT10M;2;Johnson & Wales vs. Simmons
END:VEVENT
BEGIN:VEVENT
DTSTART:20161008T000000
DTEND:20161008T000000
SUMMARY:Suffolk vs. Johnson & Wales
DESCRIPTION:2016 Women's Tennis - Great Northeast Athletic Conference
LOCATION:Suffolk
CATEGORIES:QuickScores; Tennis Game
TRANSP:0
DALARM:20161008T000000;PT10M;2;Suffolk vs. Johnson & Wales
END:VEVENT
BEGIN:VEVENT
DTSTART:20161010T000000
DTEND:20161010T000000
SUMMARY:Johnson & Wales vs. Albertus Magnus
DESCRIPTION:2016 Women's Tennis - Great Northeast Athletic Conference
LOCATION:Providence, RI
CATEGORIES:QuickScores; Tennis Game
TRANSP:0
DALARM:20161010T000000;PT10M;2;Johnson & Wales vs. Albertus Magnus
END:VEVENT
BEGIN:VEVENT
DTSTART:20161015T000000
DTEND:20161015T000000
SUMMARY:Johnson & Wales vs. Anna Maria
DESCRIPTION:2016 Women's Tennis - Great Northeast Athletic Conference
LOCATION:Providence, RI
CATEGORIES:QuickScores; Tennis Game
TRANSP:0
DALARM:20161015T000000;PT10M;2;Johnson & Wales vs. Anna Maria
END:VEVENT
END:VCALENDAR
