BEGIN:VCALENDAR
VERSION:1.0
BEGIN:VEVENT
DTSTART:20160910T000000
DTEND:20160910T000000
SUMMARY:Johnson & Wales vs. Rivier
DESCRIPTION:2016 Men's Soccer - Great Northeast Athletic Conference
LOCATION:Scotts Miracle Gro Athletic Complex
CATEGORIES:QuickScores; Soccer Game
TRANSP:0
DALARM:20160910T000000;PT10M;2;Johnson & Wales vs. Rivier
END:VEVENT
BEGIN:VEVENT
DTSTART:20160917T000000
DTEND:20160917T000000
SUMMARY:Norwich vs. Johnson & Wales
DESCRIPTION:2016 DH. JWU MS&WS can share a bus --- 2016 Men's Soccer - Great Northeast Athletic Conference
LOCATION:Northfield, VT
CATEGORIES:QuickScores; Soccer Game
TRANSP:0
DALARM:20160917T000000;PT10M;2;Norwich vs. Johnson & Wales
END:VEVENT
BEGIN:VEVENT
DTSTART:20160924T000000
DTEND:20160924T000000
SUMMARY:Suffolk vs. Johnson & Wales
DESCRIPTION:2016 Men's Soccer - Great Northeast Athletic Conference
LOCATION:East Boston Memorial Field
CATEGORIES:QuickScores; Soccer Game
TRANSP:0
DALARM:20160924T000000;PT10M;2;Suffolk vs. Johnson & Wales
END:VEVENT
BEGIN:VEVENT
DTSTART:20161001T000000
DTEND:20161001T000000
SUMMARY:Saint Joseph ME vs. Johnson & Wales
DESCRIPTION:2016 Men's Soccer - Great Northeast Athletic Conference
LOCATION:Standish ME
CATEGORIES:QuickScores; Soccer Game
TRANSP:0
DALARM:20161001T000000;PT10M;2;Saint Joseph ME vs. Johnson & Wales
END:VEVENT
BEGIN:VEVENT
DTSTART:20161008T000000
DTEND:20161008T000000
SUMMARY:Johnson & Wales vs. Mount Ida
DESCRIPTION:2016 DH. IDA can bus w WS --- 2016 Men's Soccer - Great Northeast Athletic Conference
LOCATION:Scotts Miracle Gro Athletic Complex
CATEGORIES:QuickScores; Soccer Game
TRANSP:0
DALARM:20161008T000000;PT10M;2;Johnson & Wales vs. Mount Ida
END:VEVENT
BEGIN:VEVENT
DTSTART:20161010T000000
DTEND:20161010T000000
SUMMARY:Lasell vs. Johnson & Wales
DESCRIPTION:2016 Men's Soccer - Great Northeast Athletic Conference
LOCATION:Taylor Field at Lasell College
CATEGORIES:QuickScores; Soccer Game
TRANSP:0
DALARM:20161010T000000;PT10M;2;Lasell vs. Johnson & Wales
END:VEVENT
BEGIN:VEVENT
DTSTART:20161015T000000
DTEND:20161015T000000
SUMMARY:Johnson & Wales vs. Albertus Magnus
DESCRIPTION:2016 DH. Albertus MS&WS can share a bus. --- 2016 Men's Soccer - Great Northeast Athletic Conference
LOCATION:Scotts Miracle Gro Athletic Complex
CATEGORIES:QuickScores; Soccer Game
TRANSP:0
DALARM:20161015T000000;PT10M;2;Johnson & Wales vs. Albertus Magnus
END:VEVENT
BEGIN:VEVENT
DTSTART:20161019T000000
DTEND:20161019T000000
SUMMARY:Johnson & Wales vs. Emmanuel
DESCRIPTION:2016 Men's Soccer - Great Northeast Athletic Conference
LOCATION:Scotts Miracle Gro Athletic Complex
CATEGORIES:QuickScores; Soccer Game
TRANSP:0
DALARM:20161019T000000;PT10M;2;Johnson & Wales vs. Emmanuel
END:VEVENT
BEGIN:VEVENT
DTSTART:20161022T000000
DTEND:20161022T000000
SUMMARY:Anna Maria vs. Johnson & Wales
DESCRIPTION:2016 DH w WS --- 2016 Men's Soccer - Great Northeast Athletic Conference
LOCATION:Paxton MA
CATEGORIES:QuickScores; Soccer Game
TRANSP:0
DALARM:20161022T000000;PT10M;2;Anna Maria vs. Johnson & Wales
END:VEVENT
END:VCALENDAR
