BEGIN:VCALENDAR
VERSION:1.0
BEGIN:VEVENT
DTSTART:20160910T000000
DTEND:20160910T000000
SUMMARY:Emmanuel vs. Norwich
DESCRIPTION:2016 DH. NOR can share a bus w WS --- 2016 Men's Soccer - Great Northeast Athletic Conference
LOCATION:Roberto Clemente Field
CATEGORIES:QuickScores; Soccer Game
TRANSP:0
DALARM:20160910T000000;PT10M;2;Emmanuel vs. Norwich
END:VEVENT
BEGIN:VEVENT
DTSTART:20160924T000000
DTEND:20160924T000000
SUMMARY:Saint Joseph ME vs. Emmanuel
DESCRIPTION:2016 Men's Soccer - Great Northeast Athletic Conference
LOCATION:Standish ME
CATEGORIES:QuickScores; Soccer Game
TRANSP:0
DALARM:20160924T000000;PT10M;2;Saint Joseph ME vs. Emmanuel
END:VEVENT
BEGIN:VEVENT
DTSTART:20161001T000000
DTEND:20161001T000000
SUMMARY:Albertus Magnus vs. Emmanuel
DESCRIPTION:2016 EMM can share a bus with WS --- 2016 Men's Soccer - Great Northeast Athletic Conference
LOCATION:New Haven, CT
CATEGORIES:QuickScores; Soccer Game
TRANSP:0
DALARM:20161001T000000;PT10M;2;Albertus Magnus vs. Emmanuel
END:VEVENT
BEGIN:VEVENT
DTSTART:20161005T000000
DTEND:20161005T000000
SUMMARY:Emmanuel vs. Lasell
DESCRIPTION:2016 Men's Soccer - Great Northeast Athletic Conference
LOCATION:Roberto Clemente Field
CATEGORIES:QuickScores; Soccer Game
TRANSP:0
DALARM:20161005T000000;PT10M;2;Emmanuel vs. Lasell
END:VEVENT
BEGIN:VEVENT
DTSTART:20161008T000000
DTEND:20161008T000000
SUMMARY:Emmanuel vs. Anna Maria
DESCRIPTION:2016 DH Anna Maria can share a bus w WS. 2016 Maria has home football --- 2016 Men's Soccer - Great Northeast Athletic Conference
LOCATION:Roberto Clemente Field
CATEGORIES:QuickScores; Soccer Game
TRANSP:0
DALARM:20161008T000000;PT10M;2;Emmanuel vs. Anna Maria
END:VEVENT
BEGIN:VEVENT
DTSTART:20161010T000000
DTEND:20161010T000000
SUMMARY:Suffolk vs. Emmanuel
DESCRIPTION:2016 Men's Soccer - Great Northeast Athletic Conference
LOCATION:Suffolk
CATEGORIES:QuickScores; Soccer Game
TRANSP:0
DALARM:20161010T000000;PT10M;2;Suffolk vs. Emmanuel
END:VEVENT
BEGIN:VEVENT
DTSTART:20161015T000000
DTEND:20161015T000000
SUMMARY:Emmanuel vs. Rivier
DESCRIPTION:2016 Men's Soccer - Great Northeast Athletic Conference
LOCATION:Roberto Clemente Field
CATEGORIES:QuickScores; Soccer Game
TRANSP:0
DALARM:20161015T000000;PT10M;2;Emmanuel vs. Rivier
END:VEVENT
BEGIN:VEVENT
DTSTART:20161019T000000
DTEND:20161019T000000
SUMMARY:Johnson & Wales vs. Emmanuel
DESCRIPTION:2016 Men's Soccer - Great Northeast Athletic Conference
LOCATION:Scotts Miracle Gro Athletic Complex
CATEGORIES:QuickScores; Soccer Game
TRANSP:0
DALARM:20161019T000000;PT10M;2;Johnson & Wales vs. Emmanuel
END:VEVENT
BEGIN:VEVENT
DTSTART:20161022T000000
DTEND:20161022T000000
SUMMARY:Mount Ida vs. Emmanuel
DESCRIPTION:2016 Men's Soccer - Great Northeast Athletic Conference
LOCATION:Mount Ida
CATEGORIES:QuickScores; Soccer Game
TRANSP:0
DALARM:20161022T000000;PT10M;2;Mount Ida vs. Emmanuel
END:VEVENT
END:VCALENDAR
