BEGIN:VCALENDAR
VERSION:1.0
BEGIN:VEVENT
DTSTART:20160402T000000
DTEND:20160402T000000
SUMMARY:Albertus Magnus vs. Norwich
DESCRIPTION:2016 Men's Lacrosse - Great Northeast Athletic Conference
LOCATION:New Haven, CT
CATEGORIES:QuickScores; Lacrosse Game
TRANSP:0
DALARM:20160402T000000;PT10M;2;Albertus Magnus vs. Norwich
END:VEVENT
BEGIN:VEVENT
DTSTART:20160406T000000
DTEND:20160406T000000
SUMMARY:Norwich vs. Anna Maria
DESCRIPTION:2016 Men's Lacrosse - Great Northeast Athletic Conference
LOCATION:Northfield, VT
CATEGORIES:QuickScores; Lacrosse Game
TRANSP:0
DALARM:20160406T000000;PT10M;2;Norwich vs. Anna Maria
END:VEVENT
BEGIN:VEVENT
DTSTART:20160409T000000
DTEND:20160409T000000
SUMMARY:Emmanuel vs. Norwich
DESCRIPTION:2016 NOR can share a bus w WLAX --- 2016 Men's Lacrosse - Great Northeast Athletic Conference
LOCATION:Roberto Clemente Field
CATEGORIES:QuickScores; Lacrosse Game
TRANSP:0
DALARM:20160409T000000;PT10M;2;Emmanuel vs. Norwich
END:VEVENT
BEGIN:VEVENT
DTSTART:20160416T000000
DTEND:20160416T000000
SUMMARY:Norwich vs. Saint Joseph's ME
DESCRIPTION:2016 NOR JR Ring Day --- 2016 Men's Lacrosse - Great Northeast Athletic Conference
LOCATION:Northfield, VT
CATEGORIES:QuickScores; Lacrosse Game
TRANSP:0
DALARM:20160416T000000;PT10M;2;Norwich vs. Saint Joseph's ME
END:VEVENT
BEGIN:VEVENT
DTSTART:20160420T000000
DTEND:20160420T000000
SUMMARY:Norwich vs. Mount Ida
DESCRIPTION:2016 Men's Lacrosse - Great Northeast Athletic Conference
LOCATION:Northfield, VT
CATEGORIES:QuickScores; Lacrosse Game
TRANSP:0
DALARM:20160420T000000;PT10M;2;Norwich vs. Mount Ida
END:VEVENT
BEGIN:VEVENT
DTSTART:20160423T000000
DTEND:20160423T000000
SUMMARY:Norwich vs. Johnson & Wales
DESCRIPTION:2016 Men's Lacrosse - Great Northeast Athletic Conference
LOCATION:Northfield, VT
CATEGORIES:QuickScores; Lacrosse Game
TRANSP:0
DALARM:20160423T000000;PT10M;2;Norwich vs. Johnson & Wales
END:VEVENT
BEGIN:VEVENT
DTSTART:20160427T000000
DTEND:20160427T000000
SUMMARY:Lasell vs. Norwich
DESCRIPTION:2016 Men's Lacrosse - Great Northeast Athletic Conference
LOCATION:Lasell Newton
CATEGORIES:QuickScores; Lacrosse Game
TRANSP:0
DALARM:20160427T000000;PT10M;2;Lasell vs. Norwich
END:VEVENT
BEGIN:VEVENT
DTSTART:20160430T000000
DTEND:20160430T000000
SUMMARY:Rivier vs. Norwich
DESCRIPTION:2016 Men's Lacrosse - Great Northeast Athletic Conference
LOCATION:Nashua, NH
CATEGORIES:QuickScores; Lacrosse Game
TRANSP:0
DALARM:20160430T000000;PT10M;2;Rivier vs. Norwich
END:VEVENT
END:VCALENDAR
