BEGIN:VCALENDAR
VERSION:1.0
BEGIN:VEVENT
DTSTART:20160402T000000
DTEND:20160402T000000
SUMMARY:Emmanuel vs. Mount Ida
DESCRIPTION:2016 Men's Lacrosse - Great Northeast Athletic Conference
LOCATION:Roberto Clemente Field
CATEGORIES:QuickScores; Lacrosse Game
TRANSP:0
DALARM:20160402T000000;PT10M;2;Emmanuel vs. Mount Ida
END:VEVENT
BEGIN:VEVENT
DTSTART:20160406T000000
DTEND:20160406T000000
SUMMARY:Lasell vs. Emmanuel
DESCRIPTION:2016 Men's Lacrosse - Great Northeast Athletic Conference
LOCATION:Lasell Newton
CATEGORIES:QuickScores; Lacrosse Game
TRANSP:0
DALARM:20160406T000000;PT10M;2;Lasell vs. Emmanuel
END:VEVENT
BEGIN:VEVENT
DTSTART:20160409T000000
DTEND:20160409T000000
SUMMARY:Emmanuel vs. Norwich
DESCRIPTION:2016 NOR can share a bus w WLAX --- 2016 Men's Lacrosse - Great Northeast Athletic Conference
LOCATION:Roberto Clemente Field
CATEGORIES:QuickScores; Lacrosse Game
TRANSP:0
DALARM:20160409T000000;PT10M;2;Emmanuel vs. Norwich
END:VEVENT
BEGIN:VEVENT
DTSTART:20160413T000000
DTEND:20160413T000000
SUMMARY:Rivier vs. Emmanuel
DESCRIPTION:2016 Men's Lacrosse - Great Northeast Athletic Conference
LOCATION:Nashua, NH
CATEGORIES:QuickScores; Lacrosse Game
TRANSP:0
DALARM:20160413T000000;PT10M;2;Rivier vs. Emmanuel
END:VEVENT
BEGIN:VEVENT
DTSTART:20160416T000000
DTEND:20160416T000000
SUMMARY:Johnson & Wales vs. Emmanuel
DESCRIPTION:2016 EMM has home softball --- 2016 Men's Lacrosse - Great Northeast Athletic Conference
LOCATION:Scotts Miracle Gro Athletic Complex
CATEGORIES:QuickScores; Lacrosse Game
TRANSP:0
DALARM:20160416T000000;PT10M;2;Johnson & Wales vs. Emmanuel
END:VEVENT
BEGIN:VEVENT
DTSTART:20160420T000000
DTEND:20160420T000000
SUMMARY:Emmanuel vs. Anna Maria
DESCRIPTION:2016 Men's Lacrosse - Great Northeast Athletic Conference
LOCATION:Roberto Clemente Field
CATEGORIES:QuickScores; Lacrosse Game
TRANSP:0
DALARM:20160420T000000;PT10M;2;Emmanuel vs. Anna Maria
END:VEVENT
BEGIN:VEVENT
DTSTART:20160427T000000
DTEND:20160427T000000
SUMMARY:Saint Joseph's ME vs. Emmanuel
DESCRIPTION:2016 Men's Lacrosse - Great Northeast Athletic Conference
LOCATION:Standish ME
CATEGORIES:QuickScores; Lacrosse Game
TRANSP:0
DALARM:20160427T000000;PT10M;2;Saint Joseph's ME vs. Emmanuel
END:VEVENT
BEGIN:VEVENT
DTSTART:20160430T000000
DTEND:20160430T000000
SUMMARY:Emmanuel vs. Albertus Magnus
DESCRIPTION:Albertus could share a bus with baseball going to LAS --- 2016 Men's Lacrosse - Great Northeast Athletic Conference
LOCATION:Roberto Clemente Field
CATEGORIES:QuickScores; Lacrosse Game
TRANSP:0
DALARM:20160430T000000;PT10M;2;Emmanuel vs. Albertus Magnus
END:VEVENT
END:VCALENDAR
