BEGIN:VCALENDAR
VERSION:1.0
BEGIN:VEVENT
DTSTART:20060325T000000
DTEND:20060325T000000
SUMMARY:Daniel Webster vs. Saint Joseph
DESCRIPTION:GNAC Softball - Great Northeast Athletic Conference
LOCATION:Nashua, NH
CATEGORIES:QuickScores; Softball Game
TRANSP:0
DALARM:20060325T000000;PT10M;2;Daniel Webster vs. Saint Joseph
END:VEVENT
BEGIN:VEVENT
DTSTART:20060325T000000
DTEND:20060325T000000
SUMMARY:Daniel Webster vs. Saint Joseph
DESCRIPTION:GNAC Softball - Great Northeast Athletic Conference
LOCATION:Nashua, NH
CATEGORIES:QuickScores; Softball Game
TRANSP:0
DALARM:20060325T000000;PT10M;2;Daniel Webster vs. Saint Joseph
END:VEVENT
BEGIN:VEVENT
DTSTART:20060326T000000
DTEND:20060326T000000
SUMMARY:Suffolk vs. Saint Joseph
DESCRIPTION:GNAC Softball - Great Northeast Athletic Conference
LOCATION:Boston, MA
CATEGORIES:QuickScores; Softball Game
TRANSP:0
DALARM:20060326T000000;PT10M;2;Suffolk vs. Saint Joseph
END:VEVENT
BEGIN:VEVENT
DTSTART:20060326T000000
DTEND:20060326T000000
SUMMARY:Suffolk vs. Saint Joseph
DESCRIPTION:GNAC Softball - Great Northeast Athletic Conference
LOCATION:Boston, MA
CATEGORIES:QuickScores; Softball Game
TRANSP:0
DALARM:20060326T000000;PT10M;2;Suffolk vs. Saint Joseph
END:VEVENT
BEGIN:VEVENT
DTSTART:20060331T000000
DTEND:20060331T000000
SUMMARY:Saint Joseph vs. Johnson & Wales
DESCRIPTION:GNAC Softball - Great Northeast Athletic Conference
LOCATION:W. Hartford, CT
CATEGORIES:QuickScores; Softball Game
TRANSP:0
DALARM:20060331T000000;PT10M;2;Saint Joseph vs. Johnson & Wales
END:VEVENT
BEGIN:VEVENT
DTSTART:20060331T000000
DTEND:20060331T000000
SUMMARY:Saint Joseph vs. Johnson & Wales
DESCRIPTION:GNAC Softball - Great Northeast Athletic Conference
LOCATION:W. Hartford, CT
CATEGORIES:QuickScores; Softball Game
TRANSP:0
DALARM:20060331T000000;PT10M;2;Saint Joseph vs. Johnson & Wales
END:VEVENT
BEGIN:VEVENT
DTSTART:20060401T000000
DTEND:20060401T000000
SUMMARY:Saint Joseph vs. Emerson
DESCRIPTION:GNAC Softball - Great Northeast Athletic Conference
LOCATION:W. Hartford, CT
CATEGORIES:QuickScores; Softball Game
TRANSP:0
DALARM:20060401T000000;PT10M;2;Saint Joseph vs. Emerson
END:VEVENT
BEGIN:VEVENT
DTSTART:20060401T000000
DTEND:20060401T000000
SUMMARY:Saint Joseph vs. Emerson
DESCRIPTION:GNAC Softball - Great Northeast Athletic Conference
LOCATION:W. Hartford, CT
CATEGORIES:QuickScores; Softball Game
TRANSP:0
DALARM:20060401T000000;PT10M;2;Saint Joseph vs. Emerson
END:VEVENT
BEGIN:VEVENT
DTSTART:20060402T000000
DTEND:20060402T000000
SUMMARY:Saint Joseph vs. Emmanuel
DESCRIPTION:GNAC Softball - Great Northeast Athletic Conference
LOCATION:W. Hartford, CT
CATEGORIES:QuickScores; Softball Game
TRANSP:0
DALARM:20060402T000000;PT10M;2;Saint Joseph vs. Emmanuel
END:VEVENT
BEGIN:VEVENT
DTSTART:20060402T000000
DTEND:20060402T000000
SUMMARY:Saint Joseph vs. Emmanuel
DESCRIPTION:GNAC Softball - Great Northeast Athletic Conference
LOCATION:W. Hartford, CT
CATEGORIES:QuickScores; Softball Game
TRANSP:0
DALARM:20060402T000000;PT10M;2;Saint Joseph vs. Emmanuel
END:VEVENT
BEGIN:VEVENT
DTSTART:20060407T000000
DTEND:20060407T000000
SUMMARY:Southern Vermont vs. Saint Joseph
DESCRIPTION:GNAC Softball - Great Northeast Athletic Conference
LOCATION:Bennington, VT
CATEGORIES:QuickScores; Softball Game
TRANSP:0
DALARM:20060407T000000;PT10M;2;Southern Vermont vs. Saint Joseph
END:VEVENT
BEGIN:VEVENT
DTSTART:20060407T000000
DTEND:20060407T000000
SUMMARY:Southern Vermont vs. Saint Joseph
DESCRIPTION:GNAC Softball - Great Northeast Athletic Conference
LOCATION:Bennington, VT
CATEGORIES:QuickScores; Softball Game
TRANSP:0
DALARM:20060407T000000;PT10M;2;Southern Vermont vs. Saint Joseph
END:VEVENT
BEGIN:VEVENT
DTSTART:20060408T000000
DTEND:20060408T000000
SUMMARY:Rivier vs. Saint Joseph
DESCRIPTION:GNAC Softball - Great Northeast Athletic Conference
LOCATION:Nashua, NH
CATEGORIES:QuickScores; Softball Game
TRANSP:0
DALARM:20060408T000000;PT10M;2;Rivier vs. Saint Joseph
END:VEVENT
BEGIN:VEVENT
DTSTART:20060408T000000
DTEND:20060408T000000
SUMMARY:Rivier vs. Saint Joseph
DESCRIPTION:GNAC Softball - Great Northeast Athletic Conference
LOCATION:Nashua, NH
CATEGORIES:QuickScores; Softball Game
TRANSP:0
DALARM:20060408T000000;PT10M;2;Rivier vs. Saint Joseph
END:VEVENT
BEGIN:VEVENT
DTSTART:20060409T000000
DTEND:20060409T000000
SUMMARY:Saint Joseph vs. Norwich
DESCRIPTION:GNAC Softball - Great Northeast Athletic Conference
LOCATION:W. Hartford, CT
CATEGORIES:QuickScores; Softball Game
TRANSP:0
DALARM:20060409T000000;PT10M;2;Saint Joseph vs. Norwich
END:VEVENT
BEGIN:VEVENT
DTSTART:20060409T000000
DTEND:20060409T000000
SUMMARY:Saint Joseph vs. Norwich
DESCRIPTION:GNAC Softball - Great Northeast Athletic Conference
LOCATION:W. Hartford, CT
CATEGORIES:QuickScores; Softball Game
TRANSP:0
DALARM:20060409T000000;PT10M;2;Saint Joseph vs. Norwich
END:VEVENT
BEGIN:VEVENT
DTSTART:20060415T000000
DTEND:20060415T000000
SUMMARY:Saint Joseph vs. Simmons
DESCRIPTION:GNAC Softball - Great Northeast Athletic Conference
LOCATION:W. Hartford, CT
CATEGORIES:QuickScores; Softball Game
TRANSP:0
DALARM:20060415T000000;PT10M;2;Saint Joseph vs. Simmons
END:VEVENT
BEGIN:VEVENT
DTSTART:20060415T000000
DTEND:20060415T000000
SUMMARY:Saint Joseph vs. Simmons
DESCRIPTION:GNAC Softball - Great Northeast Athletic Conference
LOCATION:W. Hartford, CT
CATEGORIES:QuickScores; Softball Game
TRANSP:0
DALARM:20060415T000000;PT10M;2;Saint Joseph vs. Simmons
END:VEVENT
BEGIN:VEVENT
DTSTART:20060421T000000
DTEND:20060421T000000
SUMMARY:Saint Joseph vs. Albertus Magnus
DESCRIPTION:GNAC Softball - Great Northeast Athletic Conference
LOCATION:W. Hartford, CT
CATEGORIES:QuickScores; Softball Game
TRANSP:0
DALARM:20060421T000000;PT10M;2;Saint Joseph vs. Albertus Magnus
END:VEVENT
BEGIN:VEVENT
DTSTART:20060421T000000
DTEND:20060421T000000
SUMMARY:Saint Joseph vs. Albertus Magnus
DESCRIPTION:GNAC Softball - Great Northeast Athletic Conference
LOCATION:W. Hartford, CT
CATEGORIES:QuickScores; Softball Game
TRANSP:0
DALARM:20060421T000000;PT10M;2;Saint Joseph vs. Albertus Magnus
END:VEVENT
BEGIN:VEVENT
DTSTART:20060422T000000
DTEND:20060422T000000
SUMMARY:Western New England vs. Saint Joseph
DESCRIPTION:GNAC Softball - Great Northeast Athletic Conference
LOCATION:Springfield, MA
CATEGORIES:QuickScores; Softball Game
TRANSP:0
DALARM:20060422T000000;PT10M;2;Western New England vs. Saint Joseph
END:VEVENT
BEGIN:VEVENT
DTSTART:20060423T000000
DTEND:20060423T000000
SUMMARY:Pine Manor vs. Saint Joseph
DESCRIPTION:GNAC Softball - Great Northeast Athletic Conference
LOCATION:Chestnut Hill, MA
CATEGORIES:QuickScores; Softball Game
TRANSP:0
DALARM:20060423T000000;PT10M;2;Pine Manor vs. Saint Joseph
END:VEVENT
BEGIN:VEVENT
DTSTART:20060423T000000
DTEND:20060423T000000
SUMMARY:Pine Manor vs. Saint Joseph
DESCRIPTION:GNAC Softball - Great Northeast Athletic Conference
LOCATION:Chestnut Hill, MA
CATEGORIES:QuickScores; Softball Game
TRANSP:0
DALARM:20060423T000000;PT10M;2;Pine Manor vs. Saint Joseph
END:VEVENT
BEGIN:VEVENT
DTSTART:20060424T000000
DTEND:20060424T000000
SUMMARY:Western New England vs. Saint Joseph
DESCRIPTION:Rain reschedule to 4/24 --- GNAC Softball - Great Northeast Athletic Conference
LOCATION:Springfield, MA
CATEGORIES:QuickScores; Softball Game
TRANSP:0
DALARM:20060424T000000;PT10M;2;Western New England vs. Saint Joseph
END:VEVENT
END:VCALENDAR
