BEGIN:VCALENDAR
VERSION:1.0
BEGIN:VEVENT
DTSTART:20060324T000000
DTEND:20060324T000000
SUMMARY:Pine Manor vs. Rivier
DESCRIPTION:GNAC Softball - Great Northeast Athletic Conference
LOCATION:Chestnut Hill, MA
CATEGORIES:QuickScores; Softball Game
TRANSP:0
DALARM:20060324T000000;PT10M;2;Pine Manor vs. Rivier
END:VEVENT
BEGIN:VEVENT
DTSTART:20060324T000000
DTEND:20060324T000000
SUMMARY:Pine Manor vs. Rivier
DESCRIPTION:GNAC Softball - Great Northeast Athletic Conference
LOCATION:Chestnut Hill, MA
CATEGORIES:QuickScores; Softball Game
TRANSP:0
DALARM:20060324T000000;PT10M;2;Pine Manor vs. Rivier
END:VEVENT
BEGIN:VEVENT
DTSTART:20060326T000000
DTEND:20060326T000000
SUMMARY:Pine Manor vs. Johnson & Wales
DESCRIPTION:GNAC Softball - Great Northeast Athletic Conference
LOCATION:Chestnut Hill, MA
CATEGORIES:QuickScores; Softball Game
TRANSP:0
DALARM:20060326T000000;PT10M;2;Pine Manor vs. Johnson & Wales
END:VEVENT
BEGIN:VEVENT
DTSTART:20060326T000000
DTEND:20060326T000000
SUMMARY:Pine Manor vs. Johnson & Wales
DESCRIPTION:GNAC Softball - Great Northeast Athletic Conference
LOCATION:Chestnut Hill, MA
CATEGORIES:QuickScores; Softball Game
TRANSP:0
DALARM:20060326T000000;PT10M;2;Pine Manor vs. Johnson & Wales
END:VEVENT
BEGIN:VEVENT
DTSTART:20060331T000000
DTEND:20060331T000000
SUMMARY:Simmons vs. Pine Manor
DESCRIPTION:GNAC Softball - Great Northeast Athletic Conference
LOCATION:Boston, MA
CATEGORIES:QuickScores; Softball Game
TRANSP:0
DALARM:20060331T000000;PT10M;2;Simmons vs. Pine Manor
END:VEVENT
BEGIN:VEVENT
DTSTART:20060331T000000
DTEND:20060331T000000
SUMMARY:Simmons vs. Pine Manor
DESCRIPTION:GNAC Softball - Great Northeast Athletic Conference
LOCATION:Boston, MA
CATEGORIES:QuickScores; Softball Game
TRANSP:0
DALARM:20060331T000000;PT10M;2;Simmons vs. Pine Manor
END:VEVENT
BEGIN:VEVENT
DTSTART:20060401T000000
DTEND:20060401T000000
SUMMARY:Norwich vs. Pine Manor
DESCRIPTION:GNAC Softball - Great Northeast Athletic Conference
LOCATION:Northfield, VT
CATEGORIES:QuickScores; Softball Game
TRANSP:0
DALARM:20060401T000000;PT10M;2;Norwich vs. Pine Manor
END:VEVENT
BEGIN:VEVENT
DTSTART:20060401T000000
DTEND:20060401T000000
SUMMARY:Norwich vs. Pine Manor
DESCRIPTION:GNAC Softball - Great Northeast Athletic Conference
LOCATION:Northfield, VT
CATEGORIES:QuickScores; Softball Game
TRANSP:0
DALARM:20060401T000000;PT10M;2;Norwich vs. Pine Manor
END:VEVENT
BEGIN:VEVENT
DTSTART:20060402T000000
DTEND:20060402T000000
SUMMARY:Pine Manor vs. Southern Vermont
DESCRIPTION:GNAC Softball - Great Northeast Athletic Conference
LOCATION:Chestnut Hill, MA
CATEGORIES:QuickScores; Softball Game
TRANSP:0
DALARM:20060402T000000;PT10M;2;Pine Manor vs. Southern Vermont
END:VEVENT
BEGIN:VEVENT
DTSTART:20060402T000000
DTEND:20060402T000000
SUMMARY:Pine Manor vs. Southern Vermont
DESCRIPTION:GNAC Softball - Great Northeast Athletic Conference
LOCATION:Chestnut Hill, MA
CATEGORIES:QuickScores; Softball Game
TRANSP:0
DALARM:20060402T000000;PT10M;2;Pine Manor vs. Southern Vermont
END:VEVENT
BEGIN:VEVENT
DTSTART:20060407T000000
DTEND:20060407T000000
SUMMARY:Pine Manor vs. Emerson
DESCRIPTION:GNAC Softball - Great Northeast Athletic Conference
LOCATION:Chestnut Hill, MA
CATEGORIES:QuickScores; Softball Game
TRANSP:0
DALARM:20060407T000000;PT10M;2;Pine Manor vs. Emerson
END:VEVENT
BEGIN:VEVENT
DTSTART:20060408T000000
DTEND:20060408T000000
SUMMARY:Pine Manor vs. Albertus Magnus
DESCRIPTION:GNAC Softball - Great Northeast Athletic Conference
LOCATION:Chestnut Hill, MA
CATEGORIES:QuickScores; Softball Game
TRANSP:0
DALARM:20060408T000000;PT10M;2;Pine Manor vs. Albertus Magnus
END:VEVENT
BEGIN:VEVENT
DTSTART:20060408T000000
DTEND:20060408T000000
SUMMARY:Pine Manor vs. Albertus Magnus
DESCRIPTION:GNAC Softball - Great Northeast Athletic Conference
LOCATION:Chestnut Hill, MA
CATEGORIES:QuickScores; Softball Game
TRANSP:0
DALARM:20060408T000000;PT10M;2;Pine Manor vs. Albertus Magnus
END:VEVENT
BEGIN:VEVENT
DTSTART:20060409T000000
DTEND:20060409T000000
SUMMARY:Pine Manor vs. Western New England
DESCRIPTION:GNAC Softball - Great Northeast Athletic Conference
LOCATION:Chestnut Hill, MA
CATEGORIES:QuickScores; Softball Game
TRANSP:0
DALARM:20060409T000000;PT10M;2;Pine Manor vs. Western New England
END:VEVENT
BEGIN:VEVENT
DTSTART:20060409T000000
DTEND:20060409T000000
SUMMARY:Pine Manor vs. Western New England
DESCRIPTION:GNAC Softball - Great Northeast Athletic Conference
LOCATION:Chestnut Hill, MA
CATEGORIES:QuickScores; Softball Game
TRANSP:0
DALARM:20060409T000000;PT10M;2;Pine Manor vs. Western New England
END:VEVENT
BEGIN:VEVENT
DTSTART:20060412T000000
DTEND:20060412T000000
SUMMARY:Pine Manor vs. Emerson
DESCRIPTION:GNAC Softball - Great Northeast Athletic Conference
LOCATION:Chestnut Hill, MA
CATEGORIES:QuickScores; Softball Game
TRANSP:0
DALARM:20060412T000000;PT10M;2;Pine Manor vs. Emerson
END:VEVENT
BEGIN:VEVENT
DTSTART:20060415T000000
DTEND:20060415T000000
SUMMARY:Daniel Webster vs. Pine Manor
DESCRIPTION:GNAC Softball - Great Northeast Athletic Conference
LOCATION:Nashua, NH
CATEGORIES:QuickScores; Softball Game
TRANSP:0
DALARM:20060415T000000;PT10M;2;Daniel Webster vs. Pine Manor
END:VEVENT
BEGIN:VEVENT
DTSTART:20060415T000000
DTEND:20060415T000000
SUMMARY:Daniel Webster vs. Pine Manor
DESCRIPTION:GNAC Softball - Great Northeast Athletic Conference
LOCATION:Nashua, NH
CATEGORIES:QuickScores; Softball Game
TRANSP:0
DALARM:20060415T000000;PT10M;2;Daniel Webster vs. Pine Manor
END:VEVENT
BEGIN:VEVENT
DTSTART:20060421T000000
DTEND:20060421T000000
SUMMARY:Suffolk vs. Pine Manor
DESCRIPTION:GNAC Softball - Great Northeast Athletic Conference
LOCATION:Boston, MA
CATEGORIES:QuickScores; Softball Game
TRANSP:0
DALARM:20060421T000000;PT10M;2;Suffolk vs. Pine Manor
END:VEVENT
BEGIN:VEVENT
DTSTART:20060421T000000
DTEND:20060421T000000
SUMMARY:Suffolk vs. Pine Manor
DESCRIPTION:GNAC Softball - Great Northeast Athletic Conference
LOCATION:Boston, MA
CATEGORIES:QuickScores; Softball Game
TRANSP:0
DALARM:20060421T000000;PT10M;2;Suffolk vs. Pine Manor
END:VEVENT
BEGIN:VEVENT
DTSTART:20060422T000000
DTEND:20060422T000000
SUMMARY:Emmanuel vs. Pine Manor
DESCRIPTION:GNAC Softball - Great Northeast Athletic Conference
LOCATION:Boston, MA
CATEGORIES:QuickScores; Softball Game
TRANSP:0
DALARM:20060422T000000;PT10M;2;Emmanuel vs. Pine Manor
END:VEVENT
BEGIN:VEVENT
DTSTART:20060422T000000
DTEND:20060422T000000
SUMMARY:Emmanuel vs. Pine Manor
DESCRIPTION:GNAC Softball - Great Northeast Athletic Conference
LOCATION:Boston, MA
CATEGORIES:QuickScores; Softball Game
TRANSP:0
DALARM:20060422T000000;PT10M;2;Emmanuel vs. Pine Manor
END:VEVENT
BEGIN:VEVENT
DTSTART:20060423T000000
DTEND:20060423T000000
SUMMARY:Pine Manor vs. Saint Joseph
DESCRIPTION:GNAC Softball - Great Northeast Athletic Conference
LOCATION:Chestnut Hill, MA
CATEGORIES:QuickScores; Softball Game
TRANSP:0
DALARM:20060423T000000;PT10M;2;Pine Manor vs. Saint Joseph
END:VEVENT
BEGIN:VEVENT
DTSTART:20060423T000000
DTEND:20060423T000000
SUMMARY:Pine Manor vs. Saint Joseph
DESCRIPTION:GNAC Softball - Great Northeast Athletic Conference
LOCATION:Chestnut Hill, MA
CATEGORIES:QuickScores; Softball Game
TRANSP:0
DALARM:20060423T000000;PT10M;2;Pine Manor vs. Saint Joseph
END:VEVENT
END:VCALENDAR
