BEGIN:VCALENDAR
VERSION:1.0
BEGIN:VEVENT
DTSTART:20060331T000000
DTEND:20060331T000000
SUMMARY:Western New England vs. Norwich
DESCRIPTION:GNAC Softball - Great Northeast Athletic Conference
LOCATION:Springfield, MA
CATEGORIES:QuickScores; Softball Game
TRANSP:0
DALARM:20060331T000000;PT10M;2;Western New England vs. Norwich
END:VEVENT
BEGIN:VEVENT
DTSTART:20060331T000000
DTEND:20060331T000000
SUMMARY:Western New England vs. Norwich
DESCRIPTION:GNAC Softball - Great Northeast Athletic Conference
LOCATION:Springfield, MA
CATEGORIES:QuickScores; Softball Game
TRANSP:0
DALARM:20060331T000000;PT10M;2;Western New England vs. Norwich
END:VEVENT
BEGIN:VEVENT
DTSTART:20060401T000000
DTEND:20060401T000000
SUMMARY:Norwich vs. Pine Manor
DESCRIPTION:GNAC Softball - Great Northeast Athletic Conference
LOCATION:Northfield, VT
CATEGORIES:QuickScores; Softball Game
TRANSP:0
DALARM:20060401T000000;PT10M;2;Norwich vs. Pine Manor
END:VEVENT
BEGIN:VEVENT
DTSTART:20060401T000000
DTEND:20060401T000000
SUMMARY:Norwich vs. Pine Manor
DESCRIPTION:GNAC Softball - Great Northeast Athletic Conference
LOCATION:Northfield, VT
CATEGORIES:QuickScores; Softball Game
TRANSP:0
DALARM:20060401T000000;PT10M;2;Norwich vs. Pine Manor
END:VEVENT
BEGIN:VEVENT
DTSTART:20060402T000000
DTEND:20060402T000000
SUMMARY:Norwich vs. Suffolk
DESCRIPTION:GNAC Softball - Great Northeast Athletic Conference
LOCATION:Northfield, VT
CATEGORIES:QuickScores; Softball Game
TRANSP:0
DALARM:20060402T000000;PT10M;2;Norwich vs. Suffolk
END:VEVENT
BEGIN:VEVENT
DTSTART:20060402T000000
DTEND:20060402T000000
SUMMARY:Norwich vs. Suffolk
DESCRIPTION:GNAC Softball - Great Northeast Athletic Conference
LOCATION:Northfield, VT
CATEGORIES:QuickScores; Softball Game
TRANSP:0
DALARM:20060402T000000;PT10M;2;Norwich vs. Suffolk
END:VEVENT
BEGIN:VEVENT
DTSTART:20060408T000000
DTEND:20060408T000000
SUMMARY:Simmons vs. Norwich
DESCRIPTION:GNAC Softball - Great Northeast Athletic Conference
LOCATION:Boston, MA
CATEGORIES:QuickScores; Softball Game
TRANSP:0
DALARM:20060408T000000;PT10M;2;Simmons vs. Norwich
END:VEVENT
BEGIN:VEVENT
DTSTART:20060408T000000
DTEND:20060408T000000
SUMMARY:Simmons vs. Norwich
DESCRIPTION:GNAC Softball - Great Northeast Athletic Conference
LOCATION:Boston, MA
CATEGORIES:QuickScores; Softball Game
TRANSP:0
DALARM:20060408T000000;PT10M;2;Simmons vs. Norwich
END:VEVENT
BEGIN:VEVENT
DTSTART:20060409T000000
DTEND:20060409T000000
SUMMARY:Saint Joseph vs. Norwich
DESCRIPTION:GNAC Softball - Great Northeast Athletic Conference
LOCATION:W. Hartford, CT
CATEGORIES:QuickScores; Softball Game
TRANSP:0
DALARM:20060409T000000;PT10M;2;Saint Joseph vs. Norwich
END:VEVENT
BEGIN:VEVENT
DTSTART:20060409T000000
DTEND:20060409T000000
SUMMARY:Saint Joseph vs. Norwich
DESCRIPTION:GNAC Softball - Great Northeast Athletic Conference
LOCATION:W. Hartford, CT
CATEGORIES:QuickScores; Softball Game
TRANSP:0
DALARM:20060409T000000;PT10M;2;Saint Joseph vs. Norwich
END:VEVENT
BEGIN:VEVENT
DTSTART:20060412T000000
DTEND:20060412T000000
SUMMARY:Emmanuel vs. Norwich
DESCRIPTION:GNAC Softball - Great Northeast Athletic Conference
LOCATION:Boston, MA
CATEGORIES:QuickScores; Softball Game
TRANSP:0
DALARM:20060412T000000;PT10M;2;Emmanuel vs. Norwich
END:VEVENT
BEGIN:VEVENT
DTSTART:20060412T000000
DTEND:20060412T000000
SUMMARY:Emmanuel vs. Norwich
DESCRIPTION:GNAC Softball - Great Northeast Athletic Conference
LOCATION:Boston, MA
CATEGORIES:QuickScores; Softball Game
TRANSP:0
DALARM:20060412T000000;PT10M;2;Emmanuel vs. Norwich
END:VEVENT
BEGIN:VEVENT
DTSTART:20060413T000000
DTEND:20060413T000000
SUMMARY:Norwich vs. Rivier
DESCRIPTION:GNAC Softball - Great Northeast Athletic Conference
LOCATION:Northfield, VT
CATEGORIES:QuickScores; Softball Game
TRANSP:0
DALARM:20060413T000000;PT10M;2;Norwich vs. Rivier
END:VEVENT
BEGIN:VEVENT
DTSTART:20060413T000000
DTEND:20060413T000000
SUMMARY:Norwich vs. Rivier
DESCRIPTION:GNAC Softball - Great Northeast Athletic Conference
LOCATION:Northfield, VT
CATEGORIES:QuickScores; Softball Game
TRANSP:0
DALARM:20060413T000000;PT10M;2;Norwich vs. Rivier
END:VEVENT
BEGIN:VEVENT
DTSTART:20060415T000000
DTEND:20060415T000000
SUMMARY:Albertus Magnus vs. Norwich
DESCRIPTION:GNAC Softball - Great Northeast Athletic Conference
LOCATION:New Haven, CT
CATEGORIES:QuickScores; Softball Game
TRANSP:0
DALARM:20060415T000000;PT10M;2;Albertus Magnus vs. Norwich
END:VEVENT
BEGIN:VEVENT
DTSTART:20060415T000000
DTEND:20060415T000000
SUMMARY:Albertus Magnus vs. Norwich
DESCRIPTION:GNAC Softball - Great Northeast Athletic Conference
LOCATION:New Haven, CT
CATEGORIES:QuickScores; Softball Game
TRANSP:0
DALARM:20060415T000000;PT10M;2;Albertus Magnus vs. Norwich
END:VEVENT
BEGIN:VEVENT
DTSTART:20060418T000000
DTEND:20060418T000000
SUMMARY:Norwich vs. Daniel Webster
DESCRIPTION:GNAC Softball - Great Northeast Athletic Conference
LOCATION:Northfield, VT
CATEGORIES:QuickScores; Softball Game
TRANSP:0
DALARM:20060418T000000;PT10M;2;Norwich vs. Daniel Webster
END:VEVENT
BEGIN:VEVENT
DTSTART:20060418T000000
DTEND:20060418T000000
SUMMARY:Norwich vs. Daniel Webster
DESCRIPTION:GNAC Softball - Great Northeast Athletic Conference
LOCATION:Northfield, VT
CATEGORIES:QuickScores; Softball Game
TRANSP:0
DALARM:20060418T000000;PT10M;2;Norwich vs. Daniel Webster
END:VEVENT
BEGIN:VEVENT
DTSTART:20060421T000000
DTEND:20060421T000000
SUMMARY:Norwich vs. Southern Vermont
DESCRIPTION:GNAC Softball - Great Northeast Athletic Conference
LOCATION:Northfield, VT
CATEGORIES:QuickScores; Softball Game
TRANSP:0
DALARM:20060421T000000;PT10M;2;Norwich vs. Southern Vermont
END:VEVENT
BEGIN:VEVENT
DTSTART:20060421T000000
DTEND:20060421T000000
SUMMARY:Norwich vs. Southern Vermont
DESCRIPTION:GNAC Softball - Great Northeast Athletic Conference
LOCATION:Northfield, VT
CATEGORIES:QuickScores; Softball Game
TRANSP:0
DALARM:20060421T000000;PT10M;2;Norwich vs. Southern Vermont
END:VEVENT
BEGIN:VEVENT
DTSTART:20060422T000000
DTEND:20060422T000000
SUMMARY:Norwich vs. Johnson & Wales
DESCRIPTION:GNAC Softball - Great Northeast Athletic Conference
LOCATION:Northfield, VT
CATEGORIES:QuickScores; Softball Game
TRANSP:0
DALARM:20060422T000000;PT10M;2;Norwich vs. Johnson & Wales
END:VEVENT
BEGIN:VEVENT
DTSTART:20060422T000000
DTEND:20060422T000000
SUMMARY:Norwich vs. Johnson & Wales
DESCRIPTION:GNAC Softball - Great Northeast Athletic Conference
LOCATION:Northfield, VT
CATEGORIES:QuickScores; Softball Game
TRANSP:0
DALARM:20060422T000000;PT10M;2;Norwich vs. Johnson & Wales
END:VEVENT
BEGIN:VEVENT
DTSTART:20060425T000000
DTEND:20060425T000000
SUMMARY:Emerson vs. Norwich
DESCRIPTION:GNAC Softball - Great Northeast Athletic Conference
LOCATION:Boston, MA
CATEGORIES:QuickScores; Softball Game
TRANSP:0
DALARM:20060425T000000;PT10M;2;Emerson vs. Norwich
END:VEVENT
BEGIN:VEVENT
DTSTART:20060425T000000
DTEND:20060425T000000
SUMMARY:Emerson vs. Norwich
DESCRIPTION:GNAC Softball - Great Northeast Athletic Conference
LOCATION:Boston, MA
CATEGORIES:QuickScores; Softball Game
TRANSP:0
DALARM:20060425T000000;PT10M;2;Emerson vs. Norwich
END:VEVENT
END:VCALENDAR
