BEGIN:VCALENDAR
VERSION:1.0
BEGIN:VEVENT
DTSTART:20060324T000000
DTEND:20060324T000000
SUMMARY:Emerson vs. Southern Vermont
DESCRIPTION:GNAC Softball - Great Northeast Athletic Conference
LOCATION:Boston, MA
CATEGORIES:QuickScores; Softball Game
TRANSP:0
DALARM:20060324T000000;PT10M;2;Emerson vs. Southern Vermont
END:VEVENT
BEGIN:VEVENT
DTSTART:20060324T000000
DTEND:20060324T000000
SUMMARY:Emerson vs. Southern Vermont
DESCRIPTION:GNAC Softball - Great Northeast Athletic Conference
LOCATION:Boston, MA
CATEGORIES:QuickScores; Softball Game
TRANSP:0
DALARM:20060324T000000;PT10M;2;Emerson vs. Southern Vermont
END:VEVENT
BEGIN:VEVENT
DTSTART:20060325T000000
DTEND:20060325T000000
SUMMARY:Johnson & Wales vs. Emerson
DESCRIPTION:GNAC Softball - Great Northeast Athletic Conference
LOCATION:Providence, RI
CATEGORIES:QuickScores; Softball Game
TRANSP:0
DALARM:20060325T000000;PT10M;2;Johnson & Wales vs. Emerson
END:VEVENT
BEGIN:VEVENT
DTSTART:20060325T000000
DTEND:20060325T000000
SUMMARY:Johnson & Wales vs. Emerson
DESCRIPTION:GNAC Softball - Great Northeast Athletic Conference
LOCATION:Providence, RI
CATEGORIES:QuickScores; Softball Game
TRANSP:0
DALARM:20060325T000000;PT10M;2;Johnson & Wales vs. Emerson
END:VEVENT
BEGIN:VEVENT
DTSTART:20060331T000000
DTEND:20060331T000000
SUMMARY:Emerson vs. Daniel Webster
DESCRIPTION:GNAC Softball - Great Northeast Athletic Conference
LOCATION:Boston, MA
CATEGORIES:QuickScores; Softball Game
TRANSP:0
DALARM:20060331T000000;PT10M;2;Emerson vs. Daniel Webster
END:VEVENT
BEGIN:VEVENT
DTSTART:20060331T000000
DTEND:20060331T000000
SUMMARY:Emerson vs. Daniel Webster
DESCRIPTION:GNAC Softball - Great Northeast Athletic Conference
LOCATION:Boston, MA
CATEGORIES:QuickScores; Softball Game
TRANSP:0
DALARM:20060331T000000;PT10M;2;Emerson vs. Daniel Webster
END:VEVENT
BEGIN:VEVENT
DTSTART:20060401T000000
DTEND:20060401T000000
SUMMARY:Saint Joseph vs. Emerson
DESCRIPTION:GNAC Softball - Great Northeast Athletic Conference
LOCATION:W. Hartford, CT
CATEGORIES:QuickScores; Softball Game
TRANSP:0
DALARM:20060401T000000;PT10M;2;Saint Joseph vs. Emerson
END:VEVENT
BEGIN:VEVENT
DTSTART:20060401T000000
DTEND:20060401T000000
SUMMARY:Saint Joseph vs. Emerson
DESCRIPTION:GNAC Softball - Great Northeast Athletic Conference
LOCATION:W. Hartford, CT
CATEGORIES:QuickScores; Softball Game
TRANSP:0
DALARM:20060401T000000;PT10M;2;Saint Joseph vs. Emerson
END:VEVENT
BEGIN:VEVENT
DTSTART:20060402T000000
DTEND:20060402T000000
SUMMARY:Albertus Magnus vs. Emerson
DESCRIPTION:GNAC Softball - Great Northeast Athletic Conference
LOCATION:New Haven, CT
CATEGORIES:QuickScores; Softball Game
TRANSP:0
DALARM:20060402T000000;PT10M;2;Albertus Magnus vs. Emerson
END:VEVENT
BEGIN:VEVENT
DTSTART:20060402T000000
DTEND:20060402T000000
SUMMARY:Albertus Magnus vs. Emerson
DESCRIPTION:GNAC Softball - Great Northeast Athletic Conference
LOCATION:New Haven, CT
CATEGORIES:QuickScores; Softball Game
TRANSP:0
DALARM:20060402T000000;PT10M;2;Albertus Magnus vs. Emerson
END:VEVENT
BEGIN:VEVENT
DTSTART:20060407T000000
DTEND:20060407T000000
SUMMARY:Pine Manor vs. Emerson
DESCRIPTION:GNAC Softball - Great Northeast Athletic Conference
LOCATION:Chestnut Hill, MA
CATEGORIES:QuickScores; Softball Game
TRANSP:0
DALARM:20060407T000000;PT10M;2;Pine Manor vs. Emerson
END:VEVENT
BEGIN:VEVENT
DTSTART:20060409T000000
DTEND:20060409T000000
SUMMARY:Emerson vs. Rivier
DESCRIPTION:GNAC Softball - Great Northeast Athletic Conference
LOCATION:Boston, MA
CATEGORIES:QuickScores; Softball Game
TRANSP:0
DALARM:20060409T000000;PT10M;2;Emerson vs. Rivier
END:VEVENT
BEGIN:VEVENT
DTSTART:20060409T000000
DTEND:20060409T000000
SUMMARY:Emerson vs. Rivier
DESCRIPTION:GNAC Softball - Great Northeast Athletic Conference
LOCATION:Boston, MA
CATEGORIES:QuickScores; Softball Game
TRANSP:0
DALARM:20060409T000000;PT10M;2;Emerson vs. Rivier
END:VEVENT
BEGIN:VEVENT
DTSTART:20060412T000000
DTEND:20060412T000000
SUMMARY:Pine Manor vs. Emerson
DESCRIPTION:GNAC Softball - Great Northeast Athletic Conference
LOCATION:Chestnut Hill, MA
CATEGORIES:QuickScores; Softball Game
TRANSP:0
DALARM:20060412T000000;PT10M;2;Pine Manor vs. Emerson
END:VEVENT
BEGIN:VEVENT
DTSTART:20060414T000000
DTEND:20060414T000000
SUMMARY:Emerson vs. Simmons
DESCRIPTION:GNAC Softball - Great Northeast Athletic Conference
LOCATION:Boston, MA
CATEGORIES:QuickScores; Softball Game
TRANSP:0
DALARM:20060414T000000;PT10M;2;Emerson vs. Simmons
END:VEVENT
BEGIN:VEVENT
DTSTART:20060414T000000
DTEND:20060414T000000
SUMMARY:Emerson vs. Simmons
DESCRIPTION:GNAC Softball - Great Northeast Athletic Conference
LOCATION:Boston, MA
CATEGORIES:QuickScores; Softball Game
TRANSP:0
DALARM:20060414T000000;PT10M;2;Emerson vs. Simmons
END:VEVENT
BEGIN:VEVENT
DTSTART:20060415T000000
DTEND:20060415T000000
SUMMARY:Emerson vs. Western New England
DESCRIPTION:GNAC Softball - Great Northeast Athletic Conference
LOCATION:Boston, MA
CATEGORIES:QuickScores; Softball Game
TRANSP:0
DALARM:20060415T000000;PT10M;2;Emerson vs. Western New England
END:VEVENT
BEGIN:VEVENT
DTSTART:20060415T000000
DTEND:20060415T000000
SUMMARY:Emerson vs. Western New England
DESCRIPTION:GNAC Softball - Great Northeast Athletic Conference
LOCATION:Boston, MA
CATEGORIES:QuickScores; Softball Game
TRANSP:0
DALARM:20060415T000000;PT10M;2;Emerson vs. Western New England
END:VEVENT
BEGIN:VEVENT
DTSTART:20060421T000000
DTEND:20060421T000000
SUMMARY:Emmanuel vs. Emerson
DESCRIPTION:GNAC Softball - Great Northeast Athletic Conference
LOCATION:Boston, MA
CATEGORIES:QuickScores; Softball Game
TRANSP:0
DALARM:20060421T000000;PT10M;2;Emmanuel vs. Emerson
END:VEVENT
BEGIN:VEVENT
DTSTART:20060421T000000
DTEND:20060421T000000
SUMMARY:Emmanuel vs. Emerson
DESCRIPTION:GNAC Softball - Great Northeast Athletic Conference
LOCATION:Boston, MA
CATEGORIES:QuickScores; Softball Game
TRANSP:0
DALARM:20060421T000000;PT10M;2;Emmanuel vs. Emerson
END:VEVENT
BEGIN:VEVENT
DTSTART:20060422T000000
DTEND:20060422T000000
SUMMARY:Emerson vs. Suffolk
DESCRIPTION:GNAC Softball - Great Northeast Athletic Conference
LOCATION:Boston, MA
CATEGORIES:QuickScores; Softball Game
TRANSP:0
DALARM:20060422T000000;PT10M;2;Emerson vs. Suffolk
END:VEVENT
BEGIN:VEVENT
DTSTART:20060422T000000
DTEND:20060422T000000
SUMMARY:Emerson vs. Suffolk
DESCRIPTION:GNAC Softball - Great Northeast Athletic Conference
LOCATION:Boston, MA
CATEGORIES:QuickScores; Softball Game
TRANSP:0
DALARM:20060422T000000;PT10M;2;Emerson vs. Suffolk
END:VEVENT
BEGIN:VEVENT
DTSTART:20060425T000000
DTEND:20060425T000000
SUMMARY:Emerson vs. Norwich
DESCRIPTION:GNAC Softball - Great Northeast Athletic Conference
LOCATION:Boston, MA
CATEGORIES:QuickScores; Softball Game
TRANSP:0
DALARM:20060425T000000;PT10M;2;Emerson vs. Norwich
END:VEVENT
BEGIN:VEVENT
DTSTART:20060425T000000
DTEND:20060425T000000
SUMMARY:Emerson vs. Norwich
DESCRIPTION:GNAC Softball - Great Northeast Athletic Conference
LOCATION:Boston, MA
CATEGORIES:QuickScores; Softball Game
TRANSP:0
DALARM:20060425T000000;PT10M;2;Emerson vs. Norwich
END:VEVENT
END:VCALENDAR
