BEGIN:VCALENDAR
VERSION:1.0
BEGIN:VEVENT
DTSTART:20060325T000000
DTEND:20060325T000000
SUMMARY:Daniel Webster vs. Saint Joseph
DESCRIPTION:GNAC Softball - Great Northeast Athletic Conference
LOCATION:Nashua, NH
CATEGORIES:QuickScores; Softball Game
TRANSP:0
DALARM:20060325T000000;PT10M;2;Daniel Webster vs. Saint Joseph
END:VEVENT
BEGIN:VEVENT
DTSTART:20060325T000000
DTEND:20060325T000000
SUMMARY:Daniel Webster vs. Saint Joseph
DESCRIPTION:GNAC Softball - Great Northeast Athletic Conference
LOCATION:Nashua, NH
CATEGORIES:QuickScores; Softball Game
TRANSP:0
DALARM:20060325T000000;PT10M;2;Daniel Webster vs. Saint Joseph
END:VEVENT
BEGIN:VEVENT
DTSTART:20060331T000000
DTEND:20060331T000000
SUMMARY:Emerson vs. Daniel Webster
DESCRIPTION:GNAC Softball - Great Northeast Athletic Conference
LOCATION:Boston, MA
CATEGORIES:QuickScores; Softball Game
TRANSP:0
DALARM:20060331T000000;PT10M;2;Emerson vs. Daniel Webster
END:VEVENT
BEGIN:VEVENT
DTSTART:20060331T000000
DTEND:20060331T000000
SUMMARY:Emerson vs. Daniel Webster
DESCRIPTION:GNAC Softball - Great Northeast Athletic Conference
LOCATION:Boston, MA
CATEGORIES:QuickScores; Softball Game
TRANSP:0
DALARM:20060331T000000;PT10M;2;Emerson vs. Daniel Webster
END:VEVENT
BEGIN:VEVENT
DTSTART:20060401T000000
DTEND:20060401T000000
SUMMARY:Johnson & Wales vs. Daniel Webster
DESCRIPTION:GNAC Softball - Great Northeast Athletic Conference
LOCATION:Providence, RI
CATEGORIES:QuickScores; Softball Game
TRANSP:0
DALARM:20060401T000000;PT10M;2;Johnson & Wales vs. Daniel Webster
END:VEVENT
BEGIN:VEVENT
DTSTART:20060401T000000
DTEND:20060401T000000
SUMMARY:Johnson & Wales vs. Daniel Webster
DESCRIPTION:GNAC Softball - Great Northeast Athletic Conference
LOCATION:Providence, RI
CATEGORIES:QuickScores; Softball Game
TRANSP:0
DALARM:20060401T000000;PT10M;2;Johnson & Wales vs. Daniel Webster
END:VEVENT
BEGIN:VEVENT
DTSTART:20060402T000000
DTEND:20060402T000000
SUMMARY:Daniel Webster vs. Western New England
DESCRIPTION:GNAC Softball - Great Northeast Athletic Conference
LOCATION:Nashua, NH
CATEGORIES:QuickScores; Softball Game
TRANSP:0
DALARM:20060402T000000;PT10M;2;Daniel Webster vs. Western New England
END:VEVENT
BEGIN:VEVENT
DTSTART:20060402T000000
DTEND:20060402T000000
SUMMARY:Daniel Webster vs. Western New England
DESCRIPTION:GNAC Softball - Great Northeast Athletic Conference
LOCATION:Nashua, NH
CATEGORIES:QuickScores; Softball Game
TRANSP:0
DALARM:20060402T000000;PT10M;2;Daniel Webster vs. Western New England
END:VEVENT
BEGIN:VEVENT
DTSTART:20060408T000000
DTEND:20060408T000000
SUMMARY:Daniel Webster vs. Suffolk
DESCRIPTION:GNAC Softball - Great Northeast Athletic Conference
LOCATION:Nashua, NH
CATEGORIES:QuickScores; Softball Game
TRANSP:0
DALARM:20060408T000000;PT10M;2;Daniel Webster vs. Suffolk
END:VEVENT
BEGIN:VEVENT
DTSTART:20060408T000000
DTEND:20060408T000000
SUMMARY:Daniel Webster vs. Suffolk
DESCRIPTION:GNAC Softball - Great Northeast Athletic Conference
LOCATION:Nashua, NH
CATEGORIES:QuickScores; Softball Game
TRANSP:0
DALARM:20060408T000000;PT10M;2;Daniel Webster vs. Suffolk
END:VEVENT
BEGIN:VEVENT
DTSTART:20060409T000000
DTEND:20060409T000000
SUMMARY:Daniel Webster vs. Southern Vermont
DESCRIPTION:GNAC Softball - Great Northeast Athletic Conference
LOCATION:Nashua, NH
CATEGORIES:QuickScores; Softball Game
TRANSP:0
DALARM:20060409T000000;PT10M;2;Daniel Webster vs. Southern Vermont
END:VEVENT
BEGIN:VEVENT
DTSTART:20060409T000000
DTEND:20060409T000000
SUMMARY:Daniel Webster vs. Southern Vermont
DESCRIPTION:GNAC Softball - Great Northeast Athletic Conference
LOCATION:Nashua, NH
CATEGORIES:QuickScores; Softball Game
TRANSP:0
DALARM:20060409T000000;PT10M;2;Daniel Webster vs. Southern Vermont
END:VEVENT
BEGIN:VEVENT
DTSTART:20060414T000000
DTEND:20060414T000000
SUMMARY:Emmanuel vs. Daniel Webster
DESCRIPTION:GNAC Softball - Great Northeast Athletic Conference
LOCATION:Boston, MA
CATEGORIES:QuickScores; Softball Game
TRANSP:0
DALARM:20060414T000000;PT10M;2;Emmanuel vs. Daniel Webster
END:VEVENT
BEGIN:VEVENT
DTSTART:20060414T000000
DTEND:20060414T000000
SUMMARY:Emmanuel vs. Daniel Webster
DESCRIPTION:GNAC Softball - Great Northeast Athletic Conference
LOCATION:Boston, MA
CATEGORIES:QuickScores; Softball Game
TRANSP:0
DALARM:20060414T000000;PT10M;2;Emmanuel vs. Daniel Webster
END:VEVENT
BEGIN:VEVENT
DTSTART:20060415T000000
DTEND:20060415T000000
SUMMARY:Daniel Webster vs. Pine Manor
DESCRIPTION:GNAC Softball - Great Northeast Athletic Conference
LOCATION:Nashua, NH
CATEGORIES:QuickScores; Softball Game
TRANSP:0
DALARM:20060415T000000;PT10M;2;Daniel Webster vs. Pine Manor
END:VEVENT
BEGIN:VEVENT
DTSTART:20060415T000000
DTEND:20060415T000000
SUMMARY:Daniel Webster vs. Pine Manor
DESCRIPTION:GNAC Softball - Great Northeast Athletic Conference
LOCATION:Nashua, NH
CATEGORIES:QuickScores; Softball Game
TRANSP:0
DALARM:20060415T000000;PT10M;2;Daniel Webster vs. Pine Manor
END:VEVENT
BEGIN:VEVENT
DTSTART:20060418T000000
DTEND:20060418T000000
SUMMARY:Norwich vs. Daniel Webster
DESCRIPTION:GNAC Softball - Great Northeast Athletic Conference
LOCATION:Northfield, VT
CATEGORIES:QuickScores; Softball Game
TRANSP:0
DALARM:20060418T000000;PT10M;2;Norwich vs. Daniel Webster
END:VEVENT
BEGIN:VEVENT
DTSTART:20060418T000000
DTEND:20060418T000000
SUMMARY:Norwich vs. Daniel Webster
DESCRIPTION:GNAC Softball - Great Northeast Athletic Conference
LOCATION:Northfield, VT
CATEGORIES:QuickScores; Softball Game
TRANSP:0
DALARM:20060418T000000;PT10M;2;Norwich vs. Daniel Webster
END:VEVENT
BEGIN:VEVENT
DTSTART:20060421T000000
DTEND:20060421T000000
SUMMARY:Rivier vs. Daniel Webster
DESCRIPTION:GNAC Softball - Great Northeast Athletic Conference
LOCATION:Nashua, NH
CATEGORIES:QuickScores; Softball Game
TRANSP:0
DALARM:20060421T000000;PT10M;2;Rivier vs. Daniel Webster
END:VEVENT
BEGIN:VEVENT
DTSTART:20060421T000000
DTEND:20060421T000000
SUMMARY:Rivier vs. Daniel Webster
DESCRIPTION:GNAC Softball - Great Northeast Athletic Conference
LOCATION:Nashua, NH
CATEGORIES:QuickScores; Softball Game
TRANSP:0
DALARM:20060421T000000;PT10M;2;Rivier vs. Daniel Webster
END:VEVENT
BEGIN:VEVENT
DTSTART:20060423T000000
DTEND:20060423T000000
SUMMARY:Daniel Webster vs. Albertus Magnus
DESCRIPTION:GNAC Softball - Great Northeast Athletic Conference
LOCATION:Nashua, NH
CATEGORIES:QuickScores; Softball Game
TRANSP:0
DALARM:20060423T000000;PT10M;2;Daniel Webster vs. Albertus Magnus
END:VEVENT
BEGIN:VEVENT
DTSTART:20060423T000000
DTEND:20060423T000000
SUMMARY:Daniel Webster vs. Albertus Magnus
DESCRIPTION:GNAC Softball - Great Northeast Athletic Conference
LOCATION:Nashua, NH
CATEGORIES:QuickScores; Softball Game
TRANSP:0
DALARM:20060423T000000;PT10M;2;Daniel Webster vs. Albertus Magnus
END:VEVENT
BEGIN:VEVENT
DTSTART:20060425T000000
DTEND:20060425T000000
SUMMARY:Simmons vs. Daniel Webster
DESCRIPTION:GNAC Softball - Great Northeast Athletic Conference
LOCATION:Boston, MA
CATEGORIES:QuickScores; Softball Game
TRANSP:0
DALARM:20060425T000000;PT10M;2;Simmons vs. Daniel Webster
END:VEVENT
BEGIN:VEVENT
DTSTART:20060425T000000
DTEND:20060425T000000
SUMMARY:Simmons vs. Daniel Webster
DESCRIPTION:GNAC Softball - Great Northeast Athletic Conference
LOCATION:Boston, MA
CATEGORIES:QuickScores; Softball Game
TRANSP:0
DALARM:20060425T000000;PT10M;2;Simmons vs. Daniel Webster
END:VEVENT
END:VCALENDAR
