BEGIN:VCALENDAR
VERSION:1.0
BEGIN:VEVENT
DTSTART:20060324T000000
DTEND:20060324T000000
SUMMARY:Albertus Magnus vs. Johnson & Wales
DESCRIPTION:GNAC Softball - Great Northeast Athletic Conference
LOCATION:New Haven, CT
CATEGORIES:QuickScores; Softball Game
TRANSP:0
DALARM:20060324T000000;PT10M;2;Albertus Magnus vs. Johnson & Wales
END:VEVENT
BEGIN:VEVENT
DTSTART:20060324T000000
DTEND:20060324T000000
SUMMARY:Albertus Magnus vs. Johnson & Wales
DESCRIPTION:to be completed 4/24 AM leads 1-0 4th inning --- GNAC Softball - Great Northeast Athletic Conference
LOCATION:New Haven, CT
CATEGORIES:QuickScores; Softball Game
TRANSP:0
DALARM:20060324T000000;PT10M;2;Albertus Magnus vs. Johnson & Wales
END:VEVENT
BEGIN:VEVENT
DTSTART:20060325T000000
DTEND:20060325T000000
SUMMARY:Suffolk vs. Albertus Magnus
DESCRIPTION:GNAC Softball - Great Northeast Athletic Conference
LOCATION:Boston, MA
CATEGORIES:QuickScores; Softball Game
TRANSP:0
DALARM:20060325T000000;PT10M;2;Suffolk vs. Albertus Magnus
END:VEVENT
BEGIN:VEVENT
DTSTART:20060325T000000
DTEND:20060325T000000
SUMMARY:Suffolk vs. Albertus Magnus
DESCRIPTION:GNAC Softball - Great Northeast Athletic Conference
LOCATION:Boston, MA
CATEGORIES:QuickScores; Softball Game
TRANSP:0
DALARM:20060325T000000;PT10M;2;Suffolk vs. Albertus Magnus
END:VEVENT
BEGIN:VEVENT
DTSTART:20060326T000000
DTEND:20060326T000000
SUMMARY:Rivier vs. Albertus Magnus
DESCRIPTION:GNAC Softball - Great Northeast Athletic Conference
LOCATION:Nashua, NH
CATEGORIES:QuickScores; Softball Game
TRANSP:0
DALARM:20060326T000000;PT10M;2;Rivier vs. Albertus Magnus
END:VEVENT
BEGIN:VEVENT
DTSTART:20060326T000000
DTEND:20060326T000000
SUMMARY:Rivier vs. Albertus Magnus
DESCRIPTION:GNAC Softball - Great Northeast Athletic Conference
LOCATION:Nashua, NH
CATEGORIES:QuickScores; Softball Game
TRANSP:0
DALARM:20060326T000000;PT10M;2;Rivier vs. Albertus Magnus
END:VEVENT
BEGIN:VEVENT
DTSTART:20060402T000000
DTEND:20060402T000000
SUMMARY:Albertus Magnus vs. Emerson
DESCRIPTION:GNAC Softball - Great Northeast Athletic Conference
LOCATION:New Haven, CT
CATEGORIES:QuickScores; Softball Game
TRANSP:0
DALARM:20060402T000000;PT10M;2;Albertus Magnus vs. Emerson
END:VEVENT
BEGIN:VEVENT
DTSTART:20060402T000000
DTEND:20060402T000000
SUMMARY:Albertus Magnus vs. Emerson
DESCRIPTION:GNAC Softball - Great Northeast Athletic Conference
LOCATION:New Haven, CT
CATEGORIES:QuickScores; Softball Game
TRANSP:0
DALARM:20060402T000000;PT10M;2;Albertus Magnus vs. Emerson
END:VEVENT
BEGIN:VEVENT
DTSTART:20060407T000000
DTEND:20060407T000000
SUMMARY:Albertus Magnus vs. Western New England
DESCRIPTION:PPD to 4/20 --- GNAC Softball - Great Northeast Athletic Conference
LOCATION:New Haven, CT
CATEGORIES:QuickScores; Softball Game
TRANSP:0
DALARM:20060407T000000;PT10M;2;Albertus Magnus vs. Western New England
END:VEVENT
BEGIN:VEVENT
DTSTART:20060407T000000
DTEND:20060407T000000
SUMMARY:Albertus Magnus vs. Western New England
DESCRIPTION:PPD to 4/20 --- GNAC Softball - Great Northeast Athletic Conference
LOCATION:New Haven, CT
CATEGORIES:QuickScores; Softball Game
TRANSP:0
DALARM:20060407T000000;PT10M;2;Albertus Magnus vs. Western New England
END:VEVENT
BEGIN:VEVENT
DTSTART:20060408T000000
DTEND:20060408T000000
SUMMARY:Pine Manor vs. Albertus Magnus
DESCRIPTION:GNAC Softball - Great Northeast Athletic Conference
LOCATION:Chestnut Hill, MA
CATEGORIES:QuickScores; Softball Game
TRANSP:0
DALARM:20060408T000000;PT10M;2;Pine Manor vs. Albertus Magnus
END:VEVENT
BEGIN:VEVENT
DTSTART:20060408T000000
DTEND:20060408T000000
SUMMARY:Pine Manor vs. Albertus Magnus
DESCRIPTION:GNAC Softball - Great Northeast Athletic Conference
LOCATION:Chestnut Hill, MA
CATEGORIES:QuickScores; Softball Game
TRANSP:0
DALARM:20060408T000000;PT10M;2;Pine Manor vs. Albertus Magnus
END:VEVENT
BEGIN:VEVENT
DTSTART:20060415T000000
DTEND:20060415T000000
SUMMARY:Albertus Magnus vs. Norwich
DESCRIPTION:GNAC Softball - Great Northeast Athletic Conference
LOCATION:New Haven, CT
CATEGORIES:QuickScores; Softball Game
TRANSP:0
DALARM:20060415T000000;PT10M;2;Albertus Magnus vs. Norwich
END:VEVENT
BEGIN:VEVENT
DTSTART:20060415T000000
DTEND:20060415T000000
SUMMARY:Albertus Magnus vs. Norwich
DESCRIPTION:GNAC Softball - Great Northeast Athletic Conference
LOCATION:New Haven, CT
CATEGORIES:QuickScores; Softball Game
TRANSP:0
DALARM:20060415T000000;PT10M;2;Albertus Magnus vs. Norwich
END:VEVENT
BEGIN:VEVENT
DTSTART:20060417T000000
DTEND:20060417T000000
SUMMARY:Albertus Magnus vs. Simmons
DESCRIPTION:GNAC Softball - Great Northeast Athletic Conference
LOCATION:New Haven, CT
CATEGORIES:QuickScores; Softball Game
TRANSP:0
DALARM:20060417T000000;PT10M;2;Albertus Magnus vs. Simmons
END:VEVENT
BEGIN:VEVENT
DTSTART:20060417T000000
DTEND:20060417T000000
SUMMARY:Albertus Magnus vs. Simmons
DESCRIPTION:GNAC Softball - Great Northeast Athletic Conference
LOCATION:New Haven, CT
CATEGORIES:QuickScores; Softball Game
TRANSP:0
DALARM:20060417T000000;PT10M;2;Albertus Magnus vs. Simmons
END:VEVENT
BEGIN:VEVENT
DTSTART:20060418T000000
DTEND:20060418T000000
SUMMARY:Emmanuel vs. Albertus Magnus
DESCRIPTION:GNAC Softball - Great Northeast Athletic Conference
LOCATION:Boston, MA
CATEGORIES:QuickScores; Softball Game
TRANSP:0
DALARM:20060418T000000;PT10M;2;Emmanuel vs. Albertus Magnus
END:VEVENT
BEGIN:VEVENT
DTSTART:20060418T000000
DTEND:20060418T000000
SUMMARY:Emmanuel vs. Albertus Magnus
DESCRIPTION:GNAC Softball - Great Northeast Athletic Conference
LOCATION:Boston, MA
CATEGORIES:QuickScores; Softball Game
TRANSP:0
DALARM:20060418T000000;PT10M;2;Emmanuel vs. Albertus Magnus
END:VEVENT
BEGIN:VEVENT
DTSTART:20060421T000000
DTEND:20060421T000000
SUMMARY:Saint Joseph vs. Albertus Magnus
DESCRIPTION:GNAC Softball - Great Northeast Athletic Conference
LOCATION:W. Hartford, CT
CATEGORIES:QuickScores; Softball Game
TRANSP:0
DALARM:20060421T000000;PT10M;2;Saint Joseph vs. Albertus Magnus
END:VEVENT
BEGIN:VEVENT
DTSTART:20060421T000000
DTEND:20060421T000000
SUMMARY:Saint Joseph vs. Albertus Magnus
DESCRIPTION:GNAC Softball - Great Northeast Athletic Conference
LOCATION:W. Hartford, CT
CATEGORIES:QuickScores; Softball Game
TRANSP:0
DALARM:20060421T000000;PT10M;2;Saint Joseph vs. Albertus Magnus
END:VEVENT
BEGIN:VEVENT
DTSTART:20060422T000000
DTEND:20060422T000000
SUMMARY:Southern Vermont vs. Albertus Magnus
DESCRIPTION:GNAC Softball - Great Northeast Athletic Conference
LOCATION:Bennington, VT
CATEGORIES:QuickScores; Softball Game
TRANSP:0
DALARM:20060422T000000;PT10M;2;Southern Vermont vs. Albertus Magnus
END:VEVENT
BEGIN:VEVENT
DTSTART:20060422T000000
DTEND:20060422T000000
SUMMARY:Southern Vermont vs. Albertus Magnus
DESCRIPTION:GNAC Softball - Great Northeast Athletic Conference
LOCATION:Bennington, VT
CATEGORIES:QuickScores; Softball Game
TRANSP:0
DALARM:20060422T000000;PT10M;2;Southern Vermont vs. Albertus Magnus
END:VEVENT
BEGIN:VEVENT
DTSTART:20060423T000000
DTEND:20060423T000000
SUMMARY:Daniel Webster vs. Albertus Magnus
DESCRIPTION:GNAC Softball - Great Northeast Athletic Conference
LOCATION:Nashua, NH
CATEGORIES:QuickScores; Softball Game
TRANSP:0
DALARM:20060423T000000;PT10M;2;Daniel Webster vs. Albertus Magnus
END:VEVENT
BEGIN:VEVENT
DTSTART:20060423T000000
DTEND:20060423T000000
SUMMARY:Daniel Webster vs. Albertus Magnus
DESCRIPTION:GNAC Softball - Great Northeast Athletic Conference
LOCATION:Nashua, NH
CATEGORIES:QuickScores; Softball Game
TRANSP:0
DALARM:20060423T000000;PT10M;2;Daniel Webster vs. Albertus Magnus
END:VEVENT
END:VCALENDAR
