BEGIN:VCALENDAR
VERSION:1.0
BEGIN:VEVENT
DTSTART:20160109T000000
DTEND:20160109T000000
SUMMARY:Simmons vs. Suffolk
DESCRIPTION:2015-2016 WBB - Great Northeast Athletic Conference
LOCATION:Holmes Sports Center
CATEGORIES:QuickScores; Basketball Game
TRANSP:0
DALARM:20160109T000000;PT10M;2;Simmons vs. Suffolk
END:VEVENT
BEGIN:VEVENT
DTSTART:20160112T000000
DTEND:20160112T000000
SUMMARY:Norwich vs. Simmons
DESCRIPTION:2015-2016 WBB - Great Northeast Athletic Conference
LOCATION:Northfield, VT
CATEGORIES:QuickScores; Basketball Game
TRANSP:0
DALARM:20160112T000000;PT10M;2;Norwich vs. Simmons
END:VEVENT
BEGIN:VEVENT
DTSTART:20160116T000000
DTEND:20160116T000000
SUMMARY:Rivier vs. Simmons
DESCRIPTION:2015-2016 WBB - Great Northeast Athletic Conference
LOCATION:Nashua, NH
CATEGORIES:QuickScores; Basketball Game
TRANSP:0
DALARM:20160116T000000;PT10M;2;Rivier vs. Simmons
END:VEVENT
BEGIN:VEVENT
DTSTART:20160118T000000
DTEND:20160118T000000
SUMMARY:Simmons vs. Saint Joseph CT
DESCRIPTION:MLK Day --- 2015-2016 WBB - Great Northeast Athletic Conference
LOCATION:Holmes Sports Center
CATEGORIES:QuickScores; Basketball Game
TRANSP:0
DALARM:20160118T000000;PT10M;2;Simmons vs. Saint Joseph CT
END:VEVENT
BEGIN:VEVENT
DTSTART:20160123T000000
DTEND:20160123T000000
SUMMARY:Mount Ida vs. Simmons
DESCRIPTION:2015-2016 WBB - Great Northeast Athletic Conference
LOCATION:Mount Ida
CATEGORIES:QuickScores; Basketball Game
TRANSP:0
DALARM:20160123T000000;PT10M;2;Mount Ida vs. Simmons
END:VEVENT
BEGIN:VEVENT
DTSTART:20160128T000000
DTEND:20160128T000000
SUMMARY:Lasell vs. Simmons
DESCRIPTION:2015-2016 WBB - Great Northeast Athletic Conference
LOCATION:Lasell Newton
CATEGORIES:QuickScores; Basketball Game
TRANSP:0
DALARM:20160128T000000;PT10M;2;Lasell vs. Simmons
END:VEVENT
BEGIN:VEVENT
DTSTART:20160130T000000
DTEND:20160130T000000
SUMMARY:Simmons vs. Albertus Magnus
DESCRIPTION:2015-2016 WBB - Great Northeast Athletic Conference
LOCATION:Holmes Sports Center
CATEGORIES:QuickScores; Basketball Game
TRANSP:0
DALARM:20160130T000000;PT10M;2;Simmons vs. Albertus Magnus
END:VEVENT
BEGIN:VEVENT
DTSTART:20160206T000000
DTEND:20160206T000000
SUMMARY:Anna Maria vs. Simmons
DESCRIPTION:2015-2016 WBB - Great Northeast Athletic Conference
LOCATION:Paxton MA
CATEGORIES:QuickScores; Basketball Game
TRANSP:0
DALARM:20160206T000000;PT10M;2;Anna Maria vs. Simmons
END:VEVENT
BEGIN:VEVENT
DTSTART:20160213T000000
DTEND:20160213T000000
SUMMARY:Emmanuel vs. Simmons
DESCRIPTION:2015-2016 WBB - Great Northeast Athletic Conference
LOCATION:Jean Yawkey Center
CATEGORIES:QuickScores; Basketball Game
TRANSP:0
DALARM:20160213T000000;PT10M;2;Emmanuel vs. Simmons
END:VEVENT
BEGIN:VEVENT
DTSTART:20160216T000000
DTEND:20160216T000000
SUMMARY:Simmons vs. Saint Joseph's ME
DESCRIPTION:2015-2016 WBB - Great Northeast Athletic Conference
LOCATION:Holmes Sports Center
CATEGORIES:QuickScores; Basketball Game
TRANSP:0
DALARM:20160216T000000;PT10M;2;Simmons vs. Saint Joseph's ME
END:VEVENT
BEGIN:VEVENT
DTSTART:20160220T000000
DTEND:20160220T000000
SUMMARY:Simmons vs. Johnson & Wales
DESCRIPTION:2015-2016 WBB - Great Northeast Athletic Conference
LOCATION:Holmes Sports Center
CATEGORIES:QuickScores; Basketball Game
TRANSP:0
DALARM:20160220T000000;PT10M;2;Simmons vs. Johnson & Wales
END:VEVENT
END:VCALENDAR
