BEGIN:VCALENDAR
VERSION:1.0
BEGIN:VEVENT
DTSTART:20160109T000000
DTEND:20160109T000000
SUMMARY:Saint Joseph's ME vs. Albertus Magnus
DESCRIPTION:2016 DH w MBB --- 2015-2016 WBB - Great Northeast Athletic Conference
LOCATION:Standish ME
CATEGORIES:QuickScores; Basketball Game
TRANSP:0
DALARM:20160109T000000;PT10M;2;Saint Joseph's ME vs. Albertus Magnus
END:VEVENT
BEGIN:VEVENT
DTSTART:20160116T000000
DTEND:20160116T000000
SUMMARY:Lasell vs. Saint Joseph's ME
DESCRIPTION:2016 DH w MBB --- 2015-2016 WBB - Great Northeast Athletic Conference
LOCATION:Lasell Newton
CATEGORIES:QuickScores; Basketball Game
TRANSP:0
DALARM:20160116T000000;PT10M;2;Lasell vs. Saint Joseph's ME
END:VEVENT
BEGIN:VEVENT
DTSTART:20160118T000000
DTEND:20160118T000000
SUMMARY:Saint Joseph's ME vs. Suffolk
DESCRIPTION:MLK Day. 2016 DH w MBB. --- 2015-2016 WBB - Great Northeast Athletic Conference
LOCATION:Standish ME
CATEGORIES:QuickScores; Basketball Game
TRANSP:0
DALARM:20160118T000000;PT10M;2;Saint Joseph's ME vs. Suffolk
END:VEVENT
BEGIN:VEVENT
DTSTART:20160123T000000
DTEND:20160123T000000
SUMMARY:Johnson & Wales vs. Saint Joseph's ME
DESCRIPTION:2016 DH w MBB --- 2015-2016 WBB - Great Northeast Athletic Conference
LOCATION:Harborside Athletic Center
CATEGORIES:QuickScores; Basketball Game
TRANSP:0
DALARM:20160123T000000;PT10M;2;Johnson & Wales vs. Saint Joseph's ME
END:VEVENT
BEGIN:VEVENT
DTSTART:20160130T000000
DTEND:20160130T000000
SUMMARY:Saint Joseph's ME vs. Saint Joseph CT
DESCRIPTION:2015-2016 WBB - Great Northeast Athletic Conference
LOCATION:Standish ME
CATEGORIES:QuickScores; Basketball Game
TRANSP:0
DALARM:20160130T000000;PT10M;2;Saint Joseph's ME vs. Saint Joseph CT
END:VEVENT
BEGIN:VEVENT
DTSTART:20160202T000000
DTEND:20160202T000000
SUMMARY:Saint Joseph's ME vs. Rivier
DESCRIPTION:2015-2016 WBB - Great Northeast Athletic Conference
LOCATION:Standish ME
CATEGORIES:QuickScores; Basketball Game
TRANSP:0
DALARM:20160202T000000;PT10M;2;Saint Joseph's ME vs. Rivier
END:VEVENT
BEGIN:VEVENT
DTSTART:20160206T000000
DTEND:20160206T000000
SUMMARY:Saint Joseph's ME vs. Mount Ida
DESCRIPTION:2016 DH w MBB --- 2015-2016 WBB - Great Northeast Athletic Conference
LOCATION:Standish ME
CATEGORIES:QuickScores; Basketball Game
TRANSP:0
DALARM:20160206T000000;PT10M;2;Saint Joseph's ME vs. Mount Ida
END:VEVENT
BEGIN:VEVENT
DTSTART:20160209T000000
DTEND:20160209T000000
SUMMARY:Emmanuel vs. Saint Joseph's ME
DESCRIPTION:2015-2016 WBB - Great Northeast Athletic Conference
LOCATION:Jean Yawkey Center
CATEGORIES:QuickScores; Basketball Game
TRANSP:0
DALARM:20160209T000000;PT10M;2;Emmanuel vs. Saint Joseph's ME
END:VEVENT
BEGIN:VEVENT
DTSTART:20160213T000000
DTEND:20160213T000000
SUMMARY:Saint Joseph's ME vs. Norwich
DESCRIPTION:2016 DH w MBB --- 2015-2016 WBB - Great Northeast Athletic Conference
LOCATION:Standish ME
CATEGORIES:QuickScores; Basketball Game
TRANSP:0
DALARM:20160213T000000;PT10M;2;Saint Joseph's ME vs. Norwich
END:VEVENT
BEGIN:VEVENT
DTSTART:20160216T000000
DTEND:20160216T000000
SUMMARY:Simmons vs. Saint Joseph's ME
DESCRIPTION:2015-2016 WBB - Great Northeast Athletic Conference
LOCATION:Holmes Sports Center
CATEGORIES:QuickScores; Basketball Game
TRANSP:0
DALARM:20160216T000000;PT10M;2;Simmons vs. Saint Joseph's ME
END:VEVENT
BEGIN:VEVENT
DTSTART:20160220T000000
DTEND:20160220T000000
SUMMARY:Anna Maria vs. Saint Joseph's ME
DESCRIPTION:2016 DH w MBB --- 2015-2016 WBB - Great Northeast Athletic Conference
LOCATION:Paxton MA
CATEGORIES:QuickScores; Basketball Game
TRANSP:0
DALARM:20160220T000000;PT10M;2;Anna Maria vs. Saint Joseph's ME
END:VEVENT
END:VCALENDAR
