BEGIN:VCALENDAR
VERSION:1.0
BEGIN:VEVENT
DTSTART:20060401T000000
DTEND:20060401T000000
SUMMARY:Suffolk vs. WNEC
DESCRIPTION:Men's - Great Northeast Athletic Conference
LOCATION:Boston, MA
CATEGORIES:QuickScores; Tennis Game
TRANSP:0
DALARM:20060401T000000;PT10M;2;Suffolk vs. WNEC
END:VEVENT
BEGIN:VEVENT
DTSTART:20060408T000000
DTEND:20060408T000000
SUMMARY:Suffolk vs. Albertus Magnus
DESCRIPTION:Men's - Great Northeast Athletic Conference
LOCATION:Boston, MA
CATEGORIES:QuickScores; Tennis Game
TRANSP:0
DALARM:20060408T000000;PT10M;2;Suffolk vs. Albertus Magnus
END:VEVENT
BEGIN:VEVENT
DTSTART:20060411T000000
DTEND:20060411T000000
SUMMARY:Johnson & Wales vs. Suffolk
DESCRIPTION:Men's - Great Northeast Athletic Conference
LOCATION:Providence, RI
CATEGORIES:QuickScores; Tennis Game
TRANSP:0
DALARM:20060411T000000;PT10M;2;Johnson & Wales vs. Suffolk
END:VEVENT
BEGIN:VEVENT
DTSTART:20060415T000000
DTEND:20060415T000000
SUMMARY:Suffolk vs. Emerson
DESCRIPTION:Men's - Great Northeast Athletic Conference
LOCATION:Boston, MA
CATEGORIES:QuickScores; Tennis Game
TRANSP:0
DALARM:20060415T000000;PT10M;2;Suffolk vs. Emerson
END:VEVENT
BEGIN:VEVENT
DTSTART:20060422T000000
DTEND:20060422T000000
SUMMARY:Norwich vs. Suffolk
DESCRIPTION:Men's - Great Northeast Athletic Conference
LOCATION:Northfield, VT
CATEGORIES:QuickScores; Tennis Game
TRANSP:0
DALARM:20060422T000000;PT10M;2;Norwich vs. Suffolk
END:VEVENT
END:VCALENDAR
