BEGIN:VCALENDAR
VERSION:1.0
BEGIN:VEVENT
DTSTART:20150224T000000
DTEND:20150224T000000
SUMMARY:Johnson and Wales vs. Wentworth
DESCRIPTION:2015 Men's Volleyball - Great Northeast Athletic Conference
LOCATION:Harborside Athletic Center
CATEGORIES:QuickScores; Volleyball Game
TRANSP:0
DALARM:20150224T000000;PT10M;2;Johnson and Wales vs. Wentworth
END:VEVENT
BEGIN:VEVENT
DTSTART:20150226T000000
DTEND:20150226T000000
SUMMARY:Emerson vs. Johnson and Wales
DESCRIPTION:2015 Men's Volleyball - Great Northeast Athletic Conference
LOCATION:Bobbi Brown and Steven Plofker Gym
CATEGORIES:QuickScores; Volleyball Game
TRANSP:0
DALARM:20150226T000000;PT10M;2;Emerson vs. Johnson and Wales
END:VEVENT
BEGIN:VEVENT
DTSTART:20150303T000000
DTEND:20150303T000000
SUMMARY:Anna Maria vs. Johnson and Wales
DESCRIPTION:2015 Men's Volleyball - Great Northeast Athletic Conference
LOCATION:Paxton MA
CATEGORIES:QuickScores; Volleyball Game
TRANSP:0
DALARM:20150303T000000;PT10M;2;Anna Maria vs. Johnson and Wales
END:VEVENT
BEGIN:VEVENT
DTSTART:20150305T000000
DTEND:20150305T000000
SUMMARY:Lasell vs. Johnson and Wales
DESCRIPTION:2015 Men's Volleyball - Great Northeast Athletic Conference
LOCATION:Lasell Newton
CATEGORIES:QuickScores; Volleyball Game
TRANSP:0
DALARM:20150305T000000;PT10M;2;Lasell vs. Johnson and Wales
END:VEVENT
BEGIN:VEVENT
DTSTART:20150310T000000
DTEND:20150310T000000
SUMMARY:Albertus Magnus vs. Johnson and Wales
DESCRIPTION:2015 Men's Volleyball - Great Northeast Athletic Conference
LOCATION:New Haven, CT
CATEGORIES:QuickScores; Volleyball Game
TRANSP:0
DALARM:20150310T000000;PT10M;2;Albertus Magnus vs. Johnson and Wales
END:VEVENT
BEGIN:VEVENT
DTSTART:20150317T000000
DTEND:20150317T000000
SUMMARY:Johnson and Wales vs. Anna Maria
DESCRIPTION:2015 Men's Volleyball - Great Northeast Athletic Conference
LOCATION:Harborside Athletic Center
CATEGORIES:QuickScores; Volleyball Game
TRANSP:0
DALARM:20150317T000000;PT10M;2;Johnson and Wales vs. Anna Maria
END:VEVENT
BEGIN:VEVENT
DTSTART:20150319T000000
DTEND:20150319T000000
SUMMARY:Johnson and Wales vs. Mount Ida
DESCRIPTION:2015 Men's Volleyball - Great Northeast Athletic Conference
LOCATION:Harborside Athletic Center
CATEGORIES:QuickScores; Volleyball Game
TRANSP:0
DALARM:20150319T000000;PT10M;2;Johnson and Wales vs. Mount Ida
END:VEVENT
BEGIN:VEVENT
DTSTART:20150321T000000
DTEND:20150321T000000
SUMMARY:Johnson and Wales vs. Rivier
DESCRIPTION:2015 Men's Volleyball - Great Northeast Athletic Conference
LOCATION:Harborside Athletic Center
CATEGORIES:QuickScores; Volleyball Game
TRANSP:0
DALARM:20150321T000000;PT10M;2;Johnson and Wales vs. Rivier
END:VEVENT
BEGIN:VEVENT
DTSTART:20150321T000000
DTEND:20150321T000000
SUMMARY:Johnson and Wales vs. Lasell
DESCRIPTION:2015 Men's Volleyball - Great Northeast Athletic Conference
LOCATION:Harborside Athletic Center
CATEGORIES:QuickScores; Volleyball Game
TRANSP:0
DALARM:20150321T000000;PT10M;2;Johnson and Wales vs. Lasell
END:VEVENT
BEGIN:VEVENT
DTSTART:20150326T000000
DTEND:20150326T000000
SUMMARY:Johnson and Wales vs. Emmanuel
DESCRIPTION:2015 Men's Volleyball - Great Northeast Athletic Conference
LOCATION:Harborside Athletic Center
CATEGORIES:QuickScores; Volleyball Game
TRANSP:0
DALARM:20150326T000000;PT10M;2;Johnson and Wales vs. Emmanuel
END:VEVENT
BEGIN:VEVENT
DTSTART:20150328T000000
DTEND:20150328T000000
SUMMARY:Wentworth vs. Johnson and Wales
DESCRIPTION:2015 Men's Volleyball - Great Northeast Athletic Conference
LOCATION:Wentworth
CATEGORIES:QuickScores; Volleyball Game
TRANSP:0
DALARM:20150328T000000;PT10M;2;Wentworth vs. Johnson and Wales
END:VEVENT
BEGIN:VEVENT
DTSTART:20150328T000000
DTEND:20150328T000000
SUMMARY:Johnson and Wales vs. Emerson
DESCRIPTION:2015 Men's Volleyball - Great Northeast Athletic Conference
LOCATION:Wentworth
CATEGORIES:QuickScores; Volleyball Game
TRANSP:0
DALARM:20150328T000000;PT10M;2;Johnson and Wales vs. Emerson
END:VEVENT
BEGIN:VEVENT
DTSTART:20150331T000000
DTEND:20150331T000000
SUMMARY:Johnson and Wales vs. Albertus Magnus
DESCRIPTION:2015 Men's Volleyball - Great Northeast Athletic Conference
LOCATION:Harborside Athletic Center
CATEGORIES:QuickScores; Volleyball Game
TRANSP:0
DALARM:20150331T000000;PT10M;2;Johnson and Wales vs. Albertus Magnus
END:VEVENT
BEGIN:VEVENT
DTSTART:20150402T000000
DTEND:20150402T000000
SUMMARY:Rivier vs. Johnson and Wales
DESCRIPTION:2015 Men's Volleyball - Great Northeast Athletic Conference
LOCATION:Nashua, NH
CATEGORIES:QuickScores; Volleyball Game
TRANSP:0
DALARM:20150402T000000;PT10M;2;Rivier vs. Johnson and Wales
END:VEVENT
BEGIN:VEVENT
DTSTART:20150404T000000
DTEND:20150404T000000
SUMMARY:Emmanuel vs. Johnson and Wales
DESCRIPTION:2015 Men's Volleyball - Great Northeast Athletic Conference
LOCATION:Mount Ida
CATEGORIES:QuickScores; Volleyball Game
TRANSP:0
DALARM:20150404T000000;PT10M;2;Emmanuel vs. Johnson and Wales
END:VEVENT
BEGIN:VEVENT
DTSTART:20150404T000000
DTEND:20150404T000000
SUMMARY:Mount Ida vs. Johnson and Wales
DESCRIPTION:2015 Men's Volleyball - Great Northeast Athletic Conference
LOCATION:Mount Ida
CATEGORIES:QuickScores; Volleyball Game
TRANSP:0
DALARM:20150404T000000;PT10M;2;Mount Ida vs. Johnson and Wales
END:VEVENT
END:VCALENDAR
