BEGIN:VCALENDAR
VERSION:1.0
BEGIN:VEVENT
DTSTART:20140913T000000
DTEND:20140913T000000
SUMMARY:Suffolk vs. Rivier
DESCRIPTION:2014 Men's Soccer - Great Northeast Athletic Conference
LOCATION:Suffolk
CATEGORIES:QuickScores; Soccer Game
TRANSP:0
DALARM:20140913T000000;PT10M;2;Suffolk vs. Rivier
END:VEVENT
BEGIN:VEVENT
DTSTART:20140920T000000
DTEND:20140920T000000
SUMMARY:Emmanuel vs. Rivier
DESCRIPTION:2014 Men's Soccer - Great Northeast Athletic Conference
LOCATION:Roberto Clemente Field
CATEGORIES:QuickScores; Soccer Game
TRANSP:0
DALARM:20140920T000000;PT10M;2;Emmanuel vs. Rivier
END:VEVENT
BEGIN:VEVENT
DTSTART:20140927T000000
DTEND:20140927T000000
SUMMARY:Rivier vs. Mount Ida
DESCRIPTION:Ida has home football on Saturday --- 2014 Men's Soccer - Great Northeast Athletic Conference
LOCATION:Nashua, NH
CATEGORIES:QuickScores; Soccer Game
TRANSP:0
DALARM:20140927T000000;PT10M;2;Rivier vs. Mount Ida
END:VEVENT
BEGIN:VEVENT
DTSTART:20141004T000000
DTEND:20141004T000000
SUMMARY:Rivier vs. Albertus Magnus
DESCRIPTION:2014 Men's Soccer - Great Northeast Athletic Conference
LOCATION:Nashua, NH
CATEGORIES:QuickScores; Soccer Game
TRANSP:0
DALARM:20141004T000000;PT10M;2;Rivier vs. Albertus Magnus
END:VEVENT
BEGIN:VEVENT
DTSTART:20141011T000000
DTEND:20141011T000000
SUMMARY:Lasell vs. Rivier
DESCRIPTION:2014 Men's Soccer - Great Northeast Athletic Conference
LOCATION:Taylor Field at Lasell College
CATEGORIES:QuickScores; Soccer Game
TRANSP:0
DALARM:20141011T000000;PT10M;2;Lasell vs. Rivier
END:VEVENT
BEGIN:VEVENT
DTSTART:20141013T000000
DTEND:20141013T000000
SUMMARY:Rivier vs. Saint Joseph ME
DESCRIPTION:2014 DH. STJME MS & WS can share a bus --- 2014 Men's Soccer - Great Northeast Athletic Conference
LOCATION:Nashua, NH
CATEGORIES:QuickScores; Soccer Game
TRANSP:0
DALARM:20141013T000000;PT10M;2;Rivier vs. Saint Joseph ME
END:VEVENT
BEGIN:VEVENT
DTSTART:20141018T000000
DTEND:20141018T000000
SUMMARY:Rivier vs. Norwich
DESCRIPTION:2014 DH w WS. NOR could share a bus. --- 2014 Men's Soccer - Great Northeast Athletic Conference
LOCATION:Nashua, NH
CATEGORIES:QuickScores; Soccer Game
TRANSP:0
DALARM:20141018T000000;PT10M;2;Rivier vs. Norwich
END:VEVENT
BEGIN:VEVENT
DTSTART:20141022T000000
DTEND:20141022T000000
SUMMARY:Anna Maria vs. Rivier
DESCRIPTION:2014 Men's Soccer - Great Northeast Athletic Conference
LOCATION:Paxton MA
CATEGORIES:QuickScores; Soccer Game
TRANSP:0
DALARM:20141022T000000;PT10M;2;Anna Maria vs. Rivier
END:VEVENT
BEGIN:VEVENT
DTSTART:20141025T000000
DTEND:20141025T000000
SUMMARY:Johnson & Wales vs. Rivier
DESCRIPTION:2014 Men's Soccer - Great Northeast Athletic Conference
LOCATION:Providence, RI
CATEGORIES:QuickScores; Soccer Game
TRANSP:0
DALARM:20141025T000000;PT10M;2;Johnson & Wales vs. Rivier
END:VEVENT
END:VCALENDAR
