BEGIN:VCALENDAR
VERSION:1.0
BEGIN:VEVENT
DTSTART:20090321T000000
DTEND:20090321T000000
SUMMARY:Johnson & Wales vs. Norwich
DESCRIPTION:Softball - Great Northeast Athletic Conference
LOCATION:Providence, RI
CATEGORIES:QuickScores; Softball Game
TRANSP:0
DALARM:20090321T000000;PT10M;2;Johnson & Wales vs. Norwich
END:VEVENT
BEGIN:VEVENT
DTSTART:20090322T000000
DTEND:20090322T000000
SUMMARY:Emerson vs. Johnson & Wales
DESCRIPTION:Rotch @ 10AM & 12 --- Softball - Great Northeast Athletic Conference
LOCATION:Rotch Field
CATEGORIES:QuickScores; Softball Game
TRANSP:0
DALARM:20090322T000000;PT10M;2;Emerson vs. Johnson & Wales
END:VEVENT
BEGIN:VEVENT
DTSTART:20090327T000000
DTEND:20090327T000000
SUMMARY:Johnson & Wales vs. Lasell
DESCRIPTION:Softball - Great Northeast Athletic Conference
LOCATION:Providence, RI
CATEGORIES:QuickScores; Softball Game
TRANSP:0
DALARM:20090327T000000;PT10M;2;Johnson & Wales vs. Lasell
END:VEVENT
BEGIN:VEVENT
DTSTART:20090328T000000
DTEND:20090328T000000
SUMMARY:Suffolk vs. Johnson & Wales
DESCRIPTION:Softball - Great Northeast Athletic Conference
LOCATION:Rotch Field
CATEGORIES:QuickScores; Softball Game
TRANSP:0
DALARM:20090328T000000;PT10M;2;Suffolk vs. Johnson & Wales
END:VEVENT
BEGIN:VEVENT
DTSTART:20090329T000000
DTEND:20090329T000000
SUMMARY:Johnson & Wales vs. Pine Manor
DESCRIPTION:Softball - Great Northeast Athletic Conference
LOCATION:Providence, RI
CATEGORIES:QuickScores; Softball Game
TRANSP:0
DALARM:20090329T000000;PT10M;2;Johnson & Wales vs. Pine Manor
END:VEVENT
BEGIN:VEVENT
DTSTART:20090403T000000
DTEND:20090403T000000
SUMMARY:Johnson & Wales vs. Albertus Magnus
DESCRIPTION:Softball - Great Northeast Athletic Conference
LOCATION:Providence, RI
CATEGORIES:QuickScores; Softball Game
TRANSP:0
DALARM:20090403T000000;PT10M;2;Johnson & Wales vs. Albertus Magnus
END:VEVENT
BEGIN:VEVENT
DTSTART:20090405T000000
DTEND:20090405T000000
SUMMARY:Johnson & Wales vs. Saint Joseph's ME
DESCRIPTION:Softball - Great Northeast Athletic Conference
LOCATION:Providence, RI
CATEGORIES:QuickScores; Softball Game
TRANSP:0
DALARM:20090405T000000;PT10M;2;Johnson & Wales vs. Saint Joseph's ME
END:VEVENT
BEGIN:VEVENT
DTSTART:20090411T000000
DTEND:20090411T000000
SUMMARY:Mount Ida vs. Johnson & Wales
DESCRIPTION:Softball - Great Northeast Athletic Conference
LOCATION:Mount Ida
CATEGORIES:QuickScores; Softball Game
TRANSP:0
DALARM:20090411T000000;PT10M;2;Mount Ida vs. Johnson & Wales
END:VEVENT
BEGIN:VEVENT
DTSTART:20090414T000000
DTEND:20090414T000000
SUMMARY:Saint Joseph CT vs. Johnson & Wales
DESCRIPTION:Softball - Great Northeast Athletic Conference
LOCATION:W. Hartford, CT
CATEGORIES:QuickScores; Softball Game
TRANSP:0
DALARM:20090414T000000;PT10M;2;Saint Joseph CT vs. Johnson & Wales
END:VEVENT
BEGIN:VEVENT
DTSTART:20090417T000000
DTEND:20090417T000000
SUMMARY:Simmons vs. Johnson & Wales
DESCRIPTION:Softball - Great Northeast Athletic Conference
LOCATION:Simmons
CATEGORIES:QuickScores; Softball Game
TRANSP:0
DALARM:20090417T000000;PT10M;2;Simmons vs. Johnson & Wales
END:VEVENT
BEGIN:VEVENT
DTSTART:20090418T000000
DTEND:20090418T000000
SUMMARY:Johnson & Wales vs. Emmanuel
DESCRIPTION:Softball - Great Northeast Athletic Conference
LOCATION:Providence, RI
CATEGORIES:QuickScores; Softball Game
TRANSP:0
DALARM:20090418T000000;PT10M;2;Johnson & Wales vs. Emmanuel
END:VEVENT
BEGIN:VEVENT
DTSTART:20090419T000000
DTEND:20090419T000000
SUMMARY:Rivier vs. Johnson & Wales
DESCRIPTION:Softball - Great Northeast Athletic Conference
LOCATION:Nashua, NH
CATEGORIES:QuickScores; Softball Game
TRANSP:0
DALARM:20090419T000000;PT10M;2;Rivier vs. Johnson & Wales
END:VEVENT
END:VCALENDAR
