BEGIN:VCALENDAR
VERSION:1.0
BEGIN:VEVENT
DTSTART:20140227T000000
DTEND:20140227T000000
SUMMARY:Mount Ida vs. Rivier
DESCRIPTION:2014 Men's Volleyball 3/3/13 - Great Northeast Athletic Conference
LOCATION:Mount Ida
CATEGORIES:QuickScores; Volleyball Game
TRANSP:0
DALARM:20140227T000000;PT10M;2;Mount Ida vs. Rivier
END:VEVENT
BEGIN:VEVENT
DTSTART:20140301T000000
DTEND:20140301T000000
SUMMARY:Mount Ida vs. Johnson and Wales
DESCRIPTION:2014 Men's Volleyball 3/3/13 - Great Northeast Athletic Conference
LOCATION:Mount Ida
CATEGORIES:QuickScores; Volleyball Game
TRANSP:0
DALARM:20140301T000000;PT10M;2;Mount Ida vs. Johnson and Wales
END:VEVENT
BEGIN:VEVENT
DTSTART:20140306T000000
DTEND:20140306T000000
SUMMARY:Mount Ida vs. Emerson
DESCRIPTION:2014 Men's Volleyball 3/3/13 - Great Northeast Athletic Conference
LOCATION:Mount Ida
CATEGORIES:QuickScores; Volleyball Game
TRANSP:0
DALARM:20140306T000000;PT10M;2;Mount Ida vs. Emerson
END:VEVENT
BEGIN:VEVENT
DTSTART:20140313T000000
DTEND:20140313T000000
SUMMARY:Albertus Magnus vs. Mount Ida
DESCRIPTION:2014 Men's Volleyball 3/3/13 - Great Northeast Athletic Conference
LOCATION:New Haven, CT
CATEGORIES:QuickScores; Volleyball Game
TRANSP:0
DALARM:20140313T000000;PT10M;2;Albertus Magnus vs. Mount Ida
END:VEVENT
BEGIN:VEVENT
DTSTART:20140318T000000
DTEND:20140318T000000
SUMMARY:Wentworth vs. Mount Ida
DESCRIPTION:2014 Men's Volleyball 3/3/13 - Great Northeast Athletic Conference
LOCATION:Wentworth
CATEGORIES:QuickScores; Volleyball Game
TRANSP:0
DALARM:20140318T000000;PT10M;2;Wentworth vs. Mount Ida
END:VEVENT
BEGIN:VEVENT
DTSTART:20140320T000000
DTEND:20140320T000000
SUMMARY:Mount Ida vs. Anna Maria
DESCRIPTION:2014 Men's Volleyball 3/3/13 - Great Northeast Athletic Conference
LOCATION:Mount Ida
CATEGORIES:QuickScores; Volleyball Game
TRANSP:0
DALARM:20140320T000000;PT10M;2;Mount Ida vs. Anna Maria
END:VEVENT
BEGIN:VEVENT
DTSTART:20140322T000000
DTEND:20140322T000000
SUMMARY:Lasell vs. Mount Ida
DESCRIPTION:2014 Men's Volleyball 3/3/13 - Great Northeast Athletic Conference
LOCATION:Paxton MA
CATEGORIES:QuickScores; Volleyball Game
TRANSP:0
DALARM:20140322T000000;PT10M;2;Lasell vs. Mount Ida
END:VEVENT
BEGIN:VEVENT
DTSTART:20140322T000000
DTEND:20140322T000000
SUMMARY:Anna Maria vs. Mount Ida
DESCRIPTION:2014 Men's Volleyball 3/3/13 - Great Northeast Athletic Conference
LOCATION:Paxton MA
CATEGORIES:QuickScores; Volleyball Game
TRANSP:0
DALARM:20140322T000000;PT10M;2;Anna Maria vs. Mount Ida
END:VEVENT
BEGIN:VEVENT
DTSTART:20140325T000000
DTEND:20140325T000000
SUMMARY:Mount Ida vs. Emmanuel
DESCRIPTION:2014 Men's Volleyball 3/3/13 - Great Northeast Athletic Conference
LOCATION:Mount Ida
CATEGORIES:QuickScores; Volleyball Game
TRANSP:0
DALARM:20140325T000000;PT10M;2;Mount Ida vs. Emmanuel
END:VEVENT
BEGIN:VEVENT
DTSTART:20140327T000000
DTEND:20140327T000000
SUMMARY:Emerson vs. Mount Ida
DESCRIPTION:2014 Men's Volleyball 3/3/13 - Great Northeast Athletic Conference
LOCATION:Bobbi Brown and Steven Plofker Gym
CATEGORIES:QuickScores; Volleyball Game
TRANSP:0
DALARM:20140327T000000;PT10M;2;Emerson vs. Mount Ida
END:VEVENT
BEGIN:VEVENT
DTSTART:20140329T000000
DTEND:20140329T000000
SUMMARY:Mount Ida vs. Albertus Magnus
DESCRIPTION:2014 Men's Volleyball 3/3/13 - Great Northeast Athletic Conference
LOCATION:Mount Ida
CATEGORIES:QuickScores; Volleyball Game
TRANSP:0
DALARM:20140329T000000;PT10M;2;Mount Ida vs. Albertus Magnus
END:VEVENT
BEGIN:VEVENT
DTSTART:20140329T000000
DTEND:20140329T000000
SUMMARY:Mount Ida vs. Wentworth
DESCRIPTION:2014 Men's Volleyball 3/3/13 - Great Northeast Athletic Conference
LOCATION:Mount Ida
CATEGORIES:QuickScores; Volleyball Game
TRANSP:0
DALARM:20140329T000000;PT10M;2;Mount Ida vs. Wentworth
END:VEVENT
BEGIN:VEVENT
DTSTART:20140401T000000
DTEND:20140401T000000
SUMMARY:Rivier vs. Mount Ida
DESCRIPTION:2014 Men's Volleyball 3/3/13 - Great Northeast Athletic Conference
LOCATION:Nashua, NH
CATEGORIES:QuickScores; Volleyball Game
TRANSP:0
DALARM:20140401T000000;PT10M;2;Rivier vs. Mount Ida
END:VEVENT
BEGIN:VEVENT
DTSTART:20140403T000000
DTEND:20140403T000000
SUMMARY:Mount Ida vs. Lasell
DESCRIPTION:2014 Men's Volleyball 3/3/13 - Great Northeast Athletic Conference
LOCATION:Mount Ida
CATEGORIES:QuickScores; Volleyball Game
TRANSP:0
DALARM:20140403T000000;PT10M;2;Mount Ida vs. Lasell
END:VEVENT
BEGIN:VEVENT
DTSTART:20140405T000000
DTEND:20140405T000000
SUMMARY:Johnson and Wales vs. Mount Ida
DESCRIPTION:2014 Men's Volleyball 3/3/13 - Great Northeast Athletic Conference
LOCATION:Harborside Athletic Center
CATEGORIES:QuickScores; Volleyball Game
TRANSP:0
DALARM:20140405T000000;PT10M;2;Johnson and Wales vs. Mount Ida
END:VEVENT
BEGIN:VEVENT
DTSTART:20140405T000000
DTEND:20140405T000000
SUMMARY:Emmanuel vs. Mount Ida
DESCRIPTION:2014 Men's Volleyball 3/3/13 - Great Northeast Athletic Conference
LOCATION:Harborside Athletic Center
CATEGORIES:QuickScores; Volleyball Game
TRANSP:0
DALARM:20140405T000000;PT10M;2;Emmanuel vs. Mount Ida
END:VEVENT
END:VCALENDAR
