BEGIN:VCALENDAR
VERSION:1.0
BEGIN:VEVENT
DTSTART:20120908T000000
DTEND:20120908T000000
SUMMARY:Emmanuel vs. Lasell
DESCRIPTION:2012 Men's Soccer - Great Northeast Athletic Conference
LOCATION:Roberto Clemente Field
CATEGORIES:QuickScores; Soccer Game
TRANSP:0
DALARM:20120908T000000;PT10M;2;Emmanuel vs. Lasell
END:VEVENT
BEGIN:VEVENT
DTSTART:20120919T000000
DTEND:20120919T000000
SUMMARY:Lasell vs. Norwich
DESCRIPTION:2012 Men's Soccer - Great Northeast Athletic Conference
LOCATION:Lasell Newton
CATEGORIES:QuickScores; Soccer Game
TRANSP:0
DALARM:20120919T000000;PT10M;2;Lasell vs. Norwich
END:VEVENT
BEGIN:VEVENT
DTSTART:20120922T000000
DTEND:20120922T000000
SUMMARY:Lasell vs. Mount Ida
DESCRIPTION:2012 Men's Soccer - Great Northeast Athletic Conference
LOCATION:Lasell Newton
CATEGORIES:QuickScores; Soccer Game
TRANSP:0
DALARM:20120922T000000;PT10M;2;Lasell vs. Mount Ida
END:VEVENT
BEGIN:VEVENT
DTSTART:20120929T000000
DTEND:20120929T000000
SUMMARY:Lasell vs. Rivier
DESCRIPTION:2012 Men's Soccer - Great Northeast Athletic Conference
LOCATION:Lasell Newton
CATEGORIES:QuickScores; Soccer Game
TRANSP:0
DALARM:20120929T000000;PT10M;2;Lasell vs. Rivier
END:VEVENT
BEGIN:VEVENT
DTSTART:20121003T000000
DTEND:20121003T000000
SUMMARY:Emerson vs. Lasell
DESCRIPTION:2012 Men's Soccer - Great Northeast Athletic Conference
LOCATION:Rotch Field
CATEGORIES:QuickScores; Soccer Game
TRANSP:0
DALARM:20121003T000000;PT10M;2;Emerson vs. Lasell
END:VEVENT
BEGIN:VEVENT
DTSTART:20121006T000000
DTEND:20121006T000000
SUMMARY:Anna Maria vs. Lasell
DESCRIPTION:no DH possible --- 2012 Men's Soccer - Great Northeast Athletic Conference
LOCATION:Paxton MA
CATEGORIES:QuickScores; Soccer Game
TRANSP:0
DALARM:20121006T000000;PT10M;2;Anna Maria vs. Lasell
END:VEVENT
BEGIN:VEVENT
DTSTART:20121008T000000
DTEND:20121008T000000
SUMMARY:Lasell vs. Johnson & Wales
DESCRIPTION:Columbus Day 2012. JWU can share a bus with WS going to EMM --- 2012 Men's Soccer - Great Northeast Athletic Conference
LOCATION:Lasell Newton
CATEGORIES:QuickScores; Soccer Game
TRANSP:0
DALARM:20121008T000000;PT10M;2;Lasell vs. Johnson & Wales
END:VEVENT
BEGIN:VEVENT
DTSTART:20121013T000000
DTEND:20121013T000000
SUMMARY:Lasell vs. Albertus Magnus
DESCRIPTION:LAS Family Weekend 2012. DH MS & WS can share a bus. --- 2012 Men's Soccer - Great Northeast Athletic Conference
LOCATION:Lasell Newton
CATEGORIES:QuickScores; Soccer Game
TRANSP:0
DALARM:20121013T000000;PT10M;2;Lasell vs. Albertus Magnus
END:VEVENT
BEGIN:VEVENT
DTSTART:20121017T000000
DTEND:20121017T000000
SUMMARY:Suffolk vs. Lasell
DESCRIPTION:2012 Men's Soccer - Great Northeast Athletic Conference
LOCATION:Dilboy Stadium Somerville
CATEGORIES:QuickScores; Soccer Game
TRANSP:0
DALARM:20121017T000000;PT10M;2;Suffolk vs. Lasell
END:VEVENT
BEGIN:VEVENT
DTSTART:20121020T000000
DTEND:20121020T000000
SUMMARY:Saint Joseph ME vs. Lasell
DESCRIPTION:2012 STJME Homecoming. DH LAS MS &WS can share a bus --- 2012 Men's Soccer - Great Northeast Athletic Conference
LOCATION:Standish ME
CATEGORIES:QuickScores; Soccer Game
TRANSP:0
DALARM:20121020T000000;PT10M;2;Saint Joseph ME vs. Lasell
END:VEVENT
END:VCALENDAR
