BEGIN:VCALENDAR
VERSION:1.0
BEGIN:VEVENT
DTSTART:20120915T000000
DTEND:20120915T000000
SUMMARY:Emerson vs. Albertus Magnus
DESCRIPTION:EME 2012 Homecoming. AMC MS, WS and WT can share a bus --- 2012 Men's Soccer - Great Northeast Athletic Conference
LOCATION:Rotch Field
CATEGORIES:QuickScores; Soccer Game
TRANSP:0
DALARM:20120915T000000;PT10M;2;Emerson vs. Albertus Magnus
END:VEVENT
BEGIN:VEVENT
DTSTART:20120922T000000
DTEND:20120922T000000
SUMMARY:Saint Joseph ME vs. Emerson
DESCRIPTION:STJME Homecoming. DH MS & WS can share a bus --- 2012 Men's Soccer - Great Northeast Athletic Conference
LOCATION:Standish ME
CATEGORIES:QuickScores; Soccer Game
TRANSP:0
DALARM:20120922T000000;PT10M;2;Saint Joseph ME vs. Emerson
END:VEVENT
BEGIN:VEVENT
DTSTART:20120925T000000
DTEND:20120925T000000
SUMMARY:Johnson & Wales vs. Emerson
DESCRIPTION:2012 Men's Soccer - Great Northeast Athletic Conference
LOCATION:Providence, RI
CATEGORIES:QuickScores; Soccer Game
TRANSP:0
DALARM:20120925T000000;PT10M;2;Johnson & Wales vs. Emerson
END:VEVENT
BEGIN:VEVENT
DTSTART:20120929T000000
DTEND:20120929T000000
SUMMARY:Emerson vs. Suffolk
DESCRIPTION:2012 Men's Soccer - Great Northeast Athletic Conference
LOCATION:Rotch Field
CATEGORIES:QuickScores; Soccer Game
TRANSP:0
DALARM:20120929T000000;PT10M;2;Emerson vs. Suffolk
END:VEVENT
BEGIN:VEVENT
DTSTART:20121003T000000
DTEND:20121003T000000
SUMMARY:Emerson vs. Lasell
DESCRIPTION:2012 Men's Soccer - Great Northeast Athletic Conference
LOCATION:Rotch Field
CATEGORIES:QuickScores; Soccer Game
TRANSP:0
DALARM:20121003T000000;PT10M;2;Emerson vs. Lasell
END:VEVENT
BEGIN:VEVENT
DTSTART:20121006T000000
DTEND:20121006T000000
SUMMARY:Emmanuel vs. Emerson
DESCRIPTION:2012 Men's Soccer - Great Northeast Athletic Conference
LOCATION:Roberto Clemente Field
CATEGORIES:QuickScores; Soccer Game
TRANSP:0
DALARM:20121006T000000;PT10M;2;Emmanuel vs. Emerson
END:VEVENT
BEGIN:VEVENT
DTSTART:20121008T000000
DTEND:20121008T000000
SUMMARY:Rivier vs. Emerson
DESCRIPTION:Columbus Day 2012. Triple Header WVB, MS & WS can share a bus --- 2012 Men's Soccer - Great Northeast Athletic Conference
LOCATION:Nashua, NH
CATEGORIES:QuickScores; Soccer Game
TRANSP:0
DALARM:20121008T000000;PT10M;2;Rivier vs. Emerson
END:VEVENT
BEGIN:VEVENT
DTSTART:20121013T000000
DTEND:20121013T000000
SUMMARY:Emerson vs. Norwich
DESCRIPTION:2012 DH. MS&WS can share a bus --- 2012 Men's Soccer - Great Northeast Athletic Conference
LOCATION:Rotch Field
CATEGORIES:QuickScores; Soccer Game
TRANSP:0
DALARM:20121013T000000;PT10M;2;Emerson vs. Norwich
END:VEVENT
BEGIN:VEVENT
DTSTART:20121017T000000
DTEND:20121017T000000
SUMMARY:Emerson vs. Anna Maria
DESCRIPTION:2012 Men's Soccer - Great Northeast Athletic Conference
LOCATION:Rotch Field
CATEGORIES:QuickScores; Soccer Game
TRANSP:0
DALARM:20121017T000000;PT10M;2;Emerson vs. Anna Maria
END:VEVENT
BEGIN:VEVENT
DTSTART:20121021T000000
DTEND:20121021T000000
SUMMARY:Mount Ida vs. Emerson
DESCRIPTION:IDA has home football on Saturday --- 2012 Men's Soccer - Great Northeast Athletic Conference
LOCATION:Mount Ida
CATEGORIES:QuickScores; Soccer Game
TRANSP:0
DALARM:20121021T000000;PT10M;2;Mount Ida vs. Emerson
END:VEVENT
END:VCALENDAR
