BEGIN:VCALENDAR
VERSION:1.0
BEGIN:VEVENT
DTSTART:20120908T000000
DTEND:20120908T000000
SUMMARY:Albertus Magnus vs. Mount Ida
DESCRIPTION:No DH possible --- 2012 Men's Soccer - Great Northeast Athletic Conference
LOCATION:New Haven, CT
CATEGORIES:QuickScores; Soccer Game
TRANSP:0
DALARM:20120908T000000;PT10M;2;Albertus Magnus vs. Mount Ida
END:VEVENT
BEGIN:VEVENT
DTSTART:20120912T000000
DTEND:20120912T000000
SUMMARY:Albertus Magnus vs. Saint Joseph ME
DESCRIPTION:2012 Men's Soccer - Great Northeast Athletic Conference
LOCATION:New Haven, CT
CATEGORIES:QuickScores; Soccer Game
TRANSP:0
DALARM:20120912T000000;PT10M;2;Albertus Magnus vs. Saint Joseph ME
END:VEVENT
BEGIN:VEVENT
DTSTART:20120915T000000
DTEND:20120915T000000
SUMMARY:Emerson vs. Albertus Magnus
DESCRIPTION:EME 2012 Homecoming. AMC MS, WS and WT can share a bus --- 2012 Men's Soccer - Great Northeast Athletic Conference
LOCATION:Rotch Field
CATEGORIES:QuickScores; Soccer Game
TRANSP:0
DALARM:20120915T000000;PT10M;2;Emerson vs. Albertus Magnus
END:VEVENT
BEGIN:VEVENT
DTSTART:20120919T000000
DTEND:20120919T000000
SUMMARY:Anna Maria vs. Albertus Magnus
DESCRIPTION:AMC can share a bus w WS --- 2012 Men's Soccer - Great Northeast Athletic Conference
LOCATION:Paxton MA
CATEGORIES:QuickScores; Soccer Game
TRANSP:0
DALARM:20120919T000000;PT10M;2;Anna Maria vs. Albertus Magnus
END:VEVENT
BEGIN:VEVENT
DTSTART:20120922T000000
DTEND:20120922T000000
SUMMARY:Rivier vs. Albertus Magnus
DESCRIPTION:No DH possible. Opposite sites --- 2012 Men's Soccer - Great Northeast Athletic Conference
LOCATION:Nashua, NH
CATEGORIES:QuickScores; Soccer Game
TRANSP:0
DALARM:20120922T000000;PT10M;2;Rivier vs. Albertus Magnus
END:VEVENT
BEGIN:VEVENT
DTSTART:20120929T000000
DTEND:20120929T000000
SUMMARY:Albertus Magnus vs. Norwich
DESCRIPTION:2012 DH. MS & WS can share a bus --- 2012 Men's Soccer - Great Northeast Athletic Conference
LOCATION:New Haven, CT
CATEGORIES:QuickScores; Soccer Game
TRANSP:0
DALARM:20120929T000000;PT10M;2;Albertus Magnus vs. Norwich
END:VEVENT
BEGIN:VEVENT
DTSTART:20121006T000000
DTEND:20121006T000000
SUMMARY:Johnson & Wales vs. Albertus Magnus
DESCRIPTION:JWU 2012 Homecoming. DH MS&WS can share a bus --- 2012 Men's Soccer - Great Northeast Athletic Conference
LOCATION:Providence, RI
CATEGORIES:QuickScores; Soccer Game
TRANSP:0
DALARM:20121006T000000;PT10M;2;Johnson & Wales vs. Albertus Magnus
END:VEVENT
BEGIN:VEVENT
DTSTART:20121008T000000
DTEND:20121008T000000
SUMMARY:Albertus Magnus vs. Suffolk
DESCRIPTION:Columbus Day 2012. Triple Header WVB, MS & WS can share a bus --- 2012 Men's Soccer - Great Northeast Athletic Conference
LOCATION:New Haven, CT
CATEGORIES:QuickScores; Soccer Game
TRANSP:0
DALARM:20121008T000000;PT10M;2;Albertus Magnus vs. Suffolk
END:VEVENT
BEGIN:VEVENT
DTSTART:20121013T000000
DTEND:20121013T000000
SUMMARY:Lasell vs. Albertus Magnus
DESCRIPTION:LAS Family Weekend 2012. DH MS & WS can share a bus. --- 2012 Men's Soccer - Great Northeast Athletic Conference
LOCATION:Lasell Newton
CATEGORIES:QuickScores; Soccer Game
TRANSP:0
DALARM:20121013T000000;PT10M;2;Lasell vs. Albertus Magnus
END:VEVENT
BEGIN:VEVENT
DTSTART:20121020T000000
DTEND:20121020T000000
SUMMARY:Albertus Magnus vs. Emmanuel
DESCRIPTION:2012 AMC Homecoming. DH EMM MS & WS can share a bus --- 2012 Men's Soccer - Great Northeast Athletic Conference
LOCATION:New Haven, CT
CATEGORIES:QuickScores; Soccer Game
TRANSP:0
DALARM:20121020T000000;PT10M;2;Albertus Magnus vs. Emmanuel
END:VEVENT
END:VCALENDAR
