BEGIN:VCALENDAR
VERSION:1.0
BEGIN:VEVENT
DTSTART:20120323T000000
DTEND:20120323T000000
SUMMARY:Johnson & Wales vs. Rivier
DESCRIPTION:2012 Softball - Great Northeast Athletic Conference
LOCATION:Providence, RI
CATEGORIES:QuickScores; Softball Game
TRANSP:0
DALARM:20120323T000000;PT10M;2;Johnson & Wales vs. Rivier
END:VEVENT
BEGIN:VEVENT
DTSTART:20120324T000000
DTEND:20120324T000000
SUMMARY:Rivier vs. Mount Ida
DESCRIPTION:2012 Softball - Great Northeast Athletic Conference
LOCATION:Nashua, NH
CATEGORIES:QuickScores; Softball Game
TRANSP:0
DALARM:20120324T000000;PT10M;2;Rivier vs. Mount Ida
END:VEVENT
BEGIN:VEVENT
DTSTART:20120325T000000
DTEND:20120325T000000
SUMMARY:Rivier vs. Emmanuel
DESCRIPTION:2012 Softball - Great Northeast Athletic Conference
LOCATION:Nashua, NH
CATEGORIES:QuickScores; Softball Game
TRANSP:0
DALARM:20120325T000000;PT10M;2;Rivier vs. Emmanuel
END:VEVENT
BEGIN:VEVENT
DTSTART:20120330T000000
DTEND:20120330T000000
SUMMARY:Rivier vs. Anna Maria
DESCRIPTION:2012 Softball - Great Northeast Athletic Conference
LOCATION:Nashua, NH
CATEGORIES:QuickScores; Softball Game
TRANSP:0
DALARM:20120330T000000;PT10M;2;Rivier vs. Anna Maria
END:VEVENT
BEGIN:VEVENT
DTSTART:20120331T000000
DTEND:20120331T000000
SUMMARY:Rivier vs. Albertus Magnus
DESCRIPTION:2012 Softball - Great Northeast Athletic Conference
LOCATION:Nashua, NH
CATEGORIES:QuickScores; Softball Game
TRANSP:0
DALARM:20120331T000000;PT10M;2;Rivier vs. Albertus Magnus
END:VEVENT
BEGIN:VEVENT
DTSTART:20120401T000000
DTEND:20120401T000000
SUMMARY:Pine Manor vs. Rivier
DESCRIPTION:2012 Softball - Great Northeast Athletic Conference
LOCATION:Chestnut Hill, MA
CATEGORIES:QuickScores; Softball Game
TRANSP:0
DALARM:20120401T000000;PT10M;2;Pine Manor vs. Rivier
END:VEVENT
BEGIN:VEVENT
DTSTART:20120404T000000
DTEND:20120404T000000
SUMMARY:Norwich vs. Rivier
DESCRIPTION:RIV can share a bus w WLAX --- 2012 Softball - Great Northeast Athletic Conference
LOCATION:Northfield, VT
CATEGORIES:QuickScores; Softball Game
TRANSP:0
DALARM:20120404T000000;PT10M;2;Norwich vs. Rivier
END:VEVENT
BEGIN:VEVENT
DTSTART:20120407T000000
DTEND:20120407T000000
SUMMARY:Suffolk vs. Rivier
DESCRIPTION:2012 Softball - Great Northeast Athletic Conference
LOCATION:Puopolo Field Boston's North End
CATEGORIES:QuickScores; Softball Game
TRANSP:0
DALARM:20120407T000000;PT10M;2;Suffolk vs. Rivier
END:VEVENT
BEGIN:VEVENT
DTSTART:20120413T000000
DTEND:20120413T000000
SUMMARY:Rivier vs. Saint Joseph's ME
DESCRIPTION:2012 Softball - Great Northeast Athletic Conference
LOCATION:Nashua, NH
CATEGORIES:QuickScores; Softball Game
TRANSP:0
DALARM:20120413T000000;PT10M;2;Rivier vs. Saint Joseph's ME
END:VEVENT
BEGIN:VEVENT
DTSTART:20120414T000000
DTEND:20120414T000000
SUMMARY:Emerson vs. Rivier
DESCRIPTION:2012 Softball - Great Northeast Athletic Conference
LOCATION:Rotch Field
CATEGORIES:QuickScores; Softball Game
TRANSP:0
DALARM:20120414T000000;PT10M;2;Emerson vs. Rivier
END:VEVENT
BEGIN:VEVENT
DTSTART:20120415T000000
DTEND:20120415T000000
SUMMARY:Lasell vs. Rivier
DESCRIPTION:2012 Softball - Great Northeast Athletic Conference
LOCATION:Lasell Newton
CATEGORIES:QuickScores; Softball Game
TRANSP:0
DALARM:20120415T000000;PT10M;2;Lasell vs. Rivier
END:VEVENT
BEGIN:VEVENT
DTSTART:20120418T000000
DTEND:20120418T000000
SUMMARY:Rivier vs. Saint Joseph CT
DESCRIPTION:STJCT can share a bus w WLAX --- 2012 Softball - Great Northeast Athletic Conference
LOCATION:Nashua, NH
CATEGORIES:QuickScores; Softball Game
TRANSP:0
DALARM:20120418T000000;PT10M;2;Rivier vs. Saint Joseph CT
END:VEVENT
BEGIN:VEVENT
DTSTART:20120421T000000
DTEND:20120421T000000
SUMMARY:Rivier vs. Simmons
DESCRIPTION:2012 Softball - Great Northeast Athletic Conference
LOCATION:Nashua, NH
CATEGORIES:QuickScores; Softball Game
TRANSP:0
DALARM:20120421T000000;PT10M;2;Rivier vs. Simmons
END:VEVENT
END:VCALENDAR
