BEGIN:VCALENDAR
VERSION:1.0
BEGIN:VEVENT
DTSTART:20120323T000000
DTEND:20120323T000000
SUMMARY:Johnson & Wales vs. Rivier
DESCRIPTION:2012 Softball - Great Northeast Athletic Conference
LOCATION:Providence, RI
CATEGORIES:QuickScores; Softball Game
TRANSP:0
DALARM:20120323T000000;PT10M;2;Johnson & Wales vs. Rivier
END:VEVENT
BEGIN:VEVENT
DTSTART:20120324T000000
DTEND:20120324T000000
SUMMARY:Johnson & Wales vs. Suffolk
DESCRIPTION:2012 Softball - Great Northeast Athletic Conference
LOCATION:Providence, RI
CATEGORIES:QuickScores; Softball Game
TRANSP:0
DALARM:20120324T000000;PT10M;2;Johnson & Wales vs. Suffolk
END:VEVENT
BEGIN:VEVENT
DTSTART:20120325T000000
DTEND:20120325T000000
SUMMARY:Albertus Magnus vs. Johnson & Wales
DESCRIPTION:2012 Softball - Great Northeast Athletic Conference
LOCATION:New Haven, CT
CATEGORIES:QuickScores; Softball Game
TRANSP:0
DALARM:20120325T000000;PT10M;2;Albertus Magnus vs. Johnson & Wales
END:VEVENT
BEGIN:VEVENT
DTSTART:20120330T000000
DTEND:20120330T000000
SUMMARY:Norwich vs. Johnson & Wales
DESCRIPTION:2012 Softball - Great Northeast Athletic Conference
LOCATION:Northfield, VT
CATEGORIES:QuickScores; Softball Game
TRANSP:0
DALARM:20120330T000000;PT10M;2;Norwich vs. Johnson & Wales
END:VEVENT
BEGIN:VEVENT
DTSTART:20120331T000000
DTEND:20120331T000000
SUMMARY:Lasell vs. Johnson & Wales
DESCRIPTION:2012 Softball - Great Northeast Athletic Conference
LOCATION:Lasell Newton
CATEGORIES:QuickScores; Softball Game
TRANSP:0
DALARM:20120331T000000;PT10M;2;Lasell vs. Johnson & Wales
END:VEVENT
BEGIN:VEVENT
DTSTART:20120401T000000
DTEND:20120401T000000
SUMMARY:Johnson & Wales vs. Saint Joseph CT
DESCRIPTION:2012 Softball - Great Northeast Athletic Conference
LOCATION:Providence, RI
CATEGORIES:QuickScores; Softball Game
TRANSP:0
DALARM:20120401T000000;PT10M;2;Johnson & Wales vs. Saint Joseph CT
END:VEVENT
BEGIN:VEVENT
DTSTART:20120406T000000
DTEND:20120406T000000
SUMMARY:Johnson & Wales vs. Emerson
DESCRIPTION:2012 Softball - Great Northeast Athletic Conference
LOCATION:Providence, RI
CATEGORIES:QuickScores; Softball Game
TRANSP:0
DALARM:20120406T000000;PT10M;2;Johnson & Wales vs. Emerson
END:VEVENT
BEGIN:VEVENT
DTSTART:20120407T000000
DTEND:20120407T000000
SUMMARY:Saint Joseph's ME vs. Johnson & Wales
DESCRIPTION:2012 Softball - Great Northeast Athletic Conference
LOCATION:Standish ME
CATEGORIES:QuickScores; Softball Game
TRANSP:0
DALARM:20120407T000000;PT10M;2;Saint Joseph's ME vs. Johnson & Wales
END:VEVENT
BEGIN:VEVENT
DTSTART:20120413T000000
DTEND:20120413T000000
SUMMARY:Johnson & Wales vs. Simmons
DESCRIPTION:2012 Softball - Great Northeast Athletic Conference
LOCATION:Providence, RI
CATEGORIES:QuickScores; Softball Game
TRANSP:0
DALARM:20120413T000000;PT10M;2;Johnson & Wales vs. Simmons
END:VEVENT
BEGIN:VEVENT
DTSTART:20120414T000000
DTEND:20120414T000000
SUMMARY:Johnson & Wales vs. Mount Ida
DESCRIPTION:2012 Softball - Great Northeast Athletic Conference
LOCATION:Providence, RI
CATEGORIES:QuickScores; Softball Game
TRANSP:0
DALARM:20120414T000000;PT10M;2;Johnson & Wales vs. Mount Ida
END:VEVENT
BEGIN:VEVENT
DTSTART:20120415T000000
DTEND:20120415T000000
SUMMARY:Pine Manor vs. Johnson & Wales
DESCRIPTION:2012 Softball - Great Northeast Athletic Conference
LOCATION:Chestnut Hill, MA
CATEGORIES:QuickScores; Softball Game
TRANSP:0
DALARM:20120415T000000;PT10M;2;Pine Manor vs. Johnson & Wales
END:VEVENT
BEGIN:VEVENT
DTSTART:20120420T000000
DTEND:20120420T000000
SUMMARY:Anna Maria vs. Johnson & Wales
DESCRIPTION:2012 Softball - Great Northeast Athletic Conference
LOCATION:Paxton MA
CATEGORIES:QuickScores; Softball Game
TRANSP:0
DALARM:20120420T000000;PT10M;2;Anna Maria vs. Johnson & Wales
END:VEVENT
BEGIN:VEVENT
DTSTART:20120421T000000
DTEND:20120421T000000
SUMMARY:Emmanuel vs. Johnson & Wales
DESCRIPTION:2012 Softball - Great Northeast Athletic Conference
LOCATION:Roberto Clemente Field
CATEGORIES:QuickScores; Softball Game
TRANSP:0
DALARM:20120421T000000;PT10M;2;Emmanuel vs. Johnson & Wales
END:VEVENT
END:VCALENDAR
