BEGIN:VCALENDAR
VERSION:1.0
BEGIN:VEVENT
DTSTART:20260919T000000
DTEND:20260919T000000
SUMMARY:Saint Joseph's ME vs. Albertus Magnus
DESCRIPTION:2026 Field Hockey (9/25/2025) Approved by GNAC AD Council - Great Northeast Athletic Conference
LOCATION:Standish ME
CATEGORIES:QuickScores; Field Hockey Game
TRANSP:0
DALARM:20260919T000000;PT10M;2;Saint Joseph's ME vs. Albertus Magnus
END:VEVENT
BEGIN:VEVENT
DTSTART:20260923T000000
DTEND:20260923T000000
SUMMARY:Simmons vs. Saint Joseph's ME
DESCRIPTION:2026 Field Hockey (9/25/2025) Approved by GNAC AD Council - Great Northeast Athletic Conference
LOCATION:Daly Field Brighton
CATEGORIES:QuickScores; Field Hockey Game
TRANSP:0
DALARM:20260923T000000;PT10M;2;Simmons vs. Saint Joseph's ME
END:VEVENT
BEGIN:VEVENT
DTSTART:20260926T000000
DTEND:20260926T000000
SUMMARY:Saint Joseph's ME vs. Regis
DESCRIPTION:2026 Field Hockey (9/25/2025) Approved by GNAC AD Council - Great Northeast Athletic Conference
LOCATION:Standish ME
CATEGORIES:QuickScores; Field Hockey Game
TRANSP:0
DALARM:20260926T000000;PT10M;2;Saint Joseph's ME vs. Regis
END:VEVENT
BEGIN:VEVENT
DTSTART:20260930T000000
DTEND:20260930T000000
SUMMARY:Saint Joseph CT vs. Saint Joseph's ME
DESCRIPTION:2026 Field Hockey (9/25/2025) Approved by GNAC AD Council - Great Northeast Athletic Conference
LOCATION:W. Hartford, CT
CATEGORIES:QuickScores; Field Hockey Game
TRANSP:0
DALARM:20260930T000000;PT10M;2;Saint Joseph CT vs. Saint Joseph's ME
END:VEVENT
BEGIN:VEVENT
DTSTART:20261003T000000
DTEND:20261003T000000
SUMMARY:Elms vs. Saint Joseph's ME
DESCRIPTION:2026 Field Hockey (9/25/2025) Approved by GNAC AD Council - Great Northeast Athletic Conference
LOCATION:Timothy J. Leary Field Chicopee MA
CATEGORIES:QuickScores; Field Hockey Game
TRANSP:0
DALARM:20261003T000000;PT10M;2;Elms vs. Saint Joseph's ME
END:VEVENT
BEGIN:VEVENT
DTSTART:20261007T000000
DTEND:20261007T000000
SUMMARY:Saint Joseph's ME vs. Dean
DESCRIPTION:2026 Field Hockey (9/25/2025) Approved by GNAC AD Council - Great Northeast Athletic Conference
LOCATION:Standish ME
CATEGORIES:QuickScores; Field Hockey Game
TRANSP:0
DALARM:20261007T000000;PT10M;2;Saint Joseph's ME vs. Dean
END:VEVENT
BEGIN:VEVENT
DTSTART:20261010T000000
DTEND:20261010T000000
SUMMARY:Saint Joseph's ME vs. New England
DESCRIPTION:2026 Field Hockey (9/25/2025) Approved by GNAC AD Council - Great Northeast Athletic Conference
LOCATION:Standish ME
CATEGORIES:QuickScores; Field Hockey Game
TRANSP:0
DALARM:20261010T000000;PT10M;2;Saint Joseph's ME vs. New England
END:VEVENT
BEGIN:VEVENT
DTSTART:20261014T000000
DTEND:20261014T000000
SUMMARY:Colby Sawyer vs. Saint Joseph's ME
DESCRIPTION:2026 Field Hockey (9/25/2025) Approved by GNAC AD Council - Great Northeast Athletic Conference
LOCATION:New London NH
CATEGORIES:QuickScores; Field Hockey Game
TRANSP:0
DALARM:20261014T000000;PT10M;2;Colby Sawyer vs. Saint Joseph's ME
END:VEVENT
BEGIN:VEVENT
DTSTART:20261017T000000
DTEND:20261017T000000
SUMMARY:Saint Joseph's ME vs. Rivier
DESCRIPTION:2026 Field Hockey (9/25/2025) Approved by GNAC AD Council - Great Northeast Athletic Conference
LOCATION:Standish ME
CATEGORIES:QuickScores; Field Hockey Game
TRANSP:0
DALARM:20261017T000000;PT10M;2;Saint Joseph's ME vs. Rivier
END:VEVENT
BEGIN:VEVENT
DTSTART:20261024T000000
DTEND:20261024T000000
SUMMARY:Lasell vs. Saint Joseph's ME
DESCRIPTION:2026 Field Hockey (9/25/2025) Approved by GNAC AD Council - Great Northeast Athletic Conference
LOCATION:Lasell Newton
CATEGORIES:QuickScores; Field Hockey Game
TRANSP:0
DALARM:20261024T000000;PT10M;2;Lasell vs. Saint Joseph's ME
END:VEVENT
END:VCALENDAR
