BEGIN:VCALENDAR
VERSION:1.0
BEGIN:VEVENT
DTSTART:20260919T000000
DTEND:20260919T000000
SUMMARY:Elms vs. Lasell
DESCRIPTION:2026 Field Hockey (9/25/2025) Approved by GNAC AD Council - Great Northeast Athletic Conference
LOCATION:Timothy J. Leary Field Chicopee MA
CATEGORIES:QuickScores; Field Hockey Game
TRANSP:0
DALARM:20260919T000000;PT10M;2;Elms vs. Lasell
END:VEVENT
BEGIN:VEVENT
DTSTART:20260923T000000
DTEND:20260923T000000
SUMMARY:Albertus Magnus vs. Elms
DESCRIPTION:2026 Field Hockey (9/25/2025) Approved by GNAC AD Council - Great Northeast Athletic Conference
LOCATION:New Haven, CT
CATEGORIES:QuickScores; Field Hockey Game
TRANSP:0
DALARM:20260923T000000;PT10M;2;Albertus Magnus vs. Elms
END:VEVENT
BEGIN:VEVENT
DTSTART:20260930T000000
DTEND:20260930T000000
SUMMARY:Elms vs. New England
DESCRIPTION:2026 Field Hockey (9/25/2025) Approved by GNAC AD Council - Great Northeast Athletic Conference
LOCATION:Timothy J. Leary Field Chicopee MA
CATEGORIES:QuickScores; Field Hockey Game
TRANSP:0
DALARM:20260930T000000;PT10M;2;Elms vs. New England
END:VEVENT
BEGIN:VEVENT
DTSTART:20261003T000000
DTEND:20261003T000000
SUMMARY:Elms vs. Saint Joseph's ME
DESCRIPTION:2026 Field Hockey (9/25/2025) Approved by GNAC AD Council - Great Northeast Athletic Conference
LOCATION:Timothy J. Leary Field Chicopee MA
CATEGORIES:QuickScores; Field Hockey Game
TRANSP:0
DALARM:20261003T000000;PT10M;2;Elms vs. Saint Joseph's ME
END:VEVENT
BEGIN:VEVENT
DTSTART:20261007T000000
DTEND:20261007T000000
SUMMARY:Simmons vs. Elms
DESCRIPTION:2026 Field Hockey (9/25/2025) Approved by GNAC AD Council - Great Northeast Athletic Conference
LOCATION:Daly Field Brighton
CATEGORIES:QuickScores; Field Hockey Game
TRANSP:0
DALARM:20261007T000000;PT10M;2;Simmons vs. Elms
END:VEVENT
BEGIN:VEVENT
DTSTART:20261010T000000
DTEND:20261010T000000
SUMMARY:Dean vs. Elms
DESCRIPTION:2026 Field Hockey (9/25/2025) Approved by GNAC AD Council - Great Northeast Athletic Conference
LOCATION:Franklin MA
CATEGORIES:QuickScores; Field Hockey Game
TRANSP:0
DALARM:20261010T000000;PT10M;2;Dean vs. Elms
END:VEVENT
BEGIN:VEVENT
DTSTART:20261014T000000
DTEND:20261014T000000
SUMMARY:Elms vs. Regis
DESCRIPTION:2026 Field Hockey (9/25/2025) Approved by GNAC AD Council - Great Northeast Athletic Conference
LOCATION:Timothy J. Leary Field Chicopee MA
CATEGORIES:QuickScores; Field Hockey Game
TRANSP:0
DALARM:20261014T000000;PT10M;2;Elms vs. Regis
END:VEVENT
BEGIN:VEVENT
DTSTART:20261017T000000
DTEND:20261017T000000
SUMMARY:Saint Joseph CT vs. Elms
DESCRIPTION:2026 Field Hockey (9/25/2025) Approved by GNAC AD Council - Great Northeast Athletic Conference
LOCATION:W. Hartford, CT
CATEGORIES:QuickScores; Field Hockey Game
TRANSP:0
DALARM:20261017T000000;PT10M;2;Saint Joseph CT vs. Elms
END:VEVENT
BEGIN:VEVENT
DTSTART:20261021T000000
DTEND:20261021T000000
SUMMARY:Elms vs. Rivier
DESCRIPTION:2026 Field Hockey (9/25/2025) Approved by GNAC AD Council - Great Northeast Athletic Conference
LOCATION:Timothy J. Leary Field Chicopee MA
CATEGORIES:QuickScores; Field Hockey Game
TRANSP:0
DALARM:20261021T000000;PT10M;2;Elms vs. Rivier
END:VEVENT
BEGIN:VEVENT
DTSTART:20261024T000000
DTEND:20261024T000000
SUMMARY:Colby Sawyer vs. Elms
DESCRIPTION:2026 Field Hockey (9/25/2025) Approved by GNAC AD Council - Great Northeast Athletic Conference
LOCATION:New London NH
CATEGORIES:QuickScores; Field Hockey Game
TRANSP:0
DALARM:20261024T000000;PT10M;2;Colby Sawyer vs. Elms
END:VEVENT
END:VCALENDAR
