BEGIN:VCALENDAR
VERSION:1.0
BEGIN:VEVENT
DTSTART:20260912T000000
DTEND:20260912T000000
SUMMARY:Saint Joseph ME vs. Rivier
DESCRIPTION:2026 Men's Soccer (9/25/2025) Approved by GNAC AD Council - Great Northeast Athletic Conference
LOCATION:Standish ME
CATEGORIES:QuickScores; Soccer Game
TRANSP:0
DALARM:20260912T000000;PT10M;2;Saint Joseph ME vs. Rivier
END:VEVENT
BEGIN:VEVENT
DTSTART:20260919T000000
DTEND:20260919T000000
SUMMARY:Albertus Magnus vs. Rivier
DESCRIPTION:2026 Men's Soccer (9/25/2025) Approved by GNAC AD Council - Great Northeast Athletic Conference
LOCATION:New Haven, CT
CATEGORIES:QuickScores; Soccer Game
TRANSP:0
DALARM:20260919T000000;PT10M;2;Albertus Magnus vs. Rivier
END:VEVENT
BEGIN:VEVENT
DTSTART:20260923T000000
DTEND:20260923T000000
SUMMARY:Rivier vs. Lasell
DESCRIPTION:2026 Men's Soccer (9/25/2025) Approved by GNAC AD Council - Great Northeast Athletic Conference
LOCATION:Nashua, NH
CATEGORIES:QuickScores; Soccer Game
TRANSP:0
DALARM:20260923T000000;PT10M;2;Rivier vs. Lasell
END:VEVENT
BEGIN:VEVENT
DTSTART:20260926T000000
DTEND:20260926T000000
SUMMARY:Rivier vs. Emmanuel
DESCRIPTION:2026 Men's Soccer (9/25/2025) Approved by GNAC AD Council - Great Northeast Athletic Conference
LOCATION:Nashua, NH
CATEGORIES:QuickScores; Soccer Game
TRANSP:0
DALARM:20260926T000000;PT10M;2;Rivier vs. Emmanuel
END:VEVENT
BEGIN:VEVENT
DTSTART:20261003T000000
DTEND:20261003T000000
SUMMARY:Elms vs. Rivier
DESCRIPTION:2026 Men's Soccer (9/25/2025) Approved by GNAC AD Council - Great Northeast Athletic Conference
LOCATION:Timothy J. Leary Field Chicopee MA
CATEGORIES:QuickScores; Soccer Game
TRANSP:0
DALARM:20261003T000000;PT10M;2;Elms vs. Rivier
END:VEVENT
BEGIN:VEVENT
DTSTART:20261007T000000
DTEND:20261007T000000
SUMMARY:Rivier vs. Norwich
DESCRIPTION:2026 Men's Soccer (9/25/2025) Approved by GNAC AD Council - Great Northeast Athletic Conference
LOCATION:Nashua, NH
CATEGORIES:QuickScores; Soccer Game
TRANSP:0
DALARM:20261007T000000;PT10M;2;Rivier vs. Norwich
END:VEVENT
BEGIN:VEVENT
DTSTART:20261010T000000
DTEND:20261010T000000
SUMMARY:Rivier vs. Dean
DESCRIPTION:2026 Men's Soccer (9/25/2025) Approved by GNAC AD Council - Great Northeast Athletic Conference
LOCATION:Nashua, NH
CATEGORIES:QuickScores; Soccer Game
TRANSP:0
DALARM:20261010T000000;PT10M;2;Rivier vs. Dean
END:VEVENT
BEGIN:VEVENT
DTSTART:20261013T000000
DTEND:20261013T000000
SUMMARY:Colby Sawyer vs. Rivier
DESCRIPTION:2026 Men's Soccer (9/25/2025) Approved by GNAC AD Council - Great Northeast Athletic Conference
LOCATION:Henniker NH
CATEGORIES:QuickScores; Soccer Game
TRANSP:0
DALARM:20261013T000000;PT10M;2;Colby Sawyer vs. Rivier
END:VEVENT
BEGIN:VEVENT
DTSTART:20261017T000000
DTEND:20261017T000000
SUMMARY:Mitchell vs. Rivier
DESCRIPTION:2026 Men's Soccer (9/25/2025) Approved by GNAC AD Council - Great Northeast Athletic Conference
LOCATION:Mitchell College New London CT
CATEGORIES:QuickScores; Soccer Game
TRANSP:0
DALARM:20261017T000000;PT10M;2;Mitchell vs. Rivier
END:VEVENT
BEGIN:VEVENT
DTSTART:20261021T000000
DTEND:20261021T000000
SUMMARY:Rivier vs. New England College
DESCRIPTION:2026 Men's Soccer (9/25/2025) Approved by GNAC AD Council - Great Northeast Athletic Conference
LOCATION:Nashua, NH
CATEGORIES:QuickScores; Soccer Game
TRANSP:0
DALARM:20261021T000000;PT10M;2;Rivier vs. New England College
END:VEVENT
BEGIN:VEVENT
DTSTART:20261024T000000
DTEND:20261024T000000
SUMMARY:Rivier vs. Saint Joseph CT
DESCRIPTION:2026 Men's Soccer (9/25/2025) Approved by GNAC AD Council - Great Northeast Athletic Conference
LOCATION:Nashua, NH
CATEGORIES:QuickScores; Soccer Game
TRANSP:0
DALARM:20261024T000000;PT10M;2;Rivier vs. Saint Joseph CT
END:VEVENT
BEGIN:VEVENT
DTSTART:20261027T000000
DTEND:20261027T000000
SUMMARY:Regis vs. Rivier
DESCRIPTION:2026 Men's Soccer (9/25/2025) Approved by GNAC AD Council - Great Northeast Athletic Conference
LOCATION:Regis Weston MA
CATEGORIES:QuickScores; Soccer Game
TRANSP:0
DALARM:20261027T000000;PT10M;2;Regis vs. Rivier
END:VEVENT
END:VCALENDAR
