BEGIN:VCALENDAR
VERSION:1.0
BEGIN:VEVENT
DTSTART:20260915T000000
DTEND:20260915T000000
SUMMARY:Dean vs. Regis
DESCRIPTION:2026 Men's Soccer (9/25/2025) Approved by GNAC AD Council - Great Northeast Athletic Conference
LOCATION:Franklin MA
CATEGORIES:QuickScores; Soccer Game
TRANSP:0
DALARM:20260915T000000;PT10M;2;Dean vs. Regis
END:VEVENT
BEGIN:VEVENT
DTSTART:20260919T000000
DTEND:20260919T000000
SUMMARY:Regis vs. Emmanuel
DESCRIPTION:2026 Men's Soccer (9/25/2025) Approved by GNAC AD Council - Great Northeast Athletic Conference
LOCATION:Regis Weston MA
CATEGORIES:QuickScores; Soccer Game
TRANSP:0
DALARM:20260919T000000;PT10M;2;Regis vs. Emmanuel
END:VEVENT
BEGIN:VEVENT
DTSTART:20260923T000000
DTEND:20260923T000000
SUMMARY:Regis vs. Saint Joseph CT
DESCRIPTION:2026 Men's Soccer (9/25/2025) Approved by GNAC AD Council - Great Northeast Athletic Conference
LOCATION:Regis Weston MA
CATEGORIES:QuickScores; Soccer Game
TRANSP:0
DALARM:20260923T000000;PT10M;2;Regis vs. Saint Joseph CT
END:VEVENT
BEGIN:VEVENT
DTSTART:20260926T000000
DTEND:20260926T000000
SUMMARY:Colby Sawyer vs. Regis
DESCRIPTION:2026 Men's Soccer (9/25/2025) Approved by GNAC AD Council - Great Northeast Athletic Conference
LOCATION:New London NH
CATEGORIES:QuickScores; Soccer Game
TRANSP:0
DALARM:20260926T000000;PT10M;2;Colby Sawyer vs. Regis
END:VEVENT
BEGIN:VEVENT
DTSTART:20260929T000000
DTEND:20260929T000000
SUMMARY:Regis vs. New England College
DESCRIPTION:2026 Men's Soccer (9/25/2025) Approved by GNAC AD Council - Great Northeast Athletic Conference
LOCATION:Regis Weston MA
CATEGORIES:QuickScores; Soccer Game
TRANSP:0
DALARM:20260929T000000;PT10M;2;Regis vs. New England College
END:VEVENT
BEGIN:VEVENT
DTSTART:20261003T000000
DTEND:20261003T000000
SUMMARY:Albertus Magnus vs. Regis
DESCRIPTION:2026 Men's Soccer (9/25/2025) Approved by GNAC AD Council - Great Northeast Athletic Conference
LOCATION:New Haven, CT
CATEGORIES:QuickScores; Soccer Game
TRANSP:0
DALARM:20261003T000000;PT10M;2;Albertus Magnus vs. Regis
END:VEVENT
BEGIN:VEVENT
DTSTART:20261007T000000
DTEND:20261007T000000
SUMMARY:Mitchell vs. Regis
DESCRIPTION:2026 Men's Soccer (9/25/2025) Approved by GNAC AD Council - Great Northeast Athletic Conference
LOCATION:Mitchell College New London CT
CATEGORIES:QuickScores; Soccer Game
TRANSP:0
DALARM:20261007T000000;PT10M;2;Mitchell vs. Regis
END:VEVENT
BEGIN:VEVENT
DTSTART:20261013T000000
DTEND:20261013T000000
SUMMARY:Regis vs. Lasell
DESCRIPTION:2026 Men's Soccer (9/25/2025) Approved by GNAC AD Council - Great Northeast Athletic Conference
LOCATION:Regis Weston MA
CATEGORIES:QuickScores; Soccer Game
TRANSP:0
DALARM:20261013T000000;PT10M;2;Regis vs. Lasell
END:VEVENT
BEGIN:VEVENT
DTSTART:20261017T000000
DTEND:20261017T000000
SUMMARY:Regis vs. Saint Joseph ME
DESCRIPTION:2026 Men's Soccer (9/25/2025) Approved by GNAC AD Council - Great Northeast Athletic Conference
LOCATION:Regis Weston MA
CATEGORIES:QuickScores; Soccer Game
TRANSP:0
DALARM:20261017T000000;PT10M;2;Regis vs. Saint Joseph ME
END:VEVENT
BEGIN:VEVENT
DTSTART:20261021T000000
DTEND:20261021T000000
SUMMARY:Norwich vs. Regis
DESCRIPTION:2026 Men's Soccer (9/25/2025) Approved by GNAC AD Council - Great Northeast Athletic Conference
LOCATION:Northfield, VT
CATEGORIES:QuickScores; Soccer Game
TRANSP:0
DALARM:20261021T000000;PT10M;2;Norwich vs. Regis
END:VEVENT
BEGIN:VEVENT
DTSTART:20261024T000000
DTEND:20261024T000000
SUMMARY:Elms vs. Regis
DESCRIPTION:2026 Men's Soccer (9/25/2025) Approved by GNAC AD Council - Great Northeast Athletic Conference
LOCATION:Timothy J. Leary Field Chicopee MA
CATEGORIES:QuickScores; Soccer Game
TRANSP:0
DALARM:20261024T000000;PT10M;2;Elms vs. Regis
END:VEVENT
BEGIN:VEVENT
DTSTART:20261027T000000
DTEND:20261027T000000
SUMMARY:Regis vs. Rivier
DESCRIPTION:2026 Men's Soccer (9/25/2025) Approved by GNAC AD Council - Great Northeast Athletic Conference
LOCATION:Regis Weston MA
CATEGORIES:QuickScores; Soccer Game
TRANSP:0
DALARM:20261027T000000;PT10M;2;Regis vs. Rivier
END:VEVENT
END:VCALENDAR
