BEGIN:VCALENDAR
VERSION:1.0
BEGIN:VEVENT
DTSTART:20260912T000000
DTEND:20260912T000000
SUMMARY:Dean vs. Colby Sawyer
DESCRIPTION:2026 Men's Soccer (9/25/2025) Approved by GNAC AD Council - Great Northeast Athletic Conference
LOCATION:Franklin MA
CATEGORIES:QuickScores; Soccer Game
TRANSP:0
DALARM:20260912T000000;PT10M;2;Dean vs. Colby Sawyer
END:VEVENT
BEGIN:VEVENT
DTSTART:20260915T000000
DTEND:20260915T000000
SUMMARY:Dean vs. Regis
DESCRIPTION:2026 Men's Soccer (9/25/2025) Approved by GNAC AD Council - Great Northeast Athletic Conference
LOCATION:Franklin MA
CATEGORIES:QuickScores; Soccer Game
TRANSP:0
DALARM:20260915T000000;PT10M;2;Dean vs. Regis
END:VEVENT
BEGIN:VEVENT
DTSTART:20260919T000000
DTEND:20260919T000000
SUMMARY:Lasell vs. Dean
DESCRIPTION:2026 Men's Soccer (9/25/2025) Approved by GNAC AD Council - Great Northeast Athletic Conference
LOCATION:Lasell Newton
CATEGORIES:QuickScores; Soccer Game
TRANSP:0
DALARM:20260919T000000;PT10M;2;Lasell vs. Dean
END:VEVENT
BEGIN:VEVENT
DTSTART:20260923T000000
DTEND:20260923T000000
SUMMARY:Elms vs. Dean
DESCRIPTION:2026 Men's Soccer (9/25/2025) Approved by GNAC AD Council - Great Northeast Athletic Conference
LOCATION:Timothy J. Leary Field Chicopee MA
CATEGORIES:QuickScores; Soccer Game
TRANSP:0
DALARM:20260923T000000;PT10M;2;Elms vs. Dean
END:VEVENT
BEGIN:VEVENT
DTSTART:20260926T000000
DTEND:20260926T000000
SUMMARY:Dean vs. Norwich
DESCRIPTION:2026 Men's Soccer (9/25/2025) Approved by GNAC AD Council - Great Northeast Athletic Conference
LOCATION:Franklin MA
CATEGORIES:QuickScores; Soccer Game
TRANSP:0
DALARM:20260926T000000;PT10M;2;Dean vs. Norwich
END:VEVENT
BEGIN:VEVENT
DTSTART:20260929T000000
DTEND:20260929T000000
SUMMARY:Albertus Magnus vs. Dean
DESCRIPTION:2026 Men's Soccer (9/25/2025) Approved by GNAC AD Council - Great Northeast Athletic Conference
LOCATION:New Haven, CT
CATEGORIES:QuickScores; Soccer Game
TRANSP:0
DALARM:20260929T000000;PT10M;2;Albertus Magnus vs. Dean
END:VEVENT
BEGIN:VEVENT
DTSTART:20261003T000000
DTEND:20261003T000000
SUMMARY:Dean vs. Saint Joseph ME
DESCRIPTION:2026 Men's Soccer (9/25/2025) Approved by GNAC AD Council - Great Northeast Athletic Conference
LOCATION:Franklin MA
CATEGORIES:QuickScores; Soccer Game
TRANSP:0
DALARM:20261003T000000;PT10M;2;Dean vs. Saint Joseph ME
END:VEVENT
BEGIN:VEVENT
DTSTART:20261010T000000
DTEND:20261010T000000
SUMMARY:Rivier vs. Dean
DESCRIPTION:2026 Men's Soccer (9/25/2025) Approved by GNAC AD Council - Great Northeast Athletic Conference
LOCATION:Nashua, NH
CATEGORIES:QuickScores; Soccer Game
TRANSP:0
DALARM:20261010T000000;PT10M;2;Rivier vs. Dean
END:VEVENT
BEGIN:VEVENT
DTSTART:20261013T000000
DTEND:20261013T000000
SUMMARY:Emmanuel vs. Dean
DESCRIPTION:2026 Men's Soccer (9/25/2025) Approved by GNAC AD Council - Great Northeast Athletic Conference
LOCATION:Roberto Clemente Field
CATEGORIES:QuickScores; Soccer Game
TRANSP:0
DALARM:20261013T000000;PT10M;2;Emmanuel vs. Dean
END:VEVENT
BEGIN:VEVENT
DTSTART:20261021T000000
DTEND:20261021T000000
SUMMARY:Dean vs. Saint Joseph CT
DESCRIPTION:2026 Men's Soccer (9/25/2025) Approved by GNAC AD Council - Great Northeast Athletic Conference
LOCATION:Franklin MA
CATEGORIES:QuickScores; Soccer Game
TRANSP:0
DALARM:20261021T000000;PT10M;2;Dean vs. Saint Joseph CT
END:VEVENT
BEGIN:VEVENT
DTSTART:20261024T000000
DTEND:20261024T000000
SUMMARY:Dean vs. New England College
DESCRIPTION:2026 Men's Soccer (9/25/2025) Approved by GNAC AD Council - Great Northeast Athletic Conference
LOCATION:Franklin MA
CATEGORIES:QuickScores; Soccer Game
TRANSP:0
DALARM:20261024T000000;PT10M;2;Dean vs. New England College
END:VEVENT
BEGIN:VEVENT
DTSTART:20261027T000000
DTEND:20261027T000000
SUMMARY:Mitchell vs. Dean
DESCRIPTION:2026 Men's Soccer (9/25/2025) Approved by GNAC AD Council - Great Northeast Athletic Conference
LOCATION:Mitchell College New London CT
CATEGORIES:QuickScores; Soccer Game
TRANSP:0
DALARM:20261027T000000;PT10M;2;Mitchell vs. Dean
END:VEVENT
END:VCALENDAR
