BEGIN:VCALENDAR
VERSION:1.0
BEGIN:VEVENT
DTSTART:20110910T000000
DTEND:20110910T000000
SUMMARY:Norwich vs. Simmons
DESCRIPTION:2011 Women's Volleyball 9/11/10 - Great Northeast Athletic Conference
LOCATION:Suffolk
CATEGORIES:QuickScores; Volleyball Game
TRANSP:0
DALARM:20110910T000000;PT10M;2;Norwich vs. Simmons
END:VEVENT
BEGIN:VEVENT
DTSTART:20110910T000000
DTEND:20110910T000000
SUMMARY:Suffolk vs. Simmons
DESCRIPTION:2011 Women's Volleyball 9/11/10 - Great Northeast Athletic Conference
LOCATION:Suffolk
CATEGORIES:QuickScores; Volleyball Game
TRANSP:0
DALARM:20110910T000000;PT10M;2;Suffolk vs. Simmons
END:VEVENT
BEGIN:VEVENT
DTSTART:20110924T000000
DTEND:20110924T000000
SUMMARY:Simmons vs. Anna Maria
DESCRIPTION:2011 Women's Volleyball 9/11/10 - Great Northeast Athletic Conference
LOCATION:New Haven, CT
CATEGORIES:QuickScores; Volleyball Game
TRANSP:0
DALARM:20110924T000000;PT10M;2;Simmons vs. Anna Maria
END:VEVENT
BEGIN:VEVENT
DTSTART:20110924T000000
DTEND:20110924T000000
SUMMARY:Albertus Magnus vs. Simmons
DESCRIPTION:2011 Women's Volleyball 9/11/10 - Great Northeast Athletic Conference
LOCATION:New Haven, CT
CATEGORIES:QuickScores; Volleyball Game
TRANSP:0
DALARM:20110924T000000;PT10M;2;Albertus Magnus vs. Simmons
END:VEVENT
BEGIN:VEVENT
DTSTART:20111001T000000
DTEND:20111001T000000
SUMMARY:Simmons vs. Saint Joseph's ME
DESCRIPTION:STJME can share a bus w MS going to EMM --- 2011 Women's Volleyball 9/11/10 - Great Northeast Athletic Conference
LOCATION:Simmons
CATEGORIES:QuickScores; Volleyball Game
TRANSP:0
DALARM:20111001T000000;PT10M;2;Simmons vs. Saint Joseph's ME
END:VEVENT
BEGIN:VEVENT
DTSTART:20111001T000000
DTEND:20111001T000000
SUMMARY:Simmons vs. Lasell
DESCRIPTION:2011 Women's Volleyball 9/11/10 - Great Northeast Athletic Conference
LOCATION:Simmons
CATEGORIES:QuickScores; Volleyball Game
TRANSP:0
DALARM:20111001T000000;PT10M;2;Simmons vs. Lasell
END:VEVENT
BEGIN:VEVENT
DTSTART:20111010T000000
DTEND:20111010T000000
SUMMARY:Simmons vs. Emmanuel
DESCRIPTION:Columbus Day --- 2011 Women's Volleyball 9/11/10 - Great Northeast Athletic Conference
LOCATION:Simmons
CATEGORIES:QuickScores; Volleyball Game
TRANSP:0
DALARM:20111010T000000;PT10M;2;Simmons vs. Emmanuel
END:VEVENT
BEGIN:VEVENT
DTSTART:20111015T000000
DTEND:20111015T000000
SUMMARY:Emerson vs. Simmons
DESCRIPTION:2011 Women's Volleyball 9/11/10 - Great Northeast Athletic Conference
LOCATION:Bobbi Brown and Steven Plofker Gym
CATEGORIES:QuickScores; Volleyball Game
TRANSP:0
DALARM:20111015T000000;PT10M;2;Emerson vs. Simmons
END:VEVENT
BEGIN:VEVENT
DTSTART:20111022T000000
DTEND:20111022T000000
SUMMARY:Simmons vs. Rivier
DESCRIPTION:2011 Women's Volleyball 9/11/10 - Great Northeast Athletic Conference
LOCATION:Mount Ida
CATEGORIES:QuickScores; Volleyball Game
TRANSP:0
DALARM:20111022T000000;PT10M;2;Simmons vs. Rivier
END:VEVENT
BEGIN:VEVENT
DTSTART:20111022T000000
DTEND:20111022T000000
SUMMARY:Mount Ida vs. Simmons
DESCRIPTION:2011 Women's Volleyball 9/11/10 - Great Northeast Athletic Conference
LOCATION:Mount Ida
CATEGORIES:QuickScores; Volleyball Game
TRANSP:0
DALARM:20111022T000000;PT10M;2;Mount Ida vs. Simmons
END:VEVENT
BEGIN:VEVENT
DTSTART:20111025T000000
DTEND:20111025T000000
SUMMARY:Pine Manor vs. Simmons
DESCRIPTION:2011 Women's Volleyball 9/11/10 - Great Northeast Athletic Conference
LOCATION:Simmons
CATEGORIES:QuickScores; Volleyball Game
TRANSP:0
DALARM:20111025T000000;PT10M;2;Pine Manor vs. Simmons
END:VEVENT
BEGIN:VEVENT
DTSTART:20111029T000000
DTEND:20111029T000000
SUMMARY:Johnson & Wales vs. Simmons
DESCRIPTION:2011 Women's Volleyball 9/11/10 - Great Northeast Athletic Conference
LOCATION:Harborside Athletic Center
CATEGORIES:QuickScores; Volleyball Game
TRANSP:0
DALARM:20111029T000000;PT10M;2;Johnson & Wales vs. Simmons
END:VEVENT
BEGIN:VEVENT
DTSTART:20111029T000000
DTEND:20111029T000000
SUMMARY:Simmons vs. Saint Joseph CT
DESCRIPTION:2011 Women's Volleyball 9/11/10 - Great Northeast Athletic Conference
LOCATION:Harborside Athletic Center
CATEGORIES:QuickScores; Volleyball Game
TRANSP:0
DALARM:20111029T000000;PT10M;2;Simmons vs. Saint Joseph CT
END:VEVENT
END:VCALENDAR
