BEGIN:VCALENDAR
VERSION:1.0
BEGIN:VEVENT
DTSTART:20110917T000000
DTEND:20110917T000000
SUMMARY:Mount Ida vs. Saint Joseph's ME
DESCRIPTION:2011 Women's Volleyball 9/11/10 - Great Northeast Athletic Conference
LOCATION:Mount Ida
CATEGORIES:QuickScores; Volleyball Game
TRANSP:0
DALARM:20110917T000000;PT10M;2;Mount Ida vs. Saint Joseph's ME
END:VEVENT
BEGIN:VEVENT
DTSTART:20110917T000000
DTEND:20110917T000000
SUMMARY:Suffolk vs. Saint Joseph's ME
DESCRIPTION:2011 Women's Volleyball 9/11/10 - Great Northeast Athletic Conference
LOCATION:Mount Ida
CATEGORIES:QuickScores; Volleyball Game
TRANSP:0
DALARM:20110917T000000;PT10M;2;Suffolk vs. Saint Joseph's ME
END:VEVENT
BEGIN:VEVENT
DTSTART:20110924T000000
DTEND:20110924T000000
SUMMARY:Saint Joseph's ME vs. Emerson
DESCRIPTION:2011 STJME Family Weekend --- 2011 Women's Volleyball 9/11/10 - Great Northeast Athletic Conference
LOCATION:Standish ME
CATEGORIES:QuickScores; Volleyball Game
TRANSP:0
DALARM:20110924T000000;PT10M;2;Saint Joseph's ME vs. Emerson
END:VEVENT
BEGIN:VEVENT
DTSTART:20110924T000000
DTEND:20110924T000000
SUMMARY:Saint Joseph's ME vs. Johnson & Wales
DESCRIPTION:STJME 2011 Family Weekend --- 2011 Women's Volleyball 9/11/10 - Great Northeast Athletic Conference
LOCATION:Standish ME
CATEGORIES:QuickScores; Volleyball Game
TRANSP:0
DALARM:20110924T000000;PT10M;2;Saint Joseph's ME vs. Johnson & Wales
END:VEVENT
BEGIN:VEVENT
DTSTART:20111001T000000
DTEND:20111001T000000
SUMMARY:Simmons vs. Saint Joseph's ME
DESCRIPTION:STJME can share a bus w MS going to EMM --- 2011 Women's Volleyball 9/11/10 - Great Northeast Athletic Conference
LOCATION:Simmons
CATEGORIES:QuickScores; Volleyball Game
TRANSP:0
DALARM:20111001T000000;PT10M;2;Simmons vs. Saint Joseph's ME
END:VEVENT
BEGIN:VEVENT
DTSTART:20111001T000000
DTEND:20111001T000000
SUMMARY:Lasell vs. Saint Joseph's ME
DESCRIPTION:2011 Women's Volleyball 9/11/10 - Great Northeast Athletic Conference
LOCATION:Simmons
CATEGORIES:QuickScores; Volleyball Game
TRANSP:0
DALARM:20111001T000000;PT10M;2;Lasell vs. Saint Joseph's ME
END:VEVENT
BEGIN:VEVENT
DTSTART:20111008T000000
DTEND:20111008T000000
SUMMARY:Emmanuel vs. Saint Joseph's ME
DESCRIPTION:2011 Women's Volleyball 9/11/10 - Great Northeast Athletic Conference
LOCATION:Jean Yawkey Center
CATEGORIES:QuickScores; Volleyball Game
TRANSP:0
DALARM:20111008T000000;PT10M;2;Emmanuel vs. Saint Joseph's ME
END:VEVENT
BEGIN:VEVENT
DTSTART:20111008T000000
DTEND:20111008T000000
SUMMARY:Saint Joseph's ME vs. Rivier
DESCRIPTION:2011 Women's Volleyball 9/11/10 - Great Northeast Athletic Conference
LOCATION:Jean Yawkey Center
CATEGORIES:QuickScores; Volleyball Game
TRANSP:0
DALARM:20111008T000000;PT10M;2;Saint Joseph's ME vs. Rivier
END:VEVENT
BEGIN:VEVENT
DTSTART:20111015T000000
DTEND:20111015T000000
SUMMARY:Pine Manor vs. Saint Joseph's ME
DESCRIPTION:PMC 2011 Homecoming & Parents Weekend --- 2011 Women's Volleyball 9/11/10 - Great Northeast Athletic Conference
LOCATION:Pine Manor
CATEGORIES:QuickScores; Volleyball Game
TRANSP:0
DALARM:20111015T000000;PT10M;2;Pine Manor vs. Saint Joseph's ME
END:VEVENT
BEGIN:VEVENT
DTSTART:20111015T000000
DTEND:20111015T000000
SUMMARY:Saint Joseph's ME vs. Anna Maria
DESCRIPTION:2011 Women's Volleyball 9/11/10 - Great Northeast Athletic Conference
LOCATION:Pine Manor
CATEGORIES:QuickScores; Volleyball Game
TRANSP:0
DALARM:20111015T000000;PT10M;2;Saint Joseph's ME vs. Anna Maria
END:VEVENT
BEGIN:VEVENT
DTSTART:20111022T000000
DTEND:20111022T000000
SUMMARY:Saint Joseph's ME vs. Saint Joseph CT
DESCRIPTION:STJCT can share a bus w WS --- 2011 Women's Volleyball 9/11/10 - Great Northeast Athletic Conference
LOCATION:Standish ME
CATEGORIES:QuickScores; Volleyball Game
TRANSP:0
DALARM:20111022T000000;PT10M;2;Saint Joseph's ME vs. Saint Joseph CT
END:VEVENT
BEGIN:VEVENT
DTSTART:20111022T000000
DTEND:20111022T000000
SUMMARY:Saint Joseph's ME vs. Norwich
DESCRIPTION:2011 Women's Volleyball 9/11/10 - Great Northeast Athletic Conference
LOCATION:Standish ME
CATEGORIES:QuickScores; Volleyball Game
TRANSP:0
DALARM:20111022T000000;PT10M;2;Saint Joseph's ME vs. Norwich
END:VEVENT
BEGIN:VEVENT
DTSTART:20111029T000000
DTEND:20111029T000000
SUMMARY:Albertus Magnus vs. Saint Joseph's ME
DESCRIPTION:2011 Women's Volleyball 9/11/10 - Great Northeast Athletic Conference
LOCATION:New Haven, CT
CATEGORIES:QuickScores; Volleyball Game
TRANSP:0
DALARM:20111029T000000;PT10M;2;Albertus Magnus vs. Saint Joseph's ME
END:VEVENT
END:VCALENDAR
