BEGIN:VCALENDAR
VERSION:1.0
BEGIN:VEVENT
DTSTART:20260307T000000
DTEND:20260307T000000
SUMMARY:Rivier vs. Dean
DESCRIPTION:2026 Men’s Lacrosse (5/1/25 AD Approved) - Great Northeast Athletic Conference
LOCATION:Nashua, NH
CATEGORIES:QuickScores; Lacrosse Game
TRANSP:0
DALARM:20260307T000000;PT10M;2;Rivier vs. Dean
END:VEVENT
BEGIN:VEVENT
DTSTART:20260314T000000
DTEND:20260314T000000
SUMMARY:Mitchell vs. Rivier
DESCRIPTION:2026 Men’s Lacrosse (5/1/25 AD Approved) - Great Northeast Athletic Conference
LOCATION:Mitchell College New London CT
CATEGORIES:QuickScores; Lacrosse Game
TRANSP:0
DALARM:20260314T000000;PT10M;2;Mitchell vs. Rivier
END:VEVENT
BEGIN:VEVENT
DTSTART:20260318T000000
DTEND:20260318T000000
SUMMARY:Colby Sawyer vs. Rivier
DESCRIPTION:2026 Men’s Lacrosse (5/1/25 AD Approved) - Great Northeast Athletic Conference
LOCATION:New London NH
CATEGORIES:QuickScores; Lacrosse Game
TRANSP:0
DALARM:20260318T000000;PT10M;2;Colby Sawyer vs. Rivier
END:VEVENT
BEGIN:VEVENT
DTSTART:20260321T000000
DTEND:20260321T000000
SUMMARY:Rivier vs. Albertus Magnus
DESCRIPTION:2026 Men’s Lacrosse (5/1/25 AD Approved) - Great Northeast Athletic Conference
LOCATION:Nashua, NH
CATEGORIES:QuickScores; Lacrosse Game
TRANSP:0
DALARM:20260321T000000;PT10M;2;Rivier vs. Albertus Magnus
END:VEVENT
BEGIN:VEVENT
DTSTART:20260324T000000
DTEND:20260324T000000
SUMMARY:Rivier vs. Regis
DESCRIPTION:2026 Men’s Lacrosse (5/1/25 AD Approved) - Great Northeast Athletic Conference
LOCATION:Nashua, NH
CATEGORIES:QuickScores; Lacrosse Game
TRANSP:0
DALARM:20260324T000000;PT10M;2;Rivier vs. Regis
END:VEVENT
BEGIN:VEVENT
DTSTART:20260328T000000
DTEND:20260328T000000
SUMMARY:Lasell vs. Rivier
DESCRIPTION:2026 Men’s Lacrosse (5/1/25 AD Approved) - Great Northeast Athletic Conference
LOCATION:Lasell Newton
CATEGORIES:QuickScores; Lacrosse Game
TRANSP:0
DALARM:20260328T000000;PT10M;2;Lasell vs. Rivier
END:VEVENT
BEGIN:VEVENT
DTSTART:20260404T000000
DTEND:20260404T000000
SUMMARY:Rivier vs. Norwich
DESCRIPTION:2026 Men’s Lacrosse (5/1/25 AD Approved) - Great Northeast Athletic Conference
LOCATION:Nashua, NH
CATEGORIES:QuickScores; Lacrosse Game
TRANSP:0
DALARM:20260404T000000;PT10M;2;Rivier vs. Norwich
END:VEVENT
BEGIN:VEVENT
DTSTART:20260407T000000
DTEND:20260407T000000
SUMMARY:New England vs. Rivier
DESCRIPTION:2026 Men’s Lacrosse (5/1/25 AD Approved) - Great Northeast Athletic Conference
LOCATION:Henniker NH
CATEGORIES:QuickScores; Lacrosse Game
TRANSP:0
DALARM:20260407T000000;PT10M;2;New England vs. Rivier
END:VEVENT
BEGIN:VEVENT
DTSTART:20260411T000000
DTEND:20260411T000000
SUMMARY:Rivier vs. Saint Joseph CT
DESCRIPTION:2026 Men’s Lacrosse (5/1/25 AD Approved) - Great Northeast Athletic Conference
LOCATION:Nashua, NH
CATEGORIES:QuickScores; Lacrosse Game
TRANSP:0
DALARM:20260411T000000;PT10M;2;Rivier vs. Saint Joseph CT
END:VEVENT
BEGIN:VEVENT
DTSTART:20260415T000000
DTEND:20260415T000000
SUMMARY:Saint Joseph's ME vs. Rivier
DESCRIPTION:2026 Men’s Lacrosse (5/1/25 AD Approved) - Great Northeast Athletic Conference
LOCATION:Standish ME
CATEGORIES:QuickScores; Lacrosse Game
TRANSP:0
DALARM:20260415T000000;PT10M;2;Saint Joseph's ME vs. Rivier
END:VEVENT
BEGIN:VEVENT
DTSTART:20260418T000000
DTEND:20260418T000000
SUMMARY:Emmanuel vs. Rivier
DESCRIPTION:2026 Men’s Lacrosse (5/1/25 AD Approved) - Great Northeast Athletic Conference
LOCATION:Roberto Clemente Field
CATEGORIES:QuickScores; Lacrosse Game
TRANSP:0
DALARM:20260418T000000;PT10M;2;Emmanuel vs. Rivier
END:VEVENT
BEGIN:VEVENT
DTSTART:20260421T000000
DTEND:20260421T000000
SUMMARY:Rivier vs. Elms
DESCRIPTION:2026 Men’s Lacrosse (5/1/25 AD Approved) - Great Northeast Athletic Conference
LOCATION:Nashua, NH
CATEGORIES:QuickScores; Lacrosse Game
TRANSP:0
DALARM:20260421T000000;PT10M;2;Rivier vs. Elms
END:VEVENT
END:VCALENDAR
