BEGIN:VCALENDAR
VERSION:1.0
BEGIN:VEVENT
DTSTART:20260228T000000
DTEND:20260228T000000
SUMMARY:Albertus Magnus vs. Regis
DESCRIPTION:2026 Men’s Lacrosse (5/1/25 AD Approved) - Great Northeast Athletic Conference
LOCATION:New Haven, CT
CATEGORIES:QuickScores; Lacrosse Game
TRANSP:0
DALARM:20260228T000000;PT10M;2;Albertus Magnus vs. Regis
END:VEVENT
BEGIN:VEVENT
DTSTART:20260307T000000
DTEND:20260307T000000
SUMMARY:New England vs. Regis
DESCRIPTION:2026 Men’s Lacrosse (5/1/25 AD Approved) - Great Northeast Athletic Conference
LOCATION:Henniker NH
CATEGORIES:QuickScores; Lacrosse Game
TRANSP:0
DALARM:20260307T000000;PT10M;2;New England vs. Regis
END:VEVENT
BEGIN:VEVENT
DTSTART:20260314T000000
DTEND:20260314T000000
SUMMARY:Regis vs. Colby Sawyer
DESCRIPTION:2026 Men’s Lacrosse (5/1/25 AD Approved) - Great Northeast Athletic Conference
LOCATION:Regis Weston MA
CATEGORIES:QuickScores; Lacrosse Game
TRANSP:0
DALARM:20260314T000000;PT10M;2;Regis vs. Colby Sawyer
END:VEVENT
BEGIN:VEVENT
DTSTART:20260321T000000
DTEND:20260321T000000
SUMMARY:Regis vs. Dean
DESCRIPTION:2026 Men’s Lacrosse (5/1/25 AD Approved) - Great Northeast Athletic Conference
LOCATION:Regis Weston MA
CATEGORIES:QuickScores; Lacrosse Game
TRANSP:0
DALARM:20260321T000000;PT10M;2;Regis vs. Dean
END:VEVENT
BEGIN:VEVENT
DTSTART:20260324T000000
DTEND:20260324T000000
SUMMARY:Rivier vs. Regis
DESCRIPTION:2026 Men’s Lacrosse (5/1/25 AD Approved) - Great Northeast Athletic Conference
LOCATION:Nashua, NH
CATEGORIES:QuickScores; Lacrosse Game
TRANSP:0
DALARM:20260324T000000;PT10M;2;Rivier vs. Regis
END:VEVENT
BEGIN:VEVENT
DTSTART:20260328T000000
DTEND:20260328T000000
SUMMARY:Regis vs. Saint Joseph CT
DESCRIPTION:USJCT returns to Regis in 2026 to balance lost home games from Johnson & Wales and Anna Maria leaving the conference --- 2026 Men’s Lacrosse (5/1/25 AD Approved) - Great Northeast Athletic Conference
LOCATION:Regis Weston MA
CATEGORIES:QuickScores; Lacrosse Game
TRANSP:0
DALARM:20260328T000000;PT10M;2;Regis vs. Saint Joseph CT
END:VEVENT
BEGIN:VEVENT
DTSTART:20260401T000000
DTEND:20260401T000000
SUMMARY:Regis vs. Mitchell
DESCRIPTION:2026 Men’s Lacrosse (5/1/25 AD Approved) - Great Northeast Athletic Conference
LOCATION:Regis Weston MA
CATEGORIES:QuickScores; Lacrosse Game
TRANSP:0
DALARM:20260401T000000;PT10M;2;Regis vs. Mitchell
END:VEVENT
BEGIN:VEVENT
DTSTART:20260404T000000
DTEND:20260404T000000
SUMMARY:Saint Joseph's ME vs. Regis
DESCRIPTION:2026 Men’s Lacrosse (5/1/25 AD Approved) - Great Northeast Athletic Conference
LOCATION:Standish ME
CATEGORIES:QuickScores; Lacrosse Game
TRANSP:0
DALARM:20260404T000000;PT10M;2;Saint Joseph's ME vs. Regis
END:VEVENT
BEGIN:VEVENT
DTSTART:20260407T000000
DTEND:20260407T000000
SUMMARY:Norwich vs. Regis
DESCRIPTION:2026 Men’s Lacrosse (5/1/25 AD Approved) - Great Northeast Athletic Conference
LOCATION:Northfield, VT
CATEGORIES:QuickScores; Lacrosse Game
TRANSP:0
DALARM:20260407T000000;PT10M;2;Norwich vs. Regis
END:VEVENT
BEGIN:VEVENT
DTSTART:20260411T000000
DTEND:20260411T000000
SUMMARY:Regis vs. Lasell
DESCRIPTION:2026 Men’s Lacrosse (5/1/25 AD Approved) - Great Northeast Athletic Conference
LOCATION:Regis Weston MA
CATEGORIES:QuickScores; Lacrosse Game
TRANSP:0
DALARM:20260411T000000;PT10M;2;Regis vs. Lasell
END:VEVENT
BEGIN:VEVENT
DTSTART:20260418T000000
DTEND:20260418T000000
SUMMARY:Elms vs. Regis
DESCRIPTION:2026 Men’s Lacrosse (5/1/25 AD Approved) - Great Northeast Athletic Conference
LOCATION:Timothy J. Leary Field Chicopee MA
CATEGORIES:QuickScores; Lacrosse Game
TRANSP:0
DALARM:20260418T000000;PT10M;2;Elms vs. Regis
END:VEVENT
BEGIN:VEVENT
DTSTART:20260421T000000
DTEND:20260421T000000
SUMMARY:Regis vs. Emmanuel
DESCRIPTION:2026 Men’s Lacrosse (5/1/25 AD Approved) - Great Northeast Athletic Conference
LOCATION:Regis Weston MA
CATEGORIES:QuickScores; Lacrosse Game
TRANSP:0
DALARM:20260421T000000;PT10M;2;Regis vs. Emmanuel
END:VEVENT
END:VCALENDAR
