BEGIN:VCALENDAR
VERSION:1.0
BEGIN:VEVENT
DTSTART:20260307T000000
DTEND:20260307T000000
SUMMARY:Saint Joseph CT vs. Norwich
DESCRIPTION:2026 Men’s Lacrosse (5/1/25 AD Approved) - Great Northeast Athletic Conference
LOCATION:W. Hartford, CT
CATEGORIES:QuickScores; Lacrosse Game
TRANSP:0
DALARM:20260307T000000;PT10M;2;Saint Joseph CT vs. Norwich
END:VEVENT
BEGIN:VEVENT
DTSTART:20260310T000000
DTEND:20260310T000000
SUMMARY:Norwich vs. Lasell
DESCRIPTION:2026 Men’s Lacrosse (5/1/25 AD Approved) - Great Northeast Athletic Conference
LOCATION:Northfield, VT
CATEGORIES:QuickScores; Lacrosse Game
TRANSP:0
DALARM:20260310T000000;PT10M;2;Norwich vs. Lasell
END:VEVENT
BEGIN:VEVENT
DTSTART:20260314T000000
DTEND:20260314T000000
SUMMARY:Norwich vs. Albertus Magnus
DESCRIPTION:2026 Men’s Lacrosse (5/1/25 AD Approved) - Great Northeast Athletic Conference
LOCATION:Northfield, VT
CATEGORIES:QuickScores; Lacrosse Game
TRANSP:0
DALARM:20260314T000000;PT10M;2;Norwich vs. Albertus Magnus
END:VEVENT
BEGIN:VEVENT
DTSTART:20260321T000000
DTEND:20260321T000000
SUMMARY:Norwich vs. Saint Joseph's ME
DESCRIPTION:2026 Men’s Lacrosse (5/1/25 AD Approved) - Great Northeast Athletic Conference
LOCATION:Northfield, VT
CATEGORIES:QuickScores; Lacrosse Game
TRANSP:0
DALARM:20260321T000000;PT10M;2;Norwich vs. Saint Joseph's ME
END:VEVENT
BEGIN:VEVENT
DTSTART:20260328T000000
DTEND:20260328T000000
SUMMARY:Mitchell vs. Norwich
DESCRIPTION:2026 Men’s Lacrosse (5/1/25 AD Approved) - Great Northeast Athletic Conference
LOCATION:Mitchell College New London CT
CATEGORIES:QuickScores; Lacrosse Game
TRANSP:0
DALARM:20260328T000000;PT10M;2;Mitchell vs. Norwich
END:VEVENT
BEGIN:VEVENT
DTSTART:20260401T000000
DTEND:20260401T000000
SUMMARY:New England vs. Norwich
DESCRIPTION:2026 Men’s Lacrosse (5/1/25 AD Approved) - Great Northeast Athletic Conference
LOCATION:Henniker NH
CATEGORIES:QuickScores; Lacrosse Game
TRANSP:0
DALARM:20260401T000000;PT10M;2;New England vs. Norwich
END:VEVENT
BEGIN:VEVENT
DTSTART:20260404T000000
DTEND:20260404T000000
SUMMARY:Rivier vs. Norwich
DESCRIPTION:2026 Men’s Lacrosse (5/1/25 AD Approved) - Great Northeast Athletic Conference
LOCATION:Nashua, NH
CATEGORIES:QuickScores; Lacrosse Game
TRANSP:0
DALARM:20260404T000000;PT10M;2;Rivier vs. Norwich
END:VEVENT
BEGIN:VEVENT
DTSTART:20260407T000000
DTEND:20260407T000000
SUMMARY:Norwich vs. Regis
DESCRIPTION:2026 Men’s Lacrosse (5/1/25 AD Approved) - Great Northeast Athletic Conference
LOCATION:Northfield, VT
CATEGORIES:QuickScores; Lacrosse Game
TRANSP:0
DALARM:20260407T000000;PT10M;2;Norwich vs. Regis
END:VEVENT
BEGIN:VEVENT
DTSTART:20260411T000000
DTEND:20260411T000000
SUMMARY:Norwich vs. Elms
DESCRIPTION:2026 Men’s Lacrosse (5/1/25 AD Approved) - Great Northeast Athletic Conference
LOCATION:Northfield, VT
CATEGORIES:QuickScores; Lacrosse Game
TRANSP:0
DALARM:20260411T000000;PT10M;2;Norwich vs. Elms
END:VEVENT
BEGIN:VEVENT
DTSTART:20260415T000000
DTEND:20260415T000000
SUMMARY:Emmanuel vs. Norwich
DESCRIPTION:2026 Men’s Lacrosse (5/1/25 AD Approved) - Great Northeast Athletic Conference
LOCATION:Roberto Clemente Field
CATEGORIES:QuickScores; Lacrosse Game
TRANSP:0
DALARM:20260415T000000;PT10M;2;Emmanuel vs. Norwich
END:VEVENT
BEGIN:VEVENT
DTSTART:20260418T000000
DTEND:20260418T000000
SUMMARY:Dean vs. Norwich
DESCRIPTION:2026 Men’s Lacrosse (5/1/25 AD Approved) - Great Northeast Athletic Conference
LOCATION:Franklin MA
CATEGORIES:QuickScores; Lacrosse Game
TRANSP:0
DALARM:20260418T000000;PT10M;2;Dean vs. Norwich
END:VEVENT
BEGIN:VEVENT
DTSTART:20260421T000000
DTEND:20260421T000000
SUMMARY:Norwich vs. Colby Sawyer
DESCRIPTION:2026 Men’s Lacrosse (5/1/25 AD Approved) - Great Northeast Athletic Conference
LOCATION:Northfield, VT
CATEGORIES:QuickScores; Lacrosse Game
TRANSP:0
DALARM:20260421T000000;PT10M;2;Norwich vs. Colby Sawyer
END:VEVENT
END:VCALENDAR
