BEGIN:VCALENDAR
VERSION:1.0
BEGIN:VEVENT
DTSTART:20260307T000000
DTEND:20260307T000000
SUMMARY:New England vs. Regis
DESCRIPTION:2026 Men’s Lacrosse (5/1/25 AD Approved) - Great Northeast Athletic Conference
LOCATION:Henniker NH
CATEGORIES:QuickScores; Lacrosse Game
TRANSP:0
DALARM:20260307T000000;PT10M;2;New England vs. Regis
END:VEVENT
BEGIN:VEVENT
DTSTART:20260310T000000
DTEND:20260310T000000
SUMMARY:Colby Sawyer vs. New England
DESCRIPTION:2026 Men’s Lacrosse (5/1/25 AD Approved) - Great Northeast Athletic Conference
LOCATION:New London NH
CATEGORIES:QuickScores; Lacrosse Game
TRANSP:0
DALARM:20260310T000000;PT10M;2;Colby Sawyer vs. New England
END:VEVENT
BEGIN:VEVENT
DTSTART:20260314T000000
DTEND:20260314T000000
SUMMARY:Lasell vs. New England
DESCRIPTION:2026 Men’s Lacrosse (5/1/25 AD Approved) - Great Northeast Athletic Conference
LOCATION:Lasell Newton
CATEGORIES:QuickScores; Lacrosse Game
TRANSP:0
DALARM:20260314T000000;PT10M;2;Lasell vs. New England
END:VEVENT
BEGIN:VEVENT
DTSTART:20260321T000000
DTEND:20260321T000000
SUMMARY:New England vs. Saint Joseph CT
DESCRIPTION:2026 Men’s Lacrosse (5/1/25 AD Approved) - Great Northeast Athletic Conference
LOCATION:Henniker NH
CATEGORIES:QuickScores; Lacrosse Game
TRANSP:0
DALARM:20260321T000000;PT10M;2;New England vs. Saint Joseph CT
END:VEVENT
BEGIN:VEVENT
DTSTART:20260324T000000
DTEND:20260324T000000
SUMMARY:Emmanuel vs. New England
DESCRIPTION:2026 Men’s Lacrosse (5/1/25 AD Approved) - Great Northeast Athletic Conference
LOCATION:Roberto Clemente Field
CATEGORIES:QuickScores; Lacrosse Game
TRANSP:0
DALARM:20260324T000000;PT10M;2;Emmanuel vs. New England
END:VEVENT
BEGIN:VEVENT
DTSTART:20260328T000000
DTEND:20260328T000000
SUMMARY:Elms vs. New England
DESCRIPTION:2026 Men’s Lacrosse (5/1/25 AD Approved) - Great Northeast Athletic Conference
LOCATION:Timothy J. Leary Field Chicopee MA
CATEGORIES:QuickScores; Lacrosse Game
TRANSP:0
DALARM:20260328T000000;PT10M;2;Elms vs. New England
END:VEVENT
BEGIN:VEVENT
DTSTART:20260401T000000
DTEND:20260401T000000
SUMMARY:New England vs. Norwich
DESCRIPTION:2026 Men’s Lacrosse (5/1/25 AD Approved) - Great Northeast Athletic Conference
LOCATION:Henniker NH
CATEGORIES:QuickScores; Lacrosse Game
TRANSP:0
DALARM:20260401T000000;PT10M;2;New England vs. Norwich
END:VEVENT
BEGIN:VEVENT
DTSTART:20260404T000000
DTEND:20260404T000000
SUMMARY:New England vs. Dean
DESCRIPTION:2026 Men’s Lacrosse (5/1/25 AD Approved) - Great Northeast Athletic Conference
LOCATION:Henniker NH
CATEGORIES:QuickScores; Lacrosse Game
TRANSP:0
DALARM:20260404T000000;PT10M;2;New England vs. Dean
END:VEVENT
BEGIN:VEVENT
DTSTART:20260407T000000
DTEND:20260407T000000
SUMMARY:New England vs. Rivier
DESCRIPTION:2026 Men’s Lacrosse (5/1/25 AD Approved) - Great Northeast Athletic Conference
LOCATION:Henniker NH
CATEGORIES:QuickScores; Lacrosse Game
TRANSP:0
DALARM:20260407T000000;PT10M;2;New England vs. Rivier
END:VEVENT
BEGIN:VEVENT
DTSTART:20260411T000000
DTEND:20260411T000000
SUMMARY:Mitchell vs. New England
DESCRIPTION:2026 Men’s Lacrosse (5/1/25 AD Approved) - Great Northeast Athletic Conference
LOCATION:Mitchell College New London CT
CATEGORIES:QuickScores; Lacrosse Game
TRANSP:0
DALARM:20260411T000000;PT10M;2;Mitchell vs. New England
END:VEVENT
BEGIN:VEVENT
DTSTART:20260418T000000
DTEND:20260418T000000
SUMMARY:Albertus Magnus vs. New England
DESCRIPTION:2026 Men’s Lacrosse (5/1/25 AD Approved) - Great Northeast Athletic Conference
LOCATION:New Haven, CT
CATEGORIES:QuickScores; Lacrosse Game
TRANSP:0
DALARM:20260418T000000;PT10M;2;Albertus Magnus vs. New England
END:VEVENT
BEGIN:VEVENT
DTSTART:20260421T000000
DTEND:20260421T000000
SUMMARY:New England vs. Saint Joseph's ME
DESCRIPTION:2026 Men’s Lacrosse (5/1/25 AD Approved) - Great Northeast Athletic Conference
LOCATION:Henniker NH
CATEGORIES:QuickScores; Lacrosse Game
TRANSP:0
DALARM:20260421T000000;PT10M;2;New England vs. Saint Joseph's ME
END:VEVENT
END:VCALENDAR
