BEGIN:VCALENDAR
VERSION:1.0
BEGIN:VEVENT
DTSTART:20260228T000000
DTEND:20260228T000000
SUMMARY:Elms vs. Saint Joseph's ME
DESCRIPTION:2026 Men’s Lacrosse (5/1/25 AD Approved) - Great Northeast Athletic Conference
LOCATION:Timothy J. Leary Field Chicopee MA
CATEGORIES:QuickScores; Lacrosse Game
TRANSP:0
DALARM:20260228T000000;PT10M;2;Elms vs. Saint Joseph's ME
END:VEVENT
BEGIN:VEVENT
DTSTART:20260307T000000
DTEND:20260307T000000
SUMMARY:Elms vs. Albertus Magnus
DESCRIPTION:2026 Men’s Lacrosse (5/1/25 AD Approved) - Great Northeast Athletic Conference
LOCATION:Timothy J. Leary Field Chicopee MA
CATEGORIES:QuickScores; Lacrosse Game
TRANSP:0
DALARM:20260307T000000;PT10M;2;Elms vs. Albertus Magnus
END:VEVENT
BEGIN:VEVENT
DTSTART:20260310T000000
DTEND:20260310T000000
SUMMARY:Mitchell vs. Elms
DESCRIPTION:2026 Men’s Lacrosse (5/1/25 AD Approved) - Great Northeast Athletic Conference
LOCATION:Mitchell College New London CT
CATEGORIES:QuickScores; Lacrosse Game
TRANSP:0
DALARM:20260310T000000;PT10M;2;Mitchell vs. Elms
END:VEVENT
BEGIN:VEVENT
DTSTART:20260318T000000
DTEND:20260318T000000
SUMMARY:Elms vs. Emmanuel
DESCRIPTION:2026 Men’s Lacrosse (5/1/25 AD Approved) - Great Northeast Athletic Conference
LOCATION:Timothy J. Leary Field Chicopee MA
CATEGORIES:QuickScores; Lacrosse Game
TRANSP:0
DALARM:20260318T000000;PT10M;2;Elms vs. Emmanuel
END:VEVENT
BEGIN:VEVENT
DTSTART:20260321T000000
DTEND:20260321T000000
SUMMARY:Colby Sawyer vs. Elms
DESCRIPTION:2026 Men’s Lacrosse (5/1/25 AD Approved) - Great Northeast Athletic Conference
LOCATION:New London NH
CATEGORIES:QuickScores; Lacrosse Game
TRANSP:0
DALARM:20260321T000000;PT10M;2;Colby Sawyer vs. Elms
END:VEVENT
BEGIN:VEVENT
DTSTART:20260324T000000
DTEND:20260324T000000
SUMMARY:Dean vs. Elms
DESCRIPTION:2026 Men’s Lacrosse (5/1/25 AD Approved) - Great Northeast Athletic Conference
LOCATION:Franklin MA
CATEGORIES:QuickScores; Lacrosse Game
TRANSP:0
DALARM:20260324T000000;PT10M;2;Dean vs. Elms
END:VEVENT
BEGIN:VEVENT
DTSTART:20260328T000000
DTEND:20260328T000000
SUMMARY:Elms vs. New England
DESCRIPTION:2026 Men’s Lacrosse (5/1/25 AD Approved) - Great Northeast Athletic Conference
LOCATION:Timothy J. Leary Field Chicopee MA
CATEGORIES:QuickScores; Lacrosse Game
TRANSP:0
DALARM:20260328T000000;PT10M;2;Elms vs. New England
END:VEVENT
BEGIN:VEVENT
DTSTART:20260401T000000
DTEND:20260401T000000
SUMMARY:Lasell vs. Elms
DESCRIPTION:2026 Men’s Lacrosse (5/1/25 AD Approved) - Great Northeast Athletic Conference
LOCATION:Lasell Newton
CATEGORIES:QuickScores; Lacrosse Game
TRANSP:0
DALARM:20260401T000000;PT10M;2;Lasell vs. Elms
END:VEVENT
BEGIN:VEVENT
DTSTART:20260407T000000
DTEND:20260407T000000
SUMMARY:Elms vs. Saint Joseph CT
DESCRIPTION:2026 Men’s Lacrosse (5/1/25 AD Approved) - Great Northeast Athletic Conference
LOCATION:Timothy J. Leary Field Chicopee MA
CATEGORIES:QuickScores; Lacrosse Game
TRANSP:0
DALARM:20260407T000000;PT10M;2;Elms vs. Saint Joseph CT
END:VEVENT
BEGIN:VEVENT
DTSTART:20260411T000000
DTEND:20260411T000000
SUMMARY:Norwich vs. Elms
DESCRIPTION:2026 Men’s Lacrosse (5/1/25 AD Approved) - Great Northeast Athletic Conference
LOCATION:Northfield, VT
CATEGORIES:QuickScores; Lacrosse Game
TRANSP:0
DALARM:20260411T000000;PT10M;2;Norwich vs. Elms
END:VEVENT
BEGIN:VEVENT
DTSTART:20260418T000000
DTEND:20260418T000000
SUMMARY:Elms vs. Regis
DESCRIPTION:2026 Men’s Lacrosse (5/1/25 AD Approved) - Great Northeast Athletic Conference
LOCATION:Timothy J. Leary Field Chicopee MA
CATEGORIES:QuickScores; Lacrosse Game
TRANSP:0
DALARM:20260418T000000;PT10M;2;Elms vs. Regis
END:VEVENT
BEGIN:VEVENT
DTSTART:20260421T000000
DTEND:20260421T000000
SUMMARY:Rivier vs. Elms
DESCRIPTION:2026 Men’s Lacrosse (5/1/25 AD Approved) - Great Northeast Athletic Conference
LOCATION:Nashua, NH
CATEGORIES:QuickScores; Lacrosse Game
TRANSP:0
DALARM:20260421T000000;PT10M;2;Rivier vs. Elms
END:VEVENT
END:VCALENDAR
