BEGIN:VCALENDAR
VERSION:1.0
BEGIN:VEVENT
DTSTART:20080329T000000
DTEND:20080329T000000
SUMMARY:Norwich vs. Saint Joseph CT
DESCRIPTION:Women's GNAC Lacrosse - Great Northeast Athletic Conference
LOCATION:Norwich
CATEGORIES:QuickScores; Lacrosse Game
TRANSP:0
DALARM:20080329T000000;PT10M;2;Norwich vs. Saint Joseph CT
END:VEVENT
BEGIN:VEVENT
DTSTART:20080405T000000
DTEND:20080405T000000
SUMMARY:Norwich vs. Lasell
DESCRIPTION:Women's GNAC Lacrosse - Great Northeast Athletic Conference
LOCATION:Northfield, VT
CATEGORIES:QuickScores; Lacrosse Game
TRANSP:0
DALARM:20080405T000000;PT10M;2;Norwich vs. Lasell
END:VEVENT
BEGIN:VEVENT
DTSTART:20080413T000000
DTEND:20080413T000000
SUMMARY:Emerson vs. Norwich
DESCRIPTION:Women's GNAC Lacrosse - Great Northeast Athletic Conference
LOCATION:Rotch Field
CATEGORIES:QuickScores; Lacrosse Game
TRANSP:0
DALARM:20080413T000000;PT10M;2;Emerson vs. Norwich
END:VEVENT
BEGIN:VEVENT
DTSTART:20080418T000000
DTEND:20080418T000000
SUMMARY:Norwich vs. Pine Manor
DESCRIPTION:Women's GNAC Lacrosse - Great Northeast Athletic Conference
LOCATION:Northfield, VT
CATEGORIES:QuickScores; Lacrosse Game
TRANSP:0
DALARM:20080418T000000;PT10M;2;Norwich vs. Pine Manor
END:VEVENT
BEGIN:VEVENT
DTSTART:20080420T000000
DTEND:20080420T000000
SUMMARY:Saint Joseph's ME vs. Norwich
DESCRIPTION:Women's GNAC Lacrosse - Great Northeast Athletic Conference
LOCATION:Standish ME
CATEGORIES:QuickScores; Lacrosse Game
TRANSP:0
DALARM:20080420T000000;PT10M;2;Saint Joseph's ME vs. Norwich
END:VEVENT
END:VCALENDAR
