BEGIN:VCALENDAR
VERSION:1.0
BEGIN:VEVENT
DTSTART:20080322T000000
DTEND:20080322T000000
SUMMARY:Simmons vs. Emmanuel
DESCRIPTION:GNAC Softball 2008 - Great Northeast Athletic Conference
LOCATION:Simmons
CATEGORIES:QuickScores; Softball Game
TRANSP:0
DALARM:20080322T000000;PT10M;2;Simmons vs. Emmanuel
END:VEVENT
BEGIN:VEVENT
DTSTART:20080328T000000
DTEND:20080328T000000
SUMMARY:Saint Joseph CT vs. Emmanuel
DESCRIPTION:GNAC Softball 2008 - Great Northeast Athletic Conference
LOCATION:W. Hartford, CT
CATEGORIES:QuickScores; Softball Game
TRANSP:0
DALARM:20080328T000000;PT10M;2;Saint Joseph CT vs. Emmanuel
END:VEVENT
BEGIN:VEVENT
DTSTART:20080329T000000
DTEND:20080329T000000
SUMMARY:Emmanuel vs. Norwich
DESCRIPTION:GNAC Softball 2008 - Great Northeast Athletic Conference
LOCATION:Roberto Clemente Field
CATEGORIES:QuickScores; Softball Game
TRANSP:0
DALARM:20080329T000000;PT10M;2;Emmanuel vs. Norwich
END:VEVENT
BEGIN:VEVENT
DTSTART:20080330T000000
DTEND:20080330T000000
SUMMARY:Emmanuel vs. Pine Manor
DESCRIPTION:GNAC Softball 2008 - Great Northeast Athletic Conference
LOCATION:Roberto Clemente Field
CATEGORIES:QuickScores; Softball Game
TRANSP:0
DALARM:20080330T000000;PT10M;2;Emmanuel vs. Pine Manor
END:VEVENT
BEGIN:VEVENT
DTSTART:20080404T000000
DTEND:20080404T000000
SUMMARY:Rivier vs. Emmanuel
DESCRIPTION:GNAC Softball 2008 - Great Northeast Athletic Conference
LOCATION:Nashua, NH
CATEGORIES:QuickScores; Softball Game
TRANSP:0
DALARM:20080404T000000;PT10M;2;Rivier vs. Emmanuel
END:VEVENT
BEGIN:VEVENT
DTSTART:20080405T000000
DTEND:20080405T000000
SUMMARY:Daniel Webster vs. Emmanuel
DESCRIPTION:GNAC Softball 2008 - Great Northeast Athletic Conference
LOCATION:Daniel Webster
CATEGORIES:QuickScores; Softball Game
TRANSP:0
DALARM:20080405T000000;PT10M;2;Daniel Webster vs. Emmanuel
END:VEVENT
BEGIN:VEVENT
DTSTART:20080406T000000
DTEND:20080406T000000
SUMMARY:Lasell vs. Emmanuel
DESCRIPTION:GNAC Softball 2008 - Great Northeast Athletic Conference
LOCATION:Lasell Newton
CATEGORIES:QuickScores; Softball Game
TRANSP:0
DALARM:20080406T000000;PT10M;2;Lasell vs. Emmanuel
END:VEVENT
BEGIN:VEVENT
DTSTART:20080411T000000
DTEND:20080411T000000
SUMMARY:Suffolk vs. Emmanuel
DESCRIPTION:GNAC Softball 2008 - Great Northeast Athletic Conference
LOCATION:Puopolo Field Boston's North End
CATEGORIES:QuickScores; Softball Game
TRANSP:0
DALARM:20080411T000000;PT10M;2;Suffolk vs. Emmanuel
END:VEVENT
BEGIN:VEVENT
DTSTART:20080412T000000
DTEND:20080412T000000
SUMMARY:Albertus Magnus vs. Emmanuel
DESCRIPTION:GNAC Softball 2008 - Great Northeast Athletic Conference
LOCATION:New Haven, CT
CATEGORIES:QuickScores; Softball Game
TRANSP:0
DALARM:20080412T000000;PT10M;2;Albertus Magnus vs. Emmanuel
END:VEVENT
BEGIN:VEVENT
DTSTART:20080413T000000
DTEND:20080413T000000
SUMMARY:Emmanuel vs. Saint Joseph's ME
DESCRIPTION:GNAC Softball 2008 - Great Northeast Athletic Conference
LOCATION:Roberto Clemente Field
CATEGORIES:QuickScores; Softball Game
TRANSP:0
DALARM:20080413T000000;PT10M;2;Emmanuel vs. Saint Joseph's ME
END:VEVENT
BEGIN:VEVENT
DTSTART:20080418T000000
DTEND:20080418T000000
SUMMARY:Emmanuel vs. Emerson
DESCRIPTION:GNAC Softball 2008 - Great Northeast Athletic Conference
LOCATION:Roberto Clemente Field
CATEGORIES:QuickScores; Softball Game
TRANSP:0
DALARM:20080418T000000;PT10M;2;Emmanuel vs. Emerson
END:VEVENT
BEGIN:VEVENT
DTSTART:20080419T000000
DTEND:20080419T000000
SUMMARY:Emmanuel vs. Johnson & Wales
DESCRIPTION:GNAC Softball 2008 - Great Northeast Athletic Conference
LOCATION:Roberto Clemente Field
CATEGORIES:QuickScores; Softball Game
TRANSP:0
DALARM:20080419T000000;PT10M;2;Emmanuel vs. Johnson & Wales
END:VEVENT
BEGIN:VEVENT
DTSTART:20080420T000000
DTEND:20080420T000000
SUMMARY:Emmanuel vs. Mount Ida
DESCRIPTION:GNAC Softball 2008 - Great Northeast Athletic Conference
LOCATION:Roberto Clemente Field
CATEGORIES:QuickScores; Softball Game
TRANSP:0
DALARM:20080420T000000;PT10M;2;Emmanuel vs. Mount Ida
END:VEVENT
END:VCALENDAR
