BEGIN:VCALENDAR
VERSION:1.0
BEGIN:VEVENT
DTSTART:20080322T000000
DTEND:20080322T000000
SUMMARY:Norwich vs. Daniel Webster
DESCRIPTION:GNAC Softball 2008 - Great Northeast Athletic Conference
LOCATION:Northfield, VT
CATEGORIES:QuickScores; Softball Game
TRANSP:0
DALARM:20080322T000000;PT10M;2;Norwich vs. Daniel Webster
END:VEVENT
BEGIN:VEVENT
DTSTART:20080328T000000
DTEND:20080328T000000
SUMMARY:Saint Joseph's ME vs. Daniel Webster
DESCRIPTION:GNAC Softball 2008 - Great Northeast Athletic Conference
LOCATION:Standish ME
CATEGORIES:QuickScores; Softball Game
TRANSP:0
DALARM:20080328T000000;PT10M;2;Saint Joseph's ME vs. Daniel Webster
END:VEVENT
BEGIN:VEVENT
DTSTART:20080329T000000
DTEND:20080329T000000
SUMMARY:Daniel Webster vs. Albertus Magnus
DESCRIPTION:GNAC Softball 2008 - Great Northeast Athletic Conference
LOCATION:Nashua, NH
CATEGORIES:QuickScores; Softball Game
TRANSP:0
DALARM:20080329T000000;PT10M;2;Daniel Webster vs. Albertus Magnus
END:VEVENT
BEGIN:VEVENT
DTSTART:20080330T000000
DTEND:20080330T000000
SUMMARY:Simmons vs. Daniel Webster
DESCRIPTION:GNAC Softball 2008 - Great Northeast Athletic Conference
LOCATION:Simmons
CATEGORIES:QuickScores; Softball Game
TRANSP:0
DALARM:20080330T000000;PT10M;2;Simmons vs. Daniel Webster
END:VEVENT
BEGIN:VEVENT
DTSTART:20080404T000000
DTEND:20080404T000000
SUMMARY:Mount Ida vs. Daniel Webster
DESCRIPTION:GNAC Softball 2008 - Great Northeast Athletic Conference
LOCATION:Mount Ida
CATEGORIES:QuickScores; Softball Game
TRANSP:0
DALARM:20080404T000000;PT10M;2;Mount Ida vs. Daniel Webster
END:VEVENT
BEGIN:VEVENT
DTSTART:20080405T000000
DTEND:20080405T000000
SUMMARY:Daniel Webster vs. Emmanuel
DESCRIPTION:GNAC Softball 2008 - Great Northeast Athletic Conference
LOCATION:Daniel Webster
CATEGORIES:QuickScores; Softball Game
TRANSP:0
DALARM:20080405T000000;PT10M;2;Daniel Webster vs. Emmanuel
END:VEVENT
BEGIN:VEVENT
DTSTART:20080406T000000
DTEND:20080406T000000
SUMMARY:Emerson vs. Daniel Webster
DESCRIPTION:GNAC Softball 2008 - Great Northeast Athletic Conference
LOCATION:Rotch Field
CATEGORIES:QuickScores; Softball Game
TRANSP:0
DALARM:20080406T000000;PT10M;2;Emerson vs. Daniel Webster
END:VEVENT
BEGIN:VEVENT
DTSTART:20080411T000000
DTEND:20080411T000000
SUMMARY:Daniel Webster vs. Pine Manor
DESCRIPTION:GNAC Softball 2008 - Great Northeast Athletic Conference
LOCATION:Nashua, NH
CATEGORIES:QuickScores; Softball Game
TRANSP:0
DALARM:20080411T000000;PT10M;2;Daniel Webster vs. Pine Manor
END:VEVENT
BEGIN:VEVENT
DTSTART:20080412T000000
DTEND:20080412T000000
SUMMARY:Johnson & Wales vs. Daniel Webster
DESCRIPTION:GNAC Softball 2008 - Great Northeast Athletic Conference
LOCATION:Providence, RI
CATEGORIES:QuickScores; Softball Game
TRANSP:0
DALARM:20080412T000000;PT10M;2;Johnson & Wales vs. Daniel Webster
END:VEVENT
BEGIN:VEVENT
DTSTART:20080413T000000
DTEND:20080413T000000
SUMMARY:Daniel Webster vs. Lasell
DESCRIPTION:GNAC Softball 2008 - Great Northeast Athletic Conference
LOCATION:Daniel Webster
CATEGORIES:QuickScores; Softball Game
TRANSP:0
DALARM:20080413T000000;PT10M;2;Daniel Webster vs. Lasell
END:VEVENT
BEGIN:VEVENT
DTSTART:20080418T000000
DTEND:20080418T000000
SUMMARY:Daniel Webster vs. Suffolk
DESCRIPTION:GNAC Softball 2008 - Great Northeast Athletic Conference
LOCATION:Nashua, NH
CATEGORIES:QuickScores; Softball Game
TRANSP:0
DALARM:20080418T000000;PT10M;2;Daniel Webster vs. Suffolk
END:VEVENT
BEGIN:VEVENT
DTSTART:20080419T000000
DTEND:20080419T000000
SUMMARY:Rivier vs. Daniel Webster
DESCRIPTION:GNAC Softball 2008 - Great Northeast Athletic Conference
LOCATION:Rivier
CATEGORIES:QuickScores; Softball Game
TRANSP:0
DALARM:20080419T000000;PT10M;2;Rivier vs. Daniel Webster
END:VEVENT
BEGIN:VEVENT
DTSTART:20080420T000000
DTEND:20080420T000000
SUMMARY:Daniel Webster vs. Saint Joseph CT
DESCRIPTION:GNAC Softball 2008 - Great Northeast Athletic Conference
LOCATION:Nashua, NH
CATEGORIES:QuickScores; Softball Game
TRANSP:0
DALARM:20080420T000000;PT10M;2;Daniel Webster vs. Saint Joseph CT
END:VEVENT
END:VCALENDAR
