BEGIN:VCALENDAR
VERSION:1.0
BEGIN:VEVENT
DTSTART:20080322T000000
DTEND:20080322T000000
SUMMARY:Simmons vs. Emmanuel
DESCRIPTION:GNAC Softball 2008 - Great Northeast Athletic Conference
LOCATION:Simmons
CATEGORIES:QuickScores; Softball Game
TRANSP:0
DALARM:20080322T000000;PT10M;2;Simmons vs. Emmanuel
END:VEVENT
BEGIN:VEVENT
DTSTART:20080328T000000
DTEND:20080328T000000
SUMMARY:Emerson vs. Simmons
DESCRIPTION:GNAC Softball 2008 - Great Northeast Athletic Conference
LOCATION:Rotch Field
CATEGORIES:QuickScores; Softball Game
TRANSP:0
DALARM:20080328T000000;PT10M;2;Emerson vs. Simmons
END:VEVENT
BEGIN:VEVENT
DTSTART:20080329T000000
DTEND:20080329T000000
SUMMARY:Johnson & Wales vs. Simmons
DESCRIPTION:GNAC Softball 2008 - Great Northeast Athletic Conference
LOCATION:Providence, RI
CATEGORIES:QuickScores; Softball Game
TRANSP:0
DALARM:20080329T000000;PT10M;2;Johnson & Wales vs. Simmons
END:VEVENT
BEGIN:VEVENT
DTSTART:20080330T000000
DTEND:20080330T000000
SUMMARY:Simmons vs. Daniel Webster
DESCRIPTION:GNAC Softball 2008 - Great Northeast Athletic Conference
LOCATION:Simmons
CATEGORIES:QuickScores; Softball Game
TRANSP:0
DALARM:20080330T000000;PT10M;2;Simmons vs. Daniel Webster
END:VEVENT
BEGIN:VEVENT
DTSTART:20080404T000000
DTEND:20080404T000000
SUMMARY:Simmons vs. Saint Joseph's ME
DESCRIPTION:GNAC Softball 2008 - Great Northeast Athletic Conference
LOCATION:Simmons
CATEGORIES:QuickScores; Softball Game
TRANSP:0
DALARM:20080404T000000;PT10M;2;Simmons vs. Saint Joseph's ME
END:VEVENT
BEGIN:VEVENT
DTSTART:20080405T000000
DTEND:20080405T000000
SUMMARY:Rivier vs. Simmons
DESCRIPTION:GNAC Softball 2008 - Great Northeast Athletic Conference
LOCATION:Nashua, NH
CATEGORIES:QuickScores; Softball Game
TRANSP:0
DALARM:20080405T000000;PT10M;2;Rivier vs. Simmons
END:VEVENT
BEGIN:VEVENT
DTSTART:20080406T000000
DTEND:20080406T000000
SUMMARY:Simmons vs. Pine Manor
DESCRIPTION:GNAC Softball 2008 - Great Northeast Athletic Conference
LOCATION:Simmons
CATEGORIES:QuickScores; Softball Game
TRANSP:0
DALARM:20080406T000000;PT10M;2;Simmons vs. Pine Manor
END:VEVENT
BEGIN:VEVENT
DTSTART:20080411T000000
DTEND:20080411T000000
SUMMARY:Simmons vs. Norwich
DESCRIPTION:GNAC Softball 2008 - Great Northeast Athletic Conference
LOCATION:Simmons
CATEGORIES:QuickScores; Softball Game
TRANSP:0
DALARM:20080411T000000;PT10M;2;Simmons vs. Norwich
END:VEVENT
BEGIN:VEVENT
DTSTART:20080412T000000
DTEND:20080412T000000
SUMMARY:Simmons vs. Mount Ida
DESCRIPTION:GNAC Softball 2008 - Great Northeast Athletic Conference
LOCATION:Simmons
CATEGORIES:QuickScores; Softball Game
TRANSP:0
DALARM:20080412T000000;PT10M;2;Simmons vs. Mount Ida
END:VEVENT
BEGIN:VEVENT
DTSTART:20080413T000000
DTEND:20080413T000000
SUMMARY:Simmons vs. Suffolk
DESCRIPTION:GNAC Softball 2008 - Great Northeast Athletic Conference
LOCATION:Simmons
CATEGORIES:QuickScores; Softball Game
TRANSP:0
DALARM:20080413T000000;PT10M;2;Simmons vs. Suffolk
END:VEVENT
BEGIN:VEVENT
DTSTART:20080418T000000
DTEND:20080418T000000
SUMMARY:Albertus Magnus vs. Simmons
DESCRIPTION:GNAC Softball 2008 - Great Northeast Athletic Conference
LOCATION:New Haven, CT
CATEGORIES:QuickScores; Softball Game
TRANSP:0
DALARM:20080418T000000;PT10M;2;Albertus Magnus vs. Simmons
END:VEVENT
BEGIN:VEVENT
DTSTART:20080419T000000
DTEND:20080419T000000
SUMMARY:Saint Joseph CT vs. Simmons
DESCRIPTION:GNAC Softball 2008 - Great Northeast Athletic Conference
LOCATION:W. Hartford, CT
CATEGORIES:QuickScores; Softball Game
TRANSP:0
DALARM:20080419T000000;PT10M;2;Saint Joseph CT vs. Simmons
END:VEVENT
BEGIN:VEVENT
DTSTART:20080420T000000
DTEND:20080420T000000
SUMMARY:Lasell vs. Simmons
DESCRIPTION:GNAC Softball 2008 - Great Northeast Athletic Conference
LOCATION:Lasell Newton
CATEGORIES:QuickScores; Softball Game
TRANSP:0
DALARM:20080420T000000;PT10M;2;Lasell vs. Simmons
END:VEVENT
END:VCALENDAR
