BEGIN:VCALENDAR
VERSION:1.0
BEGIN:VEVENT
DTSTART:20080322T000000
DTEND:20080322T000000
SUMMARY:Suffolk vs. Rivier
DESCRIPTION:GNAC Softball 2008 - Great Northeast Athletic Conference
LOCATION:Puopolo Field Boston's North End
CATEGORIES:QuickScores; Softball Game
TRANSP:0
DALARM:20080322T000000;PT10M;2;Suffolk vs. Rivier
END:VEVENT
BEGIN:VEVENT
DTSTART:20080328T000000
DTEND:20080328T000000
SUMMARY:Rivier vs. Albertus Magnus
DESCRIPTION:AMC in Nashua for the weekend --- GNAC Softball 2008 - Great Northeast Athletic Conference
LOCATION:Nashua, NH
CATEGORIES:QuickScores; Softball Game
TRANSP:0
DALARM:20080328T000000;PT10M;2;Rivier vs. Albertus Magnus
END:VEVENT
BEGIN:VEVENT
DTSTART:20080329T000000
DTEND:20080329T000000
SUMMARY:Pine Manor vs. Rivier
DESCRIPTION:GNAC Softball 2008 - Great Northeast Athletic Conference
LOCATION:Pine Manor
CATEGORIES:QuickScores; Softball Game
TRANSP:0
DALARM:20080329T000000;PT10M;2;Pine Manor vs. Rivier
END:VEVENT
BEGIN:VEVENT
DTSTART:20080330T000000
DTEND:20080330T000000
SUMMARY:Emerson vs. Rivier
DESCRIPTION:GNAC Softball 2008 - Great Northeast Athletic Conference
LOCATION:Rotch Field
CATEGORIES:QuickScores; Softball Game
TRANSP:0
DALARM:20080330T000000;PT10M;2;Emerson vs. Rivier
END:VEVENT
BEGIN:VEVENT
DTSTART:20080404T000000
DTEND:20080404T000000
SUMMARY:Rivier vs. Emmanuel
DESCRIPTION:GNAC Softball 2008 - Great Northeast Athletic Conference
LOCATION:Nashua, NH
CATEGORIES:QuickScores; Softball Game
TRANSP:0
DALARM:20080404T000000;PT10M;2;Rivier vs. Emmanuel
END:VEVENT
BEGIN:VEVENT
DTSTART:20080405T000000
DTEND:20080405T000000
SUMMARY:Rivier vs. Simmons
DESCRIPTION:GNAC Softball 2008 - Great Northeast Athletic Conference
LOCATION:Nashua, NH
CATEGORIES:QuickScores; Softball Game
TRANSP:0
DALARM:20080405T000000;PT10M;2;Rivier vs. Simmons
END:VEVENT
BEGIN:VEVENT
DTSTART:20080406T000000
DTEND:20080406T000000
SUMMARY:Rivier vs. Saint Joseph CT
DESCRIPTION:GNAC Softball 2008 - Great Northeast Athletic Conference
LOCATION:Nashua, NH
CATEGORIES:QuickScores; Softball Game
TRANSP:0
DALARM:20080406T000000;PT10M;2;Rivier vs. Saint Joseph CT
END:VEVENT
BEGIN:VEVENT
DTSTART:20080411T000000
DTEND:20080411T000000
SUMMARY:Lasell vs. Rivier
DESCRIPTION:GNAC Softball 2008 - Great Northeast Athletic Conference
LOCATION:Lasell Newton
CATEGORIES:QuickScores; Softball Game
TRANSP:0
DALARM:20080411T000000;PT10M;2;Lasell vs. Rivier
END:VEVENT
BEGIN:VEVENT
DTSTART:20080412T000000
DTEND:20080412T000000
SUMMARY:Norwich vs. Rivier
DESCRIPTION:GNAC Softball 2008 - Great Northeast Athletic Conference
LOCATION:Northfield, VT
CATEGORIES:QuickScores; Softball Game
TRANSP:0
DALARM:20080412T000000;PT10M;2;Norwich vs. Rivier
END:VEVENT
BEGIN:VEVENT
DTSTART:20080413T000000
DTEND:20080413T000000
SUMMARY:Rivier vs. Mount Ida
DESCRIPTION:GNAC Softball 2008 - Great Northeast Athletic Conference
LOCATION:Nashua, NH
CATEGORIES:QuickScores; Softball Game
TRANSP:0
DALARM:20080413T000000;PT10M;2;Rivier vs. Mount Ida
END:VEVENT
BEGIN:VEVENT
DTSTART:20080418T000000
DTEND:20080418T000000
SUMMARY:Rivier vs. Saint Joseph's ME
DESCRIPTION:GNAC Softball 2008 - Great Northeast Athletic Conference
LOCATION:Rivier
CATEGORIES:QuickScores; Softball Game
TRANSP:0
DALARM:20080418T000000;PT10M;2;Rivier vs. Saint Joseph's ME
END:VEVENT
BEGIN:VEVENT
DTSTART:20080419T000000
DTEND:20080419T000000
SUMMARY:Rivier vs. Daniel Webster
DESCRIPTION:GNAC Softball 2008 - Great Northeast Athletic Conference
LOCATION:Rivier
CATEGORIES:QuickScores; Softball Game
TRANSP:0
DALARM:20080419T000000;PT10M;2;Rivier vs. Daniel Webster
END:VEVENT
BEGIN:VEVENT
DTSTART:20080420T000000
DTEND:20080420T000000
SUMMARY:Johnson & Wales vs. Rivier
DESCRIPTION:GNAC Softball 2008 - Great Northeast Athletic Conference
LOCATION:Providence, RI
CATEGORIES:QuickScores; Softball Game
TRANSP:0
DALARM:20080420T000000;PT10M;2;Johnson & Wales vs. Rivier
END:VEVENT
END:VCALENDAR
