BEGIN:VCALENDAR
VERSION:1.0
BEGIN:VEVENT
DTSTART:20080322T000000
DTEND:20080322T000000
SUMMARY:Pine Manor vs. Johnson & Wales
DESCRIPTION:GNAC Softball 2008 - Great Northeast Athletic Conference
LOCATION:Pine Manor
CATEGORIES:QuickScores; Softball Game
TRANSP:0
DALARM:20080322T000000;PT10M;2;Pine Manor vs. Johnson & Wales
END:VEVENT
BEGIN:VEVENT
DTSTART:20080328T000000
DTEND:20080328T000000
SUMMARY:Suffolk vs. Pine Manor
DESCRIPTION:GNAC Softball 2008 - Great Northeast Athletic Conference
LOCATION:Puopolo Field Boston's North End
CATEGORIES:QuickScores; Softball Game
TRANSP:0
DALARM:20080328T000000;PT10M;2;Suffolk vs. Pine Manor
END:VEVENT
BEGIN:VEVENT
DTSTART:20080329T000000
DTEND:20080329T000000
SUMMARY:Pine Manor vs. Rivier
DESCRIPTION:GNAC Softball 2008 - Great Northeast Athletic Conference
LOCATION:Pine Manor
CATEGORIES:QuickScores; Softball Game
TRANSP:0
DALARM:20080329T000000;PT10M;2;Pine Manor vs. Rivier
END:VEVENT
BEGIN:VEVENT
DTSTART:20080330T000000
DTEND:20080330T000000
SUMMARY:Emmanuel vs. Pine Manor
DESCRIPTION:GNAC Softball 2008 - Great Northeast Athletic Conference
LOCATION:Roberto Clemente Field
CATEGORIES:QuickScores; Softball Game
TRANSP:0
DALARM:20080330T000000;PT10M;2;Emmanuel vs. Pine Manor
END:VEVENT
BEGIN:VEVENT
DTSTART:20080404T000000
DTEND:20080404T000000
SUMMARY:Pine Manor vs. Lasell
DESCRIPTION:GNAC Softball 2008 - Great Northeast Athletic Conference
LOCATION:Chestnut Hill, MA
CATEGORIES:QuickScores; Softball Game
TRANSP:0
DALARM:20080404T000000;PT10M;2;Pine Manor vs. Lasell
END:VEVENT
BEGIN:VEVENT
DTSTART:20080405T000000
DTEND:20080405T000000
SUMMARY:Mount Ida vs. Pine Manor
DESCRIPTION:GNAC Softball 2008 - Great Northeast Athletic Conference
LOCATION:Mount Ida
CATEGORIES:QuickScores; Softball Game
TRANSP:0
DALARM:20080405T000000;PT10M;2;Mount Ida vs. Pine Manor
END:VEVENT
BEGIN:VEVENT
DTSTART:20080406T000000
DTEND:20080406T000000
SUMMARY:Simmons vs. Pine Manor
DESCRIPTION:GNAC Softball 2008 - Great Northeast Athletic Conference
LOCATION:Simmons
CATEGORIES:QuickScores; Softball Game
TRANSP:0
DALARM:20080406T000000;PT10M;2;Simmons vs. Pine Manor
END:VEVENT
BEGIN:VEVENT
DTSTART:20080411T000000
DTEND:20080411T000000
SUMMARY:Daniel Webster vs. Pine Manor
DESCRIPTION:GNAC Softball 2008 - Great Northeast Athletic Conference
LOCATION:Nashua, NH
CATEGORIES:QuickScores; Softball Game
TRANSP:0
DALARM:20080411T000000;PT10M;2;Daniel Webster vs. Pine Manor
END:VEVENT
BEGIN:VEVENT
DTSTART:20080412T000000
DTEND:20080412T000000
SUMMARY:Pine Manor vs. Saint Joseph CT
DESCRIPTION:GNAC Softball 2008 - Great Northeast Athletic Conference
LOCATION:Chestnut Hill, MA
CATEGORIES:QuickScores; Softball Game
TRANSP:0
DALARM:20080412T000000;PT10M;2;Pine Manor vs. Saint Joseph CT
END:VEVENT
BEGIN:VEVENT
DTSTART:20080413T000000
DTEND:20080413T000000
SUMMARY:Pine Manor vs. Albertus Magnus
DESCRIPTION:GNAC Softball 2008 - Great Northeast Athletic Conference
LOCATION:Chestnut Hill, MA
CATEGORIES:QuickScores; Softball Game
TRANSP:0
DALARM:20080413T000000;PT10M;2;Pine Manor vs. Albertus Magnus
END:VEVENT
BEGIN:VEVENT
DTSTART:20080418T000000
DTEND:20080418T000000
SUMMARY:Norwich vs. Pine Manor
DESCRIPTION:GNAC Softball 2008 - Great Northeast Athletic Conference
LOCATION:Northfield, VT
CATEGORIES:QuickScores; Softball Game
TRANSP:0
DALARM:20080418T000000;PT10M;2;Norwich vs. Pine Manor
END:VEVENT
BEGIN:VEVENT
DTSTART:20080419T000000
DTEND:20080419T000000
SUMMARY:Saint Joseph's ME vs. Pine Manor
DESCRIPTION:GNAC Softball 2008 - Great Northeast Athletic Conference
LOCATION:Standish ME
CATEGORIES:QuickScores; Softball Game
TRANSP:0
DALARM:20080419T000000;PT10M;2;Saint Joseph's ME vs. Pine Manor
END:VEVENT
BEGIN:VEVENT
DTSTART:20080420T000000
DTEND:20080420T000000
SUMMARY:Pine Manor vs. Emerson
DESCRIPTION:GNAC Softball 2008 - Great Northeast Athletic Conference
LOCATION:Pine Manor
CATEGORIES:QuickScores; Softball Game
TRANSP:0
DALARM:20080420T000000;PT10M;2;Pine Manor vs. Emerson
END:VEVENT
END:VCALENDAR
