BEGIN:VCALENDAR
VERSION:1.0
BEGIN:VEVENT
DTSTART:20240407T000000
DTEND:20240407T000000
SUMMARY:Saint Joseph CT vs. Lasell
DESCRIPTION:2024 Softball (5/10/23) - Great Northeast Athletic Conference
LOCATION:W. Hartford, CT
CATEGORIES:QuickScores; Softball Game
TRANSP:0
DALARM:20240407T000000;PT10M;2;Saint Joseph CT vs. Lasell
END:VEVENT
BEGIN:VEVENT
DTSTART:20240413T000000
DTEND:20240413T000000
SUMMARY:Johnson & Wales vs. Saint Joseph CT
DESCRIPTION:2024 Softball (5/10/23) - Great Northeast Athletic Conference
LOCATION:Scotts Miracle Gro Athletic Complex
CATEGORIES:QuickScores; Softball Game
TRANSP:0
DALARM:20240413T000000;PT10M;2;Johnson & Wales vs. Saint Joseph CT
END:VEVENT
BEGIN:VEVENT
DTSTART:20240414T000000
DTEND:20240414T000000
SUMMARY:Saint Joseph CT vs. Rivier
DESCRIPTION:2024 Softball (5/10/23) - Great Northeast Athletic Conference
LOCATION:W. Hartford, CT
CATEGORIES:QuickScores; Softball Game
TRANSP:0
DALARM:20240414T000000;PT10M;2;Saint Joseph CT vs. Rivier
END:VEVENT
BEGIN:VEVENT
DTSTART:20240417T000000
DTEND:20240417T000000
SUMMARY:Mitchell vs. Saint Joseph CT
DESCRIPTION:2024 Softball (5/10/23) - Great Northeast Athletic Conference
LOCATION:Mitchell College New London CT
CATEGORIES:QuickScores; Softball Game
TRANSP:0
DALARM:20240417T000000;PT10M;2;Mitchell vs. Saint Joseph CT
END:VEVENT
BEGIN:VEVENT
DTSTART:20240421T000000
DTEND:20240421T000000
SUMMARY:Dean vs. Saint Joseph CT
DESCRIPTION:2024 Softball (5/10/23) - Great Northeast Athletic Conference
LOCATION:Franklin MA
CATEGORIES:QuickScores; Softball Game
TRANSP:0
DALARM:20240421T000000;PT10M;2;Dean vs. Saint Joseph CT
END:VEVENT
BEGIN:VEVENT
DTSTART:20240424T000000
DTEND:20240424T000000
SUMMARY:Saint Joseph CT vs. Albertus Magnus
DESCRIPTION:2024 Softball (5/10/23) - Great Northeast Athletic Conference
LOCATION:W. Hartford, CT
CATEGORIES:QuickScores; Softball Game
TRANSP:0
DALARM:20240424T000000;PT10M;2;Saint Joseph CT vs. Albertus Magnus
END:VEVENT
BEGIN:VEVENT
DTSTART:20240427T000000
DTEND:20240427T000000
SUMMARY:Elms vs. Saint Joseph CT
DESCRIPTION:2024 Softball (5/10/23) - Great Northeast Athletic Conference
LOCATION:Condon Field
CATEGORIES:QuickScores; Softball Game
TRANSP:0
DALARM:20240427T000000;PT10M;2;Elms vs. Saint Joseph CT
END:VEVENT
BEGIN:VEVENT
DTSTART:20240428T000000
DTEND:20240428T000000
SUMMARY:Saint Joseph CT vs. Regis
DESCRIPTION:2024 Softball (5/10/23) - Great Northeast Athletic Conference
LOCATION:W. Hartford, CT
CATEGORIES:QuickScores; Softball Game
TRANSP:0
DALARM:20240428T000000;PT10M;2;Saint Joseph CT vs. Regis
END:VEVENT
END:VCALENDAR
