BEGIN:VCALENDAR
VERSION:1.0
BEGIN:VEVENT
DTSTART:20240406T000000
DTEND:20240406T000000
SUMMARY:Lasell vs. Norwich
DESCRIPTION:2024 Softball (5/10/23) - Great Northeast Athletic Conference
LOCATION:Taylor Field at Lasell College
CATEGORIES:QuickScores; Softball Game
TRANSP:0
DALARM:20240406T000000;PT10M;2;Lasell vs. Norwich
END:VEVENT
BEGIN:VEVENT
DTSTART:20240407T000000
DTEND:20240407T000000
SUMMARY:Norwich vs. Rivier
DESCRIPTION:2024 Softball (5/10/23) - Great Northeast Athletic Conference
LOCATION:Northfield, VT
CATEGORIES:QuickScores; Softball Game
TRANSP:0
DALARM:20240407T000000;PT10M;2;Norwich vs. Rivier
END:VEVENT
BEGIN:VEVENT
DTSTART:20240414T000000
DTEND:20240414T000000
SUMMARY:Dean vs. Norwich
DESCRIPTION:2024 Softball (5/10/23) - Great Northeast Athletic Conference
LOCATION:Franklin MA
CATEGORIES:QuickScores; Softball Game
TRANSP:0
DALARM:20240414T000000;PT10M;2;Dean vs. Norwich
END:VEVENT
BEGIN:VEVENT
DTSTART:20240417T000000
DTEND:20240417T000000
SUMMARY:Norwich vs. New England
DESCRIPTION:2024 Softball (5/10/23) - Great Northeast Athletic Conference
LOCATION:Northfield, VT
CATEGORIES:QuickScores; Softball Game
TRANSP:0
DALARM:20240417T000000;PT10M;2;Norwich vs. New England
END:VEVENT
BEGIN:VEVENT
DTSTART:20240420T000000
DTEND:20240420T000000
SUMMARY:Norwich vs. Simmons
DESCRIPTION:2024 Softball (5/10/23) - Great Northeast Athletic Conference
LOCATION:Northfield, VT
CATEGORIES:QuickScores; Softball Game
TRANSP:0
DALARM:20240420T000000;PT10M;2;Norwich vs. Simmons
END:VEVENT
BEGIN:VEVENT
DTSTART:20240421T000000
DTEND:20240421T000000
SUMMARY:Emmanuel vs. Norwich
DESCRIPTION:2024 Softball (5/10/23) - Great Northeast Athletic Conference
LOCATION:Roberto Clemente Field
CATEGORIES:QuickScores; Softball Game
TRANSP:0
DALARM:20240421T000000;PT10M;2;Emmanuel vs. Norwich
END:VEVENT
BEGIN:VEVENT
DTSTART:20240427T000000
DTEND:20240427T000000
SUMMARY:Saint Joseph's ME vs. Norwich
DESCRIPTION:2024 Softball (5/10/23) - Great Northeast Athletic Conference
LOCATION:Standish ME
CATEGORIES:QuickScores; Softball Game
TRANSP:0
DALARM:20240427T000000;PT10M;2;Saint Joseph's ME vs. Norwich
END:VEVENT
BEGIN:VEVENT
DTSTART:20240428T000000
DTEND:20240428T000000
SUMMARY:Norwich vs. Anna Maria
DESCRIPTION:2024 Softball (5/10/23) - Great Northeast Athletic Conference
LOCATION:Northfield, VT
CATEGORIES:QuickScores; Softball Game
TRANSP:0
DALARM:20240428T000000;PT10M;2;Norwich vs. Anna Maria
END:VEVENT
END:VCALENDAR
