BEGIN:VCALENDAR
VERSION:1.0
BEGIN:VEVENT
DTSTART:20240407T000000
DTEND:20240407T000000
SUMMARY:Emmanuel vs. Anna Maria
DESCRIPTION:2024 Softball (5/10/23) - Great Northeast Athletic Conference
LOCATION:Roberto Clemente Field
CATEGORIES:QuickScores; Softball Game
TRANSP:0
DALARM:20240407T000000;PT10M;2;Emmanuel vs. Anna Maria
END:VEVENT
BEGIN:VEVENT
DTSTART:20240413T000000
DTEND:20240413T000000
SUMMARY:Anna Maria vs. Simmons
DESCRIPTION:2024 Softball (5/10/23) - Great Northeast Athletic Conference
LOCATION:Paxton MA
CATEGORIES:QuickScores; Softball Game
TRANSP:0
DALARM:20240413T000000;PT10M;2;Anna Maria vs. Simmons
END:VEVENT
BEGIN:VEVENT
DTSTART:20240414T000000
DTEND:20240414T000000
SUMMARY:Anna Maria vs. Saint Joseph's ME
DESCRIPTION:2024 Softball (5/10/23) - Great Northeast Athletic Conference
LOCATION:Paxton MA
CATEGORIES:QuickScores; Softball Game
TRANSP:0
DALARM:20240414T000000;PT10M;2;Anna Maria vs. Saint Joseph's ME
END:VEVENT
BEGIN:VEVENT
DTSTART:20240420T000000
DTEND:20240420T000000
SUMMARY:Rivier vs. Anna Maria
DESCRIPTION:2024 Softball (5/10/23) - Great Northeast Athletic Conference
LOCATION:Nashua, NH
CATEGORIES:QuickScores; Softball Game
TRANSP:0
DALARM:20240420T000000;PT10M;2;Rivier vs. Anna Maria
END:VEVENT
BEGIN:VEVENT
DTSTART:20240421T000000
DTEND:20240421T000000
SUMMARY:Anna Maria vs. Lasell
DESCRIPTION:2024 Softball (5/10/23) - Great Northeast Athletic Conference
LOCATION:Paxton MA
CATEGORIES:QuickScores; Softball Game
TRANSP:0
DALARM:20240421T000000;PT10M;2;Anna Maria vs. Lasell
END:VEVENT
BEGIN:VEVENT
DTSTART:20240424T000000
DTEND:20240424T000000
SUMMARY:Elms vs. Anna Maria
DESCRIPTION:2024 Softball (5/10/23) - Great Northeast Athletic Conference
LOCATION:Condon Field
CATEGORIES:QuickScores; Softball Game
TRANSP:0
DALARM:20240424T000000;PT10M;2;Elms vs. Anna Maria
END:VEVENT
BEGIN:VEVENT
DTSTART:20240427T000000
DTEND:20240427T000000
SUMMARY:Anna Maria vs. New England
DESCRIPTION:2024 Softball (5/10/23) - Great Northeast Athletic Conference
LOCATION:Paxton MA
CATEGORIES:QuickScores; Softball Game
TRANSP:0
DALARM:20240427T000000;PT10M;2;Anna Maria vs. New England
END:VEVENT
BEGIN:VEVENT
DTSTART:20240428T000000
DTEND:20240428T000000
SUMMARY:Norwich vs. Anna Maria
DESCRIPTION:2024 Softball (5/10/23) - Great Northeast Athletic Conference
LOCATION:Northfield, VT
CATEGORIES:QuickScores; Softball Game
TRANSP:0
DALARM:20240428T000000;PT10M;2;Norwich vs. Anna Maria
END:VEVENT
END:VCALENDAR
