BEGIN:VCALENDAR
VERSION:1.0
BEGIN:VEVENT
DTSTART:20231202T000000
DTEND:20231202T000000
SUMMARY:Saint Joseph's ME vs. Saint Joseph CT
DESCRIPTION:2023-2024 Doubleheader --- 2023-2024 MBB  (12/15/22) all games DHs - Great Northeast Athletic Conference
LOCATION:Standish ME
CATEGORIES:QuickScores; Basketball Game
TRANSP:0
DALARM:20231202T000000;PT10M;2;Saint Joseph's ME vs. Saint Joseph CT
END:VEVENT
BEGIN:VEVENT
DTSTART:20231209T000000
DTEND:20231209T000000
SUMMARY:Saint Joseph CT vs. New England
DESCRIPTION:2023-2024 Doubleheader --- 2023-2024 MBB  (12/15/22) all games DHs - Great Northeast Athletic Conference
LOCATION:W. Hartford, CT
CATEGORIES:QuickScores; Basketball Game
TRANSP:0
DALARM:20231209T000000;PT10M;2;Saint Joseph CT vs. New England
END:VEVENT
BEGIN:VEVENT
DTSTART:20240106T000000
DTEND:20240106T000000
SUMMARY:Norwich vs. Saint Joseph CT
DESCRIPTION:2023-2024 Doubleheader --- 2023-2024 MBB  (12/15/22) all games DHs - Great Northeast Athletic Conference
LOCATION:Northfield, VT
CATEGORIES:QuickScores; Basketball Game
TRANSP:0
DALARM:20240106T000000;PT10M;2;Norwich vs. Saint Joseph CT
END:VEVENT
BEGIN:VEVENT
DTSTART:20240110T000000
DTEND:20240110T000000
SUMMARY:Saint Joseph CT vs. Anna Maria
DESCRIPTION:2023-2024 Doubleheader --- 2023-2024 MBB  (12/15/22) all games DHs - Great Northeast Athletic Conference
LOCATION:W. Hartford, CT
CATEGORIES:QuickScores; Basketball Game
TRANSP:0
DALARM:20240110T000000;PT10M;2;Saint Joseph CT vs. Anna Maria
END:VEVENT
BEGIN:VEVENT
DTSTART:20240113T000000
DTEND:20240113T000000
SUMMARY:Rivier vs. Saint Joseph CT
DESCRIPTION:2023-2024 Doubleheader --- 2023-2024 MBB  (12/15/22) all games DHs - Great Northeast Athletic Conference
LOCATION:Nashua, NH
CATEGORIES:QuickScores; Basketball Game
TRANSP:0
DALARM:20240113T000000;PT10M;2;Rivier vs. Saint Joseph CT
END:VEVENT
BEGIN:VEVENT
DTSTART:20240116T000000
DTEND:20240116T000000
SUMMARY:Saint Joseph CT vs. Emmanuel
DESCRIPTION:2023-2024 Doubleheader --- 2023-2024 MBB  (12/15/22) all games DHs - Great Northeast Athletic Conference
LOCATION:W. Hartford, CT
CATEGORIES:QuickScores; Basketball Game
TRANSP:0
DALARM:20240116T000000;PT10M;2;Saint Joseph CT vs. Emmanuel
END:VEVENT
BEGIN:VEVENT
DTSTART:20240120T000000
DTEND:20240120T000000
SUMMARY:Saint Joseph CT vs. Regis
DESCRIPTION:2023-2024 Doubleheader --- 2023-2024 MBB  (12/15/22) all games DHs - Great Northeast Athletic Conference
LOCATION:W. Hartford, CT
CATEGORIES:QuickScores; Basketball Game
TRANSP:0
DALARM:20240120T000000;PT10M;2;Saint Joseph CT vs. Regis
END:VEVENT
BEGIN:VEVENT
DTSTART:20240124T000000
DTEND:20240124T000000
SUMMARY:Mitchell vs. Saint Joseph CT
DESCRIPTION:2023-2024 Doubleheader --- 2023-2024 MBB  (12/15/22) all games DHs - Great Northeast Athletic Conference
LOCATION:Mitchell College New London CT
CATEGORIES:QuickScores; Basketball Game
TRANSP:0
DALARM:20240124T000000;PT10M;2;Mitchell vs. Saint Joseph CT
END:VEVENT
BEGIN:VEVENT
DTSTART:20240130T000000
DTEND:20240130T000000
SUMMARY:Dean vs. Saint Joseph CT
DESCRIPTION:2023-2024 Doubleheader --- 2023-2024 MBB  (12/15/22) all games DHs - Great Northeast Athletic Conference
LOCATION:Franklin MA
CATEGORIES:QuickScores; Basketball Game
TRANSP:0
DALARM:20240130T000000;PT10M;2;Dean vs. Saint Joseph CT
END:VEVENT
BEGIN:VEVENT
DTSTART:20240203T000000
DTEND:20240203T000000
SUMMARY:Saint Joseph CT vs. Albertus Magnus
DESCRIPTION:2023-2024 Doubleheader --- 2023-2024 MBB  (12/15/22) all games DHs - Great Northeast Athletic Conference
LOCATION:W. Hartford, CT
CATEGORIES:QuickScores; Basketball Game
TRANSP:0
DALARM:20240203T000000;PT10M;2;Saint Joseph CT vs. Albertus Magnus
END:VEVENT
BEGIN:VEVENT
DTSTART:20240207T000000
DTEND:20240207T000000
SUMMARY:Johnson & Wales vs. Saint Joseph CT
DESCRIPTION:2023-2024 Doubleheader --- 2023-2024 MBB  (12/15/22) all games DHs - Great Northeast Athletic Conference
LOCATION:Harborside Athletic Center
CATEGORIES:QuickScores; Basketball Game
TRANSP:0
DALARM:20240207T000000;PT10M;2;Johnson & Wales vs. Saint Joseph CT
END:VEVENT
BEGIN:VEVENT
DTSTART:20240210T000000
DTEND:20240210T000000
SUMMARY:Elms vs. Saint Joseph CT
DESCRIPTION:2023-2024 Doubleheader --- 2023-2024 MBB  (12/15/22) all games DHs - Great Northeast Athletic Conference
LOCATION:Maguire Center
CATEGORIES:QuickScores; Basketball Game
TRANSP:0
DALARM:20240210T000000;PT10M;2;Elms vs. Saint Joseph CT
END:VEVENT
BEGIN:VEVENT
DTSTART:20240213T000000
DTEND:20240213T000000
SUMMARY:Saint Joseph CT vs. Lasell
DESCRIPTION:2023-2024 Doubleheader --- 2023-2024 MBB  (12/15/22) all games DHs - Great Northeast Athletic Conference
LOCATION:W. Hartford, CT
CATEGORIES:QuickScores; Basketball Game
TRANSP:0
DALARM:20240213T000000;PT10M;2;Saint Joseph CT vs. Lasell
END:VEVENT
BEGIN:VEVENT
DTSTART:20240217T000000
DTEND:20240217T000000
SUMMARY:Saint Joseph CT vs. Colby Sawyer
DESCRIPTION:2023-2024 Doubleheader --- 2023-2024 MBB  (12/15/22) all games DHs - Great Northeast Athletic Conference
LOCATION:W. Hartford, CT
CATEGORIES:QuickScores; Basketball Game
TRANSP:0
DALARM:20240217T000000;PT10M;2;Saint Joseph CT vs. Colby Sawyer
END:VEVENT
END:VCALENDAR
