BEGIN:VCALENDAR
VERSION:1.0
BEGIN:VEVENT
DTSTART:20231202T000000
DTEND:20231202T000000
SUMMARY:Colby Sawyer vs. Albertus Magnus
DESCRIPTION:2023-2024 Doubleheader --- 2023-2024 MBB  (12/15/22) all games DHs - Great Northeast Athletic Conference
LOCATION:New London NH
CATEGORIES:QuickScores; Basketball Game
TRANSP:0
DALARM:20231202T000000;PT10M;2;Colby Sawyer vs. Albertus Magnus
END:VEVENT
BEGIN:VEVENT
DTSTART:20231209T000000
DTEND:20231209T000000
SUMMARY:Lasell vs. Colby Sawyer
DESCRIPTION:2023-2024 Doubleheader --- 2023-2024 MBB  (12/15/22) all games DHs - Great Northeast Athletic Conference
LOCATION:Lasell Newton
CATEGORIES:QuickScores; Basketball Game
TRANSP:0
DALARM:20231209T000000;PT10M;2;Lasell vs. Colby Sawyer
END:VEVENT
BEGIN:VEVENT
DTSTART:20240106T000000
DTEND:20240106T000000
SUMMARY:Saint Joseph's ME vs. Colby Sawyer
DESCRIPTION:2023-2024 Doubleheader --- 2023-2024 MBB  (12/15/22) all games DHs - Great Northeast Athletic Conference
LOCATION:Standish ME
CATEGORIES:QuickScores; Basketball Game
TRANSP:0
DALARM:20240106T000000;PT10M;2;Saint Joseph's ME vs. Colby Sawyer
END:VEVENT
BEGIN:VEVENT
DTSTART:20240110T000000
DTEND:20240110T000000
SUMMARY:Colby Sawyer vs. Elms
DESCRIPTION:2023-2024 Doubleheader --- 2023-2024 MBB  (12/15/22) all games DHs - Great Northeast Athletic Conference
LOCATION:New London NH
CATEGORIES:QuickScores; Basketball Game
TRANSP:0
DALARM:20240110T000000;PT10M;2;Colby Sawyer vs. Elms
END:VEVENT
BEGIN:VEVENT
DTSTART:20240113T000000
DTEND:20240113T000000
SUMMARY:Colby Sawyer vs. Dean
DESCRIPTION:2023-2024 Doubleheader --- 2023-2024 MBB  (12/15/22) all games DHs - Great Northeast Athletic Conference
LOCATION:New London NH
CATEGORIES:QuickScores; Basketball Game
TRANSP:0
DALARM:20240113T000000;PT10M;2;Colby Sawyer vs. Dean
END:VEVENT
BEGIN:VEVENT
DTSTART:20240116T000000
DTEND:20240116T000000
SUMMARY:New England vs. Colby Sawyer
DESCRIPTION:2023-2024 Doubleheader --- 2023-2024 MBB  (12/15/22) all games DHs - Great Northeast Athletic Conference
LOCATION:Henniker NH
CATEGORIES:QuickScores; Basketball Game
TRANSP:0
DALARM:20240116T000000;PT10M;2;New England vs. Colby Sawyer
END:VEVENT
BEGIN:VEVENT
DTSTART:20240120T000000
DTEND:20240120T000000
SUMMARY:Johnson & Wales vs. Colby Sawyer
DESCRIPTION:2023-2024 Doubleheader --- 2023-2024 MBB  (12/15/22) all games DHs - Great Northeast Athletic Conference
LOCATION:Harborside Athletic Center
CATEGORIES:QuickScores; Basketball Game
TRANSP:0
DALARM:20240120T000000;PT10M;2;Johnson & Wales vs. Colby Sawyer
END:VEVENT
BEGIN:VEVENT
DTSTART:20240124T000000
DTEND:20240124T000000
SUMMARY:Norwich vs. Colby Sawyer
DESCRIPTION:2023-2024 Doubleheader --- 2023-2024 MBB  (12/15/22) all games DHs - Great Northeast Athletic Conference
LOCATION:Northfield, VT
CATEGORIES:QuickScores; Basketball Game
TRANSP:0
DALARM:20240124T000000;PT10M;2;Norwich vs. Colby Sawyer
END:VEVENT
BEGIN:VEVENT
DTSTART:20240127T000000
DTEND:20240127T000000
SUMMARY:Colby Sawyer vs. Mitchell
DESCRIPTION:2023-2024 Doubleheader --- 2023-2024 MBB  (12/15/22) all games DHs - Great Northeast Athletic Conference
LOCATION:New London NH
CATEGORIES:QuickScores; Basketball Game
TRANSP:0
DALARM:20240127T000000;PT10M;2;Colby Sawyer vs. Mitchell
END:VEVENT
BEGIN:VEVENT
DTSTART:20240203T000000
DTEND:20240203T000000
SUMMARY:Colby Sawyer vs. Anna Maria
DESCRIPTION:2023-2024 Doubleheader --- 2023-2024 MBB  (12/15/22) all games DHs - Great Northeast Athletic Conference
LOCATION:New London NH
CATEGORIES:QuickScores; Basketball Game
TRANSP:0
DALARM:20240203T000000;PT10M;2;Colby Sawyer vs. Anna Maria
END:VEVENT
BEGIN:VEVENT
DTSTART:20240207T000000
DTEND:20240207T000000
SUMMARY:Colby Sawyer vs. Rivier
DESCRIPTION:2023-2024 Doubleheader --- 2023-2024 MBB  (12/15/22) all games DHs - Great Northeast Athletic Conference
LOCATION:New London NH
CATEGORIES:QuickScores; Basketball Game
TRANSP:0
DALARM:20240207T000000;PT10M;2;Colby Sawyer vs. Rivier
END:VEVENT
BEGIN:VEVENT
DTSTART:20240210T000000
DTEND:20240210T000000
SUMMARY:Emmanuel vs. Colby Sawyer
DESCRIPTION:2023-2024 Doubleheader --- 2023-2024 MBB  (12/15/22) all games DHs - Great Northeast Athletic Conference
LOCATION:Jean Yawkey Center
CATEGORIES:QuickScores; Basketball Game
TRANSP:0
DALARM:20240210T000000;PT10M;2;Emmanuel vs. Colby Sawyer
END:VEVENT
BEGIN:VEVENT
DTSTART:20240213T000000
DTEND:20240213T000000
SUMMARY:Colby Sawyer vs. Regis
DESCRIPTION:2023-2024 Doubleheader --- 2023-2024 MBB  (12/15/22) all games DHs - Great Northeast Athletic Conference
LOCATION:New London NH
CATEGORIES:QuickScores; Basketball Game
TRANSP:0
DALARM:20240213T000000;PT10M;2;Colby Sawyer vs. Regis
END:VEVENT
BEGIN:VEVENT
DTSTART:20240217T000000
DTEND:20240217T000000
SUMMARY:Saint Joseph CT vs. Colby Sawyer
DESCRIPTION:2023-2024 Doubleheader --- 2023-2024 MBB  (12/15/22) all games DHs - Great Northeast Athletic Conference
LOCATION:W. Hartford, CT
CATEGORIES:QuickScores; Basketball Game
TRANSP:0
DALARM:20240217T000000;PT10M;2;Saint Joseph CT vs. Colby Sawyer
END:VEVENT
END:VCALENDAR
