BEGIN:VCALENDAR
VERSION:1.0
BEGIN:VEVENT
DTSTART:20220910T000000
DTEND:20220910T000000
SUMMARY:Saint Joseph CT vs. Colby Sawyer
DESCRIPTION:2022 Field Hockey 10/25/21 - Great Northeast Athletic Conference
LOCATION:W. Hartford, CT
CATEGORIES:QuickScores; Field Hockey Game
TRANSP:0
DALARM:20220910T000000;PT10M;2;Saint Joseph CT vs. Colby Sawyer
END:VEVENT
BEGIN:VEVENT
DTSTART:20220917T000000
DTEND:20220917T000000
SUMMARY:Saint Joseph CT vs. Johnson and Wales
DESCRIPTION:2022 Field Hockey 10/25/21 - Great Northeast Athletic Conference
LOCATION:W. Hartford, CT
CATEGORIES:QuickScores; Field Hockey Game
TRANSP:0
DALARM:20220917T000000;PT10M;2;Saint Joseph CT vs. Johnson and Wales
END:VEVENT
BEGIN:VEVENT
DTSTART:20220924T000000
DTEND:20220924T000000
SUMMARY:Saint Joseph CT vs. Anna Maria
DESCRIPTION:2022 AMC can share a bus with WVB --- 2022 Field Hockey 10/25/21 - Great Northeast Athletic Conference
LOCATION:W. Hartford, CT
CATEGORIES:QuickScores; Field Hockey Game
TRANSP:0
DALARM:20220924T000000;PT10M;2;Saint Joseph CT vs. Anna Maria
END:VEVENT
BEGIN:VEVENT
DTSTART:20221001T000000
DTEND:20221001T000000
SUMMARY:Lasell vs. Saint Joseph CT
DESCRIPTION:2022 Field Hockey 10/25/21 - Great Northeast Athletic Conference
LOCATION:Lasell Newton
CATEGORIES:QuickScores; Field Hockey Game
TRANSP:0
DALARM:20221001T000000;PT10M;2;Lasell vs. Saint Joseph CT
END:VEVENT
BEGIN:VEVENT
DTSTART:20221005T000000
DTEND:20221005T000000
SUMMARY:Saint Joseph CT vs. Elms
DESCRIPTION:2022 Field Hockey 10/25/21 - Great Northeast Athletic Conference
LOCATION:W. Hartford, CT
CATEGORIES:QuickScores; Field Hockey Game
TRANSP:0
DALARM:20221005T000000;PT10M;2;Saint Joseph CT vs. Elms
END:VEVENT
BEGIN:VEVENT
DTSTART:20221008T000000
DTEND:20221008T000000
SUMMARY:Saint Joseph CT vs. Regis
DESCRIPTION:2022 Field Hockey 10/25/21 - Great Northeast Athletic Conference
LOCATION:W. Hartford, CT
CATEGORIES:QuickScores; Field Hockey Game
TRANSP:0
DALARM:20221008T000000;PT10M;2;Saint Joseph CT vs. Regis
END:VEVENT
BEGIN:VEVENT
DTSTART:20221012T000000
DTEND:20221012T000000
SUMMARY:Simmons vs. Saint Joseph CT
DESCRIPTION:2022 Field Hockey 10/25/21 - Great Northeast Athletic Conference
LOCATION:Daly Field Brighton
CATEGORIES:QuickScores; Field Hockey Game
TRANSP:0
DALARM:20221012T000000;PT10M;2;Simmons vs. Saint Joseph CT
END:VEVENT
BEGIN:VEVENT
DTSTART:20221015T000000
DTEND:20221015T000000
SUMMARY:Saint Joseph CT vs. Saint Joseph's ME
DESCRIPTION:2022 Field Hockey 10/25/21 - Great Northeast Athletic Conference
LOCATION:W. Hartford, CT
CATEGORIES:QuickScores; Field Hockey Game
TRANSP:0
DALARM:20221015T000000;PT10M;2;Saint Joseph CT vs. Saint Joseph's ME
END:VEVENT
BEGIN:VEVENT
DTSTART:20221019T000000
DTEND:20221019T000000
SUMMARY:Dean vs. Saint Joseph CT
DESCRIPTION:2022 Field Hockey 10/25/21 - Great Northeast Athletic Conference
LOCATION:Franklin MA
CATEGORIES:QuickScores; Field Hockey Game
TRANSP:0
DALARM:20221019T000000;PT10M;2;Dean vs. Saint Joseph CT
END:VEVENT
BEGIN:VEVENT
DTSTART:20221022T000000
DTEND:20221022T000000
SUMMARY:Rivier vs. Saint Joseph CT
DESCRIPTION:2022 Field Hockey 10/25/21 - Great Northeast Athletic Conference
LOCATION:Nashua, NH
CATEGORIES:QuickScores; Field Hockey Game
TRANSP:0
DALARM:20221022T000000;PT10M;2;Rivier vs. Saint Joseph CT
END:VEVENT
BEGIN:VEVENT
DTSTART:20221026T000000
DTEND:20221026T000000
SUMMARY:Albertus Magnus vs. Saint Joseph CT
DESCRIPTION:2022 Field Hockey 10/25/21 - Great Northeast Athletic Conference
LOCATION:New Haven, CT
CATEGORIES:QuickScores; Field Hockey Game
TRANSP:0
DALARM:20221026T000000;PT10M;2;Albertus Magnus vs. Saint Joseph CT
END:VEVENT
END:VCALENDAR
