BEGIN:VCALENDAR
VERSION:1.0
BEGIN:VEVENT
DTSTART:20220910T000000
DTEND:20220910T000000
SUMMARY:Saint Joseph's ME vs. Rivier
DESCRIPTION:2022 Field Hockey 10/25/21 - Great Northeast Athletic Conference
LOCATION:Standish ME
CATEGORIES:QuickScores; Field Hockey Game
TRANSP:0
DALARM:20220910T000000;PT10M;2;Saint Joseph's ME vs. Rivier
END:VEVENT
BEGIN:VEVENT
DTSTART:20220917T000000
DTEND:20220917T000000
SUMMARY:Rivier vs. Simmons
DESCRIPTION:2022 Field Hockey 10/25/21 - Great Northeast Athletic Conference
LOCATION:Nashua, NH
CATEGORIES:QuickScores; Field Hockey Game
TRANSP:0
DALARM:20220917T000000;PT10M;2;Rivier vs. Simmons
END:VEVENT
BEGIN:VEVENT
DTSTART:20220924T000000
DTEND:20220924T000000
SUMMARY:Rivier vs. Albertus Magnus
DESCRIPTION:2022 RIV homecoming --- 2022 Field Hockey 10/25/21 - Great Northeast Athletic Conference
LOCATION:Nashua, NH
CATEGORIES:QuickScores; Field Hockey Game
TRANSP:0
DALARM:20220924T000000;PT10M;2;Rivier vs. Albertus Magnus
END:VEVENT
BEGIN:VEVENT
DTSTART:20221001T000000
DTEND:20221001T000000
SUMMARY:Rivier vs. Colby Sawyer
DESCRIPTION:2022 Field Hockey 10/25/21 - Great Northeast Athletic Conference
LOCATION:Nashua, NH
CATEGORIES:QuickScores; Field Hockey Game
TRANSP:0
DALARM:20221001T000000;PT10M;2;Rivier vs. Colby Sawyer
END:VEVENT
BEGIN:VEVENT
DTSTART:20221005T000000
DTEND:20221005T000000
SUMMARY:Regis vs. Rivier
DESCRIPTION:2022 Field Hockey 10/25/21 - Great Northeast Athletic Conference
LOCATION:Regis Weston MA
CATEGORIES:QuickScores; Field Hockey Game
TRANSP:0
DALARM:20221005T000000;PT10M;2;Regis vs. Rivier
END:VEVENT
BEGIN:VEVENT
DTSTART:20221008T000000
DTEND:20221008T000000
SUMMARY:Johnson and Wales vs. Rivier
DESCRIPTION:2022 JWU homecoming --- 2022 Field Hockey 10/25/21 - Great Northeast Athletic Conference
LOCATION:Scotts Miracle Gro Athletic Complex
CATEGORIES:QuickScores; Field Hockey Game
TRANSP:0
DALARM:20221008T000000;PT10M;2;Johnson and Wales vs. Rivier
END:VEVENT
BEGIN:VEVENT
DTSTART:20221012T000000
DTEND:20221012T000000
SUMMARY:Rivier vs. Lasell
DESCRIPTION:2022 Field Hockey 10/25/21 - Great Northeast Athletic Conference
LOCATION:Nashua, NH
CATEGORIES:QuickScores; Field Hockey Game
TRANSP:0
DALARM:20221012T000000;PT10M;2;Rivier vs. Lasell
END:VEVENT
BEGIN:VEVENT
DTSTART:20221015T000000
DTEND:20221015T000000
SUMMARY:Dean vs. Rivier
DESCRIPTION:2022 Dean homecoming --- 2022 Field Hockey 10/25/21 - Great Northeast Athletic Conference
LOCATION:Franklin MA
CATEGORIES:QuickScores; Field Hockey Game
TRANSP:0
DALARM:20221015T000000;PT10M;2;Dean vs. Rivier
END:VEVENT
BEGIN:VEVENT
DTSTART:20221019T000000
DTEND:20221019T000000
SUMMARY:Anna Maria vs. Rivier
DESCRIPTION:2022 Field Hockey 10/25/21 - Great Northeast Athletic Conference
LOCATION:Paxton MA
CATEGORIES:QuickScores; Field Hockey Game
TRANSP:0
DALARM:20221019T000000;PT10M;2;Anna Maria vs. Rivier
END:VEVENT
BEGIN:VEVENT
DTSTART:20221022T000000
DTEND:20221022T000000
SUMMARY:Rivier vs. Saint Joseph CT
DESCRIPTION:2022 Field Hockey 10/25/21 - Great Northeast Athletic Conference
LOCATION:Nashua, NH
CATEGORIES:QuickScores; Field Hockey Game
TRANSP:0
DALARM:20221022T000000;PT10M;2;Rivier vs. Saint Joseph CT
END:VEVENT
BEGIN:VEVENT
DTSTART:20221026T000000
DTEND:20221026T000000
SUMMARY:Elms vs. Rivier
DESCRIPTION:2022 Field Hockey 10/25/21 - Great Northeast Athletic Conference
LOCATION:Timothy J. Leary Field Chicopee MA
CATEGORIES:QuickScores; Field Hockey Game
TRANSP:0
DALARM:20221026T000000;PT10M;2;Elms vs. Rivier
END:VEVENT
END:VCALENDAR
