BEGIN:VCALENDAR
VERSION:1.0
BEGIN:VEVENT
DTSTART:20220910T000000
DTEND:20220910T000000
SUMMARY:Johnson and Wales vs. Dean
DESCRIPTION:2022 Field Hockey 10/25/21 - Great Northeast Athletic Conference
LOCATION:Scotts Miracle Gro Athletic Complex
CATEGORIES:QuickScores; Field Hockey Game
TRANSP:0
DALARM:20220910T000000;PT10M;2;Johnson and Wales vs. Dean
END:VEVENT
BEGIN:VEVENT
DTSTART:20220917T000000
DTEND:20220917T000000
SUMMARY:Colby Sawyer vs. Dean
DESCRIPTION:2022 Dean can share a bus with WVB --- 2022 Field Hockey 10/25/21 - Great Northeast Athletic Conference
LOCATION:New London NH
CATEGORIES:QuickScores; Field Hockey Game
TRANSP:0
DALARM:20220917T000000;PT10M;2;Colby Sawyer vs. Dean
END:VEVENT
BEGIN:VEVENT
DTSTART:20220924T000000
DTEND:20220924T000000
SUMMARY:Regis vs. Dean
DESCRIPTION:2022 Dean can share a bus with WVB. 2022 Regis homecoming --- 2022 Field Hockey 10/25/21 - Great Northeast Athletic Conference
LOCATION:Regis Weston MA
CATEGORIES:QuickScores; Field Hockey Game
TRANSP:0
DALARM:20220924T000000;PT10M;2;Regis vs. Dean
END:VEVENT
BEGIN:VEVENT
DTSTART:20221001T000000
DTEND:20221001T000000
SUMMARY:Anna Maria vs. Dean
DESCRIPTION:2022 Dean can share a bus with WS. 2022 AMC homecoming --- 2022 Field Hockey 10/25/21 - Great Northeast Athletic Conference
LOCATION:Paxton MA
CATEGORIES:QuickScores; Field Hockey Game
TRANSP:0
DALARM:20221001T000000;PT10M;2;Anna Maria vs. Dean
END:VEVENT
BEGIN:VEVENT
DTSTART:20221005T000000
DTEND:20221005T000000
SUMMARY:Dean vs. Lasell
DESCRIPTION:2022 Field Hockey 10/25/21 - Great Northeast Athletic Conference
LOCATION:Franklin MA
CATEGORIES:QuickScores; Field Hockey Game
TRANSP:0
DALARM:20221005T000000;PT10M;2;Dean vs. Lasell
END:VEVENT
BEGIN:VEVENT
DTSTART:20221008T000000
DTEND:20221008T000000
SUMMARY:Dean vs. Elms
DESCRIPTION:2022 Dean homecoming --- 2022 Field Hockey 10/25/21 - Great Northeast Athletic Conference
LOCATION:Franklin MA
CATEGORIES:QuickScores; Field Hockey Game
TRANSP:0
DALARM:20221008T000000;PT10M;2;Dean vs. Elms
END:VEVENT
BEGIN:VEVENT
DTSTART:20221012T000000
DTEND:20221012T000000
SUMMARY:Dean vs. Albertus Magnus
DESCRIPTION:2022 Field Hockey 10/25/21 - Great Northeast Athletic Conference
LOCATION:Franklin MA
CATEGORIES:QuickScores; Field Hockey Game
TRANSP:0
DALARM:20221012T000000;PT10M;2;Dean vs. Albertus Magnus
END:VEVENT
BEGIN:VEVENT
DTSTART:20221015T000000
DTEND:20221015T000000
SUMMARY:Dean vs. Rivier
DESCRIPTION:2022 Dean homecoming --- 2022 Field Hockey 10/25/21 - Great Northeast Athletic Conference
LOCATION:Franklin MA
CATEGORIES:QuickScores; Field Hockey Game
TRANSP:0
DALARM:20221015T000000;PT10M;2;Dean vs. Rivier
END:VEVENT
BEGIN:VEVENT
DTSTART:20221019T000000
DTEND:20221019T000000
SUMMARY:Dean vs. Saint Joseph CT
DESCRIPTION:2022 Field Hockey 10/25/21 - Great Northeast Athletic Conference
LOCATION:Franklin MA
CATEGORIES:QuickScores; Field Hockey Game
TRANSP:0
DALARM:20221019T000000;PT10M;2;Dean vs. Saint Joseph CT
END:VEVENT
BEGIN:VEVENT
DTSTART:20221022T000000
DTEND:20221022T000000
SUMMARY:Saint Joseph's ME vs. Dean
DESCRIPTION:2022 Field Hockey 10/25/21 - Great Northeast Athletic Conference
LOCATION:Standish ME
CATEGORIES:QuickScores; Field Hockey Game
TRANSP:0
DALARM:20221022T000000;PT10M;2;Saint Joseph's ME vs. Dean
END:VEVENT
BEGIN:VEVENT
DTSTART:20221026T000000
DTEND:20221026T000000
SUMMARY:Dean vs. Simmons
DESCRIPTION:2022 Field Hockey 10/25/21 - Great Northeast Athletic Conference
LOCATION:Franklin MA
CATEGORIES:QuickScores; Field Hockey Game
TRANSP:0
DALARM:20221026T000000;PT10M;2;Dean vs. Simmons
END:VEVENT
END:VCALENDAR
